BEGIN:VCALENDAR
VERSION:2.0
PRODID:-//Au coeur de la santé - ECPv6.15.20//NONSGML v1.0//EN
CALSCALE:GREGORIAN
METHOD:PUBLISH
X-ORIGINAL-URL:https://www.aucoeurdelasante.be
X-WR-CALDESC:Évènements pour Au coeur de la santé
REFRESH-INTERVAL;VALUE=DURATION:PT1H
X-Robots-Tag:noindex
X-PUBLISHED-TTL:PT1H
BEGIN:VTIMEZONE
TZID:UTC
BEGIN:STANDARD
TZOFFSETFROM:+0000
TZOFFSETTO:+0000
TZNAME:UTC
DTSTART:20230101T000000
END:STANDARD
END:VTIMEZONE
BEGIN:VEVENT
DTSTART;TZID=UTC:20241010T093000
DTEND;TZID=UTC:20241010T123000
DTSTAMP:20260423T193640
CREATED:20241009T083731Z
LAST-MODIFIED:20241119T135535Z
UID:3147-1728552600-1728563400@www.aucoeurdelasante.be
SUMMARY:Stand sur la vaccination
DESCRIPTION:Venez tester vos connaissances sur la vaccination et apprenez-en plus sur la vaccination de saison et celle des enfants. \nAdresse : \nAgence Solidaris AthRue du Fort\, 48 7800 AthBelgique
URL:https://www.aucoeurdelasante.be/activite/stand-sur-la-vaccination-3/
LOCATION:Agence Solidaris (Ath)\, Rue du Fort 48\, Ath\, 7800\, Belgium
CATEGORIES:Activité santé
ATTACH;FMTTYPE=image/jpeg:https://www.aucoeurdelasante.be/wp-content/uploads/2024/10/2149452488-1.jpg
END:VEVENT
END:VCALENDAR