BEGIN:VCALENDAR
VERSION:2.0
PRODID:-//Au coeur de la santé - ECPv6.15.20//NONSGML v1.0//EN
CALSCALE:GREGORIAN
METHOD:PUBLISH
X-WR-CALNAME:Au coeur de la santé
X-ORIGINAL-URL:https://www.aucoeurdelasante.be
X-WR-CALDESC:Évènements pour Au coeur de la santé
REFRESH-INTERVAL;VALUE=DURATION:PT1H
X-Robots-Tag:noindex
X-PUBLISHED-TTL:PT1H
BEGIN:VTIMEZONE
TZID:UTC
BEGIN:STANDARD
TZOFFSETFROM:+0000
TZOFFSETTO:+0000
TZNAME:UTC
DTSTART:20230101T000000
END:STANDARD
END:VTIMEZONE
BEGIN:VEVENT
DTSTART;TZID=UTC:20241021T093000
DTEND;TZID=UTC:20241021T123000
DTSTAMP:20260423T193543
CREATED:20241009T084421Z
LAST-MODIFIED:20241119T134349Z
UID:3158-1729503000-1729513800@www.aucoeurdelasante.be
SUMMARY:Stand sur la vaccination
DESCRIPTION:Venez tester vos connaissances sur la vaccination et apprenez-en plus sur la vaccination de saison et celle des enfants. \nAdresse : \nAgence Solidaris BaudourRue Louis Caty\, 135 7331 BaudourBelgique
URL:https://www.aucoeurdelasante.be/activite/stand-sur-la-vaccination-4/
LOCATION:Agence Solidaris (Baudour)\, Rue Louis Caty 135\, Baudour\, 7331\, Belgium
CATEGORIES:Activité santé
ATTACH;FMTTYPE=image/jpeg:https://www.aucoeurdelasante.be/wp-content/uploads/2024/10/2149452488-1.jpg
END:VEVENT
END:VCALENDAR