BEGIN:VCALENDAR
VERSION:2.0
PRODID:-//Au coeur de la santé - ECPv6.15.20//NONSGML v1.0//EN
CALSCALE:GREGORIAN
METHOD:PUBLISH
X-WR-CALNAME:Au coeur de la santé
X-ORIGINAL-URL:https://www.aucoeurdelasante.be
X-WR-CALDESC:Évènements pour Au coeur de la santé
REFRESH-INTERVAL;VALUE=DURATION:PT1H
X-Robots-Tag:noindex
X-PUBLISHED-TTL:PT1H
BEGIN:VTIMEZONE
TZID:UTC
BEGIN:STANDARD
TZOFFSETFROM:+0000
TZOFFSETTO:+0000
TZNAME:UTC
DTSTART:20230101T000000
END:STANDARD
END:VTIMEZONE
BEGIN:VEVENT
DTSTART;TZID=UTC:20241107T090000
DTEND;TZID=UTC:20241107T120000
DTSTAMP:20260423T181615
CREATED:20241024T113742Z
LAST-MODIFIED:20241119T161914Z
UID:3189-1730970000-1730980800@www.aucoeurdelasante.be
SUMMARY:Les Fruits et Légumes Belges et de Saison
DESCRIPTION:Découvrez le calendrier des fruits et légumes belges et de saison ! \nNous vous invitons à un moment convivial où vous recevrez un calendrier des fruits et légumes belges de saison. Ce calendrier vous aidera à faire vos courses en choisissant des produits frais\, bons pour la santé et à prix abordables. Pourquoi c’est important ?Manger de saison\, c’est bon pour votre santé et pour votre porte-monnaie ! Les fruits et légumes de saison sont souvent moins chers et plus savoureux. Ils sont aussi meilleurs pour l’environnement. \nAdresse : \nAgence Solidaris Saint-ServaisChaussée de Waterloo\, 182 5002 Saint-ServaisBelgique
URL:https://www.aucoeurdelasante.be/activite/calendrier-fruits-legumes/
LOCATION:Centre de Santé du Namurois\, Chaussée de Waterloo\, 182\, Saint-Servais\, 5002\, Belgium
CATEGORIES:Activité santé
ATTACH;FMTTYPE=image/jpeg:https://www.aucoeurdelasante.be/wp-content/uploads/2024/10/fruits-legumes-belges-saison-1.jpg
END:VEVENT
END:VCALENDAR