BEGIN:VCALENDAR
VERSION:2.0
PRODID:-//Au coeur de la santé - ECPv6.15.20//NONSGML v1.0//EN
CALSCALE:GREGORIAN
METHOD:PUBLISH
X-ORIGINAL-URL:https://www.aucoeurdelasante.be
X-WR-CALDESC:Évènements pour Au coeur de la santé
REFRESH-INTERVAL;VALUE=DURATION:PT1H
X-Robots-Tag:noindex
X-PUBLISHED-TTL:PT1H
BEGIN:VTIMEZONE
TZID:UTC
BEGIN:STANDARD
TZOFFSETFROM:+0000
TZOFFSETTO:+0000
TZNAME:UTC
DTSTART:20230101T000000
END:STANDARD
END:VTIMEZONE
BEGIN:VEVENT
DTSTART;TZID=UTC:20241109T100000
DTEND;TZID=UTC:20241109T150000
DTSTAMP:20260423T182239
CREATED:20241009T085909Z
LAST-MODIFIED:20241028T132954Z
UID:3165-1731146400-1731164400@www.aucoeurdelasante.be
SUMMARY:Journée Sensibilisation sur le Diabète
DESCRIPTION:Avec Solidaris\, il est possible de faire un test de glycémie gratuit. Ils ont lieu lors de la semaine mondiale de lutte contre le diabète. Cela permet déjà d’avoir une idée du taux de sucre que l’on a dans le sang et si on est une personne à risque. \nAdresse : \nCora La LouvièreRue de la Franco-Belge\, 228 7100 La LouvièreBelgique
URL:https://www.aucoeurdelasante.be/activite/sensibilisation-sur-le-diabete/
LOCATION:Cora La Louvière\, Rue de la Franco-Belge 228\, La Louvière\, 7100\, Belgium
CATEGORIES:Activité santé
ATTACH;FMTTYPE=image/jpeg:https://www.aucoeurdelasante.be/wp-content/uploads/2024/10/test-diabete-1.jpg
END:VEVENT
END:VCALENDAR