BEGIN:VCALENDAR
VERSION:2.0
PRODID:-//Au coeur de la santé - ECPv6.15.20//NONSGML v1.0//EN
CALSCALE:GREGORIAN
METHOD:PUBLISH
X-WR-CALNAME:Au coeur de la santé
X-ORIGINAL-URL:https://www.aucoeurdelasante.be
X-WR-CALDESC:Évènements pour Au coeur de la santé
REFRESH-INTERVAL;VALUE=DURATION:PT1H
X-Robots-Tag:noindex
X-PUBLISHED-TTL:PT1H
BEGIN:VTIMEZONE
TZID:UTC
BEGIN:STANDARD
TZOFFSETFROM:+0000
TZOFFSETTO:+0000
TZNAME:UTC
DTSTART:20230101T000000
END:STANDARD
END:VTIMEZONE
BEGIN:VEVENT
DTSTART;TZID=UTC:20241113T090000
DTEND;TZID=UTC:20241113T120000
DTSTAMP:20260423T181640
CREATED:20241024T121833Z
LAST-MODIFIED:20241028T132934Z
UID:3203-1731488400-1731499200@www.aucoeurdelasante.be
SUMMARY:Journée Sensibilisation sur le Diabète
DESCRIPTION:Avec Solidaris\, il est possible de faire un test de glycémie gratuit. Ils ont lieu lors de la semaine mondiale de lutte contre le diabète. Cela permet déjà d’avoir une idée du taux de sucre que l’on a dans le sang et si on est une personne à risque. \n\nNous vous invitons également à un moment convivial où vous recevrez un calendrier des fruits et légumes belges de saison. Ce calendrier vous aidera à faire vos courses en choisissant des produits frais\, bons pour la santé et à prix abordables.\n \nAdresse : \nAgence Solidaris (La Hestre)Rue Ferrer\, 114 7170 La HestreBelgique
URL:https://www.aucoeurdelasante.be/activite/journee-sensibilisation-sur-le-diabete/
LOCATION:Agence Solidaris (La Hestre)\, Rue Ferrer 114\, La Hestre\, 7170\, Belgium
CATEGORIES:Activité santé
ATTACH;FMTTYPE=image/jpeg:https://www.aucoeurdelasante.be/wp-content/uploads/2024/10/diabete-1.jpg
END:VEVENT
END:VCALENDAR