BEGIN:VCALENDAR
VERSION:2.0
PRODID:-//Au coeur de la santé - ECPv6.15.20//NONSGML v1.0//EN
CALSCALE:GREGORIAN
METHOD:PUBLISH
X-ORIGINAL-URL:https://www.aucoeurdelasante.be
X-WR-CALDESC:Évènements pour Au coeur de la santé
REFRESH-INTERVAL;VALUE=DURATION:PT1H
X-Robots-Tag:noindex
X-PUBLISHED-TTL:PT1H
BEGIN:VTIMEZONE
TZID:UTC
BEGIN:STANDARD
TZOFFSETFROM:+0000
TZOFFSETTO:+0000
TZNAME:UTC
DTSTART:20230101T000000
END:STANDARD
END:VTIMEZONE
BEGIN:VEVENT
DTSTART;TZID=UTC:20241118T090000
DTEND;TZID=UTC:20241118T120000
DTSTAMP:20260423T182119
CREATED:20241025T084106Z
LAST-MODIFIED:20241028T132755Z
UID:3235-1731920400-1731931200@www.aucoeurdelasante.be
SUMMARY:Journée Sensibilisation sur le Diabète
DESCRIPTION:Avec Solidaris\, il est possible de faire un test de glycémie gratuit. Ils ont lieu lors de la semaine mondiale de lutte contre le diabète. Cela permet déjà d’avoir une idée du taux de sucre que l’on a dans le sang et si on est une personne à risque. \nNous vous invitons également à un moment convivial où vous recevrez un calendrier des fruits et légumes belges de saison. Ce calendrier vous aidera à faire vos courses en choisissant des produits frais\, bons pour la santé et à prix abordables. \nAdresse : \nAgence Solidaris CharleroiAvenue des Alliés 26000 – Charleroi \nInformations: promosante.317@solidaris.be  ou 0473/530981
URL:https://www.aucoeurdelasante.be/activite/journee-sensibilisation-sur-le-diabete-4/
LOCATION:Agence Solidaris (Charleroi)\, Avenue des Alliés 2\, Charleroi\, 6000\, Belgium
CATEGORIES:Activité santé
ATTACH;FMTTYPE=image/jpeg:https://www.aucoeurdelasante.be/wp-content/uploads/2024/10/test-diabete-1.jpg
END:VEVENT
END:VCALENDAR