BEGIN:VCALENDAR
VERSION:2.0
PRODID:-//Au coeur de la santé - ECPv6.15.20//NONSGML v1.0//EN
CALSCALE:GREGORIAN
METHOD:PUBLISH
X-ORIGINAL-URL:https://www.aucoeurdelasante.be
X-WR-CALDESC:Évènements pour Au coeur de la santé
REFRESH-INTERVAL;VALUE=DURATION:PT1H
X-Robots-Tag:noindex
X-PUBLISHED-TTL:PT1H
BEGIN:VTIMEZONE
TZID:UTC
BEGIN:STANDARD
TZOFFSETFROM:+0000
TZOFFSETTO:+0000
TZNAME:UTC
DTSTART:20230101T000000
END:STANDARD
END:VTIMEZONE
BEGIN:VEVENT
DTSTART;TZID=UTC:20241206T090000
DTEND;TZID=UTC:20241206T123000
DTSTAMP:20260423T164624
CREATED:20241121T105116Z
LAST-MODIFIED:20241121T110747Z
UID:3376-1733475600-1733488200@www.aucoeurdelasante.be
SUMMARY:Journée Sensibilisation sur le Diabète
DESCRIPTION:Avec Solidaris\, il est possible de faire un test de glycémie gratuit. Cela permet déjà d’avoir une idée du taux de sucre que l’on a dans le sang et si on est une personne à risque. \nPrésence d’une spécialiste en trajet de soins.Nous vous invitons également à un moment convivial où vous recevrez un calendrier des fruits et légumes belges de saison. Ce calendrier vous aidera à faire vos courses en choisissant des produits frais\, bons pour la santé et à prix abordables. \nParticipation gratuite et sans inscription. \nAdresse : \nAgence Solidaris de JodoigneAvenue des commandants Borlée\, 33 1370 Jodoigne \n 
URL:https://www.aucoeurdelasante.be/activite/journee-sensibilisation-sur-le-diabete-7/
LOCATION:Agence Solidaris (Jodoigne)\, Avenue des Combattants Borlée 33\, Jodoigne\, 1370\, Belgium
CATEGORIES:Activité santé
ATTACH;FMTTYPE=image/jpeg:https://www.aucoeurdelasante.be/wp-content/uploads/2024/10/diabete-1.jpg
END:VEVENT
END:VCALENDAR