BEGIN:VCALENDAR
VERSION:2.0
PRODID:-//Au coeur de la santé - ECPv6.15.20//NONSGML v1.0//EN
CALSCALE:GREGORIAN
METHOD:PUBLISH
X-WR-CALNAME:Au coeur de la santé
X-ORIGINAL-URL:https://www.aucoeurdelasante.be
X-WR-CALDESC:Évènements pour Au coeur de la santé
REFRESH-INTERVAL;VALUE=DURATION:PT1H
X-Robots-Tag:noindex
X-PUBLISHED-TTL:PT1H
BEGIN:VTIMEZONE
TZID:UTC
BEGIN:STANDARD
TZOFFSETFROM:+0000
TZOFFSETTO:+0000
TZNAME:UTC
DTSTART:20240101T000000
END:STANDARD
END:VTIMEZONE
BEGIN:VEVENT
DTSTART;TZID=UTC:20250722T090000
DTEND;TZID=UTC:20250722T120000
DTSTAMP:20260423T060112
CREATED:20250715T130311Z
LAST-MODIFIED:20250715T130311Z
UID:3836-1753174800-1753185600@www.aucoeurdelasante.be
SUMMARY:Sensibilisation fortes chaleurs
DESCRIPTION:« Canicule : adoptez les bons gestes » (selon les conditions météo) \nEn cas de fortes chaleurs\, certains réflexes simples peuvent prévenir des risques pour la santé. Notre stand vous informe sur les bons gestes à adopter et vous donne des conseils utiles\, notamment sur la composition d’une pharmacie de voyage adaptée à l’été. \nAdresse : \nAgence Solidaris MonsBoulevard Gendebien 6\,7000 MonsBelgique
URL:https://www.aucoeurdelasante.be/activite/sensibilisation-fortes-chaleurs-4/
LOCATION:Agence Solidaris (Mons)\, Boulevard Gendebien 6\, Mons\, 7000\, Belgium
CATEGORIES:Activité santé
ATTACH;FMTTYPE=image/jpeg:https://www.aucoeurdelasante.be/wp-content/uploads/2025/07/fortes-chaleurs.jpg
END:VEVENT
BEGIN:VEVENT
DTSTART;TZID=UTC:20250722T093000
DTEND;TZID=UTC:20250722T123000
DTSTAMP:20260423T060112
CREATED:20250715T130413Z
LAST-MODIFIED:20250715T130817Z
UID:3838-1753176600-1753187400@www.aucoeurdelasante.be
SUMMARY:Sensibilisation fortes chaleurs
DESCRIPTION:« Canicule : adoptez les bons gestes » (selon les conditions météo) \nEn cas de fortes chaleurs\, certains réflexes simples peuvent prévenir des risques pour la santé. Notre stand vous informe sur les bons gestes à adopter et vous donne des conseils utiles\, notamment sur la composition d’une pharmacie de voyage adaptée à l’été. \nAdresse : \nAgence Solidaris Braine-l’AlleudAvenue de la Belle Province 1\,1420 Braine-l’AlleudBelgique
URL:https://www.aucoeurdelasante.be/activite/sensibilisation-fortes-chaleurs-5/
LOCATION:Agence Solidaris (Braine-l’Alleud)\, Avenue de la Belle Province\, 1\, Braine-l'Alleud\, 1420\, Belgium
CATEGORIES:Activité santé
ATTACH;FMTTYPE=image/jpeg:https://www.aucoeurdelasante.be/wp-content/uploads/2025/07/fortes-chaleurs-4-e1753691151905.jpg
END:VEVENT
END:VCALENDAR