BEGIN:VCALENDAR
VERSION:2.0
PRODID:-//Au coeur de la santé - ECPv6.15.20//NONSGML v1.0//EN
CALSCALE:GREGORIAN
METHOD:PUBLISH
X-ORIGINAL-URL:https://www.aucoeurdelasante.be
X-WR-CALDESC:Évènements pour Au coeur de la santé
REFRESH-INTERVAL;VALUE=DURATION:PT1H
X-Robots-Tag:noindex
X-PUBLISHED-TTL:PT1H
BEGIN:VTIMEZONE
TZID:UTC
BEGIN:STANDARD
TZOFFSETFROM:+0000
TZOFFSETTO:+0000
TZNAME:UTC
DTSTART:20240101T000000
END:STANDARD
END:VTIMEZONE
BEGIN:VEVENT
DTSTART;TZID=UTC:20250728T093000
DTEND;TZID=UTC:20250728T123000
DTSTAMP:20260423T042517
CREATED:20250715T130454Z
LAST-MODIFIED:20250715T130859Z
UID:3842-1753695000-1753705800@www.aucoeurdelasante.be
SUMMARY:Sensibilisation fortes chaleurs
DESCRIPTION:« Canicule : adoptez les bons gestes » (selon les conditions météo) \nEn cas de fortes chaleurs\, certains réflexes simples peuvent prévenir des risques pour la santé. Notre stand vous informe sur les bons gestes à adopter et vous donne des conseils utiles\, notamment sur la composition d’une pharmacie de voyage adaptée à l’été. \nAdresse : \nAgence Solidaris Court-Saint-EtienneRue Emile Henricot 64/B\,1490 Court-Saint-EtienneBelgique
URL:https://www.aucoeurdelasante.be/activite/sensibilisation-fortes-chaleurs-7/
LOCATION:Agence Solidaris (Court St Etienne)\, Rue Emile Henricot 64B\, Court St Etienne\, 1490\, Belgium
CATEGORIES:Activité santé
ATTACH;FMTTYPE=image/jpeg:https://www.aucoeurdelasante.be/wp-content/uploads/2025/07/fortes-chaleurs-3-e1753691262897.jpg
END:VEVENT
END:VCALENDAR