BEGIN:VCALENDAR
VERSION:2.0
PRODID:-//Au coeur de la santé - ECPv6.15.20//NONSGML v1.0//EN
CALSCALE:GREGORIAN
METHOD:PUBLISH
X-ORIGINAL-URL:https://www.aucoeurdelasante.be
X-WR-CALDESC:Évènements pour Au coeur de la santé
REFRESH-INTERVAL;VALUE=DURATION:PT1H
X-Robots-Tag:noindex
X-PUBLISHED-TTL:PT1H
BEGIN:VTIMEZONE
TZID:UTC
BEGIN:STANDARD
TZOFFSETFROM:+0000
TZOFFSETTO:+0000
TZNAME:UTC
DTSTART:20240101T000000
END:STANDARD
END:VTIMEZONE
BEGIN:VEVENT
DTSTART;TZID=UTC:20250922T090000
DTEND;TZID=UTC:20250922T120000
DTSTAMP:20260423T024858
CREATED:20250826T123826Z
LAST-MODIFIED:20250826T123908Z
UID:3882-1758531600-1758542400@www.aucoeurdelasante.be
SUMMARY:Sensibilisation aux maladies cardiovasculaires
DESCRIPTION:« Agir ensemble pour un coeur en santé » \nLes maladies cardiovasculaires ne sont pas une fatalité. À travers notre stand de prévention\, découvrez comment prendre soin de votre cœur. Activité physique\, alimentation\, gestion du stress\, réduction du tabac : autant de pistes à explorer ensemble pour améliorer votre bien-être. \nAdresse : \nAgence Solidaris BaudourRue Louis Caty 135\,7331 Saint-GhislainBelgique
URL:https://www.aucoeurdelasante.be/activite/sensibilisation-aux-maladies-cardiovasculaires-8/
LOCATION:Agence Solidaris (Baudour)\, Rue Louis Caty 135\, Baudour\, 7331\, Belgium
CATEGORIES:Activité santé
ATTACH;FMTTYPE=image/jpeg:https://www.aucoeurdelasante.be/wp-content/uploads/2025/08/meditation-maladies-cardiovasculaires-respiration-calme-3-e1756204279895.jpg
END:VEVENT
BEGIN:VEVENT
DTSTART;TZID=UTC:20250922T093000
DTEND;TZID=UTC:20250922T123000
DTSTAMP:20260423T024858
CREATED:20250826T123641Z
LAST-MODIFIED:20250826T123915Z
UID:3880-1758533400-1758544200@www.aucoeurdelasante.be
SUMMARY:Sensibilisation aux maladies cardiovasculaires
DESCRIPTION:« Agir ensemble pour un coeur en santé » \nLes maladies cardiovasculaires ne sont pas une fatalité. À travers notre stand de prévention\, découvrez comment prendre soin de votre cœur. Activité physique\, alimentation\, gestion du stress\, réduction du tabac : autant de pistes à explorer ensemble pour améliorer votre bien-être. \nAdresse : \nAgence Solidaris NivellesRue St Andre 1\,1400 NivellesBelgique
URL:https://www.aucoeurdelasante.be/activite/sensibilisation-aux-maladies-cardiovasculaires-7/
LOCATION:Agence Solidaris (Nivelles)\, Rue Saint André\, 1\, Nivelles\, 1400\, Belgium
CATEGORIES:Activité santé
ATTACH;FMTTYPE=image/jpeg:https://www.aucoeurdelasante.be/wp-content/uploads/2025/08/meditation-maladies-cardiovasculaires-respiration-calme-2-e1756209996216.jpg
END:VEVENT
END:VCALENDAR