BEGIN:VCALENDAR
VERSION:2.0
PRODID:-//Au coeur de la santé - ECPv6.15.20//NONSGML v1.0//EN
CALSCALE:GREGORIAN
METHOD:PUBLISH
X-WR-CALNAME:Au coeur de la santé
X-ORIGINAL-URL:https://www.aucoeurdelasante.be
X-WR-CALDESC:Évènements pour Au coeur de la santé
REFRESH-INTERVAL;VALUE=DURATION:PT1H
X-Robots-Tag:noindex
X-PUBLISHED-TTL:PT1H
BEGIN:VTIMEZONE
TZID:UTC
BEGIN:STANDARD
TZOFFSETFROM:+0000
TZOFFSETTO:+0000
TZNAME:UTC
DTSTART:20240101T000000
END:STANDARD
END:VTIMEZONE
BEGIN:VEVENT
DTSTART;TZID=UTC:20251016T090000
DTEND;TZID=UTC:20251016T120000
DTSTAMP:20260423T005637
CREATED:20250925T101806Z
LAST-MODIFIED:20250925T101806Z
UID:3923-1760605200-1760616000@www.aucoeurdelasante.be
SUMMARY:Sensibilisation à la vaccination
DESCRIPTION:« La vaccination à tous les âges : agir pour la santé de tous » \nLa vaccination est un pilier essentiel de la prévention en santé. Notre équipe sera présente dans nos agences pour fournir des informations claires et fiables\, répondre aux questions\, et lever les doutes autour de la vaccination. \nAdresse : \nAgence Solidaris CharleroiAvenue des Alliés 2\,6000 CharleroiBelgique
URL:https://www.aucoeurdelasante.be/activite/sensibilisation-a-la-vaccination-7/
LOCATION:Agence Solidaris (Charleroi)\, Avenue des Alliés 2\, Charleroi\, 6000\, Belgium
CATEGORIES:Activité santé
ATTACH;FMTTYPE=image/jpeg:https://www.aucoeurdelasante.be/wp-content/uploads/2025/09/vaccin-3-e1758794095456.jpg
END:VEVENT
END:VCALENDAR