BEGIN:VCALENDAR
VERSION:2.0
PRODID:-//Au coeur de la santé - ECPv6.15.20//NONSGML v1.0//EN
CALSCALE:GREGORIAN
METHOD:PUBLISH
X-ORIGINAL-URL:https://www.aucoeurdelasante.be
X-WR-CALDESC:Évènements pour Au coeur de la santé
REFRESH-INTERVAL;VALUE=DURATION:PT1H
X-Robots-Tag:noindex
X-PUBLISHED-TTL:PT1H
BEGIN:VTIMEZONE
TZID:UTC
BEGIN:STANDARD
TZOFFSETFROM:+0000
TZOFFSETTO:+0000
TZNAME:UTC
DTSTART:20240101T000000
END:STANDARD
END:VTIMEZONE
BEGIN:VEVENT
DTSTART;TZID=UTC:20251112T090000
DTEND;TZID=UTC:20251112T120000
DTSTAMP:20260422T233306
CREATED:20251024T092127Z
LAST-MODIFIED:20251024T092127Z
UID:3958-1762938000-1762948800@www.aucoeurdelasante.be
SUMMARY:Sensibilisation au diabète
DESCRIPTION:« Stand de dépistage du diabète : un geste simple pour votre santé » \nVenez nous rejoindre sur le stand de dépistage diabète: en quelques minutes\, vous pouvez connaître votre taux de glycémie\, poser vos questions et obtenir des conseils personnalisés. \nAdresse : \nMultipharmaRue du Corbeau 4\,6200 ChâtelineauBelgique
URL:https://www.aucoeurdelasante.be/activite/sensibilisation-au-diabete-3/
LOCATION:Multipharma\, Rue du Corbeau 4\, Châtelineau\, 6200\, Belgium
CATEGORIES:Activité santé
ATTACH;FMTTYPE=image/jpeg:https://www.aucoeurdelasante.be/wp-content/uploads/2025/04/snack-sante.jpg
END:VEVENT
END:VCALENDAR