BEGIN:VCALENDAR
VERSION:2.0
PRODID:-//Au coeur de la santé - ECPv6.15.20//NONSGML v1.0//EN
CALSCALE:GREGORIAN
METHOD:PUBLISH
X-WR-CALNAME:Au coeur de la santé
X-ORIGINAL-URL:https://www.aucoeurdelasante.be
X-WR-CALDESC:Évènements pour Au coeur de la santé
REFRESH-INTERVAL;VALUE=DURATION:PT1H
X-Robots-Tag:noindex
X-PUBLISHED-TTL:PT1H
BEGIN:VTIMEZONE
TZID:UTC
BEGIN:STANDARD
TZOFFSETFROM:+0000
TZOFFSETTO:+0000
TZNAME:UTC
DTSTART:20250101T000000
END:STANDARD
END:VTIMEZONE
BEGIN:VEVENT
DTSTART;TZID=UTC:20260321T100000
DTEND;TZID=UTC:20260322T180000
DTSTAMP:20260422T161656
CREATED:20260217T094944Z
LAST-MODIFIED:20260217T095402Z
UID:4117-1774087200-1774202400@www.aucoeurdelasante.be
SUMMARY:Festival Prendre Soin - Pharmakit
DESCRIPTION:C’est avec plaisir que Solidaris et son réseau participe à la première édition du festival à Hamoir. \nSolidaris et SOS suicide vous proposent un apéro littéraire le dimanche 22 mars de 12h -14h avec Jérôme Colin\, auteur des Dragons !* \n21-22 mars: retrouvez aussi la CSD  et les services proposés dans la région. \n22 mars: le Pharmakit\, un outil pratique pour aider à mieux gérer et à mieux utiliser les médicaments que vous avez chez vous. \n\nAdresse : \n\nLa maison des associations\,Rue de Tohogne 14\,4180 Hamoir \nPour plus d’informations :​ GREOVA – 04 384 67 88 – prendresoin@greova.be (contact : Maud Lacasse) \n\n*l’accès à la conférence est gratuit sur inscription et sous réserve de places disponibles
URL:https://www.aucoeurdelasante.be/activite/festival-prendre-soin/
LOCATION:La maison des associations\, Rue de Tohogne 14\, Hamoir\, 4180\, Belgium
CATEGORIES:Activité santé
ATTACH;FMTTYPE=image/jpeg:https://www.aucoeurdelasante.be/wp-content/uploads/2026/02/2149891970.jpg
END:VEVENT
END:VCALENDAR