BEGIN:VCALENDAR
VERSION:2.0
PRODID:-//Au coeur de la santé - ECPv6.15.20//NONSGML v1.0//EN
CALSCALE:GREGORIAN
METHOD:PUBLISH
X-ORIGINAL-URL:https://www.aucoeurdelasante.be
X-WR-CALDESC:Évènements pour Au coeur de la santé
REFRESH-INTERVAL;VALUE=DURATION:PT1H
X-Robots-Tag:noindex
X-PUBLISHED-TTL:PT1H
BEGIN:VTIMEZONE
TZID:UTC
BEGIN:STANDARD
TZOFFSETFROM:+0000
TZOFFSETTO:+0000
TZNAME:UTC
DTSTART:20250101T000000
END:STANDARD
END:VTIMEZONE
BEGIN:VEVENT
DTSTART;TZID=UTC:20260526T090000
DTEND;TZID=UTC:20260526T123000
DTSTAMP:20260422T155734
CREATED:20260402T073328Z
LAST-MODIFIED:20260407T082949Z
UID:4182-1779786000-1779798600@www.aucoeurdelasante.be
SUMMARY:Libérez-vous du tabac
DESCRIPTION:Libérez-vous du tabac \n En parler peut déjà vous aider… \nLa Mutualité Socialiste du Luxembourg organise ses actions de prévention sur les bienfaits du sevrage tabagique dans ses points de contact.  \nNos agents de prévention seront disponibles également pour vous accompagner dans votre démarche de vous libérer du tabac. \nAdresse : \nAgence Mutualité Socialiste du Luxembourg – Marche-en-FamenneRue Neuve 1\,6900 Marche-en-Famenne
URL:https://www.aucoeurdelasante.be/activite/liberez-vous-du-tabac-31/
LOCATION:Agence Mutualité Socialiste du Luxembourg (Marche-en-Famenne)\, Rue Neuve 1\, Marche-en-Famenne\, 6900\, Belgium
CATEGORIES:Activité santé
ATTACH;FMTTYPE=image/jpeg:https://www.aucoeurdelasante.be/wp-content/uploads/2026/04/sevrage-tabagique-scaled.jpeg
END:VEVENT
END:VCALENDAR