BEGIN:VCALENDAR
VERSION:2.0
PRODID:-//Au coeur de la santé - ECPv6.15.20//NONSGML v1.0//EN
CALSCALE:GREGORIAN
METHOD:PUBLISH
X-WR-CALNAME:Au coeur de la santé
X-ORIGINAL-URL:https://www.aucoeurdelasante.be
X-WR-CALDESC:Évènements pour Au coeur de la santé
REFRESH-INTERVAL;VALUE=DURATION:PT1H
X-Robots-Tag:noindex
X-PUBLISHED-TTL:PT1H
BEGIN:VTIMEZONE
TZID:UTC
BEGIN:STANDARD
TZOFFSETFROM:+0000
TZOFFSETTO:+0000
TZNAME:UTC
DTSTART:20250101T000000
END:STANDARD
END:VTIMEZONE
BEGIN:VEVENT
DTSTART;TZID=UTC:20260608T090000
DTEND;TZID=UTC:20260608T120000
DTSTAMP:20260422T172340
CREATED:20260402T075039Z
LAST-MODIFIED:20260407T083149Z
UID:4196-1780909200-1780920000@www.aucoeurdelasante.be
SUMMARY:Libérez-vous du tabac
DESCRIPTION:Libérez-vous du tabac \n En parler peut déjà vous aider… \nSolidaris organise ses actions de prévention sur les bienfaits du sevrage tabagique dans ses points de contact.  \nNos agents de prévention seront disponibles également pour vous accompagner dans votre démarche de vous libérer du tabac. \nAdresse : \nAgence Solidaris SoigniesRem du Vieux  Cimetière 15\,7060 Soignies
URL:https://www.aucoeurdelasante.be/activite/liberez-vous-du-tabac-37/
LOCATION:Agence Solidaris (Soignies)\, Rempart du Vieux Cimetière 15\, Soignies\, 7060\, Belgium
CATEGORIES:Activité santé
ATTACH;FMTTYPE=image/jpeg:https://www.aucoeurdelasante.be/wp-content/uploads/2026/04/AdobeStock_1276067367.jpeg
END:VEVENT
BEGIN:VEVENT
DTSTART;TZID=UTC:20260608T090000
DTEND;TZID=UTC:20260608T120000
DTSTAMP:20260422T172340
CREATED:20260402T080323Z
LAST-MODIFIED:20260402T080449Z
UID:4206-1780909200-1780920000@www.aucoeurdelasante.be
SUMMARY:Libérez-vous du tabac
DESCRIPTION:Libérez-vous du tabac \n En parler peut déjà vous aider… \nSolidaris organise ses actions de prévention sur les bienfaits du sevrage tabagique dans ses points de contact.  \nNos agents de prévention seront disponibles également pour vous accompagner dans votre démarche de vous libérer du tabac. \nAdresse : \nAgence Solidaris AndennePromenade des Ours 6\,5300 AndenneBelgique
URL:https://www.aucoeurdelasante.be/activite/liberez-vous-du-tabac-42/
LOCATION:Agence Solidaris (Andenne)\, Promenade des Ours 6\, Andenne\, 5300\, Belgium
CATEGORIES:Activité santé
ATTACH;FMTTYPE=image/jpeg:https://www.aucoeurdelasante.be/wp-content/uploads/2025/08/meditation-maladies-cardiovasculaires-respiration-calme-4.jpg
END:VEVENT
BEGIN:VEVENT
DTSTART;TZID=UTC:20260608T133000
DTEND;TZID=UTC:20260608T180000
DTSTAMP:20260422T172340
CREATED:20260408T153146Z
LAST-MODIFIED:20260408T153256Z
UID:4234-1780925400-1780941600@www.aucoeurdelasante.be
SUMMARY:Libérez-vous du tabac
DESCRIPTION:Libérez-vous du tabac \n En parler peut déjà vous aider… \nSolidaris organise ses actions de prévention sur les bienfaits du sevrage tabagique dans ses points de contact.  \nNos agents de prévention seront disponibles également pour vous accompagner dans votre démarche de vous libérer du tabac. \nAdresse : \nOfficine Pharma Santé OugréeBoulevard des Arts 40\,4102 OugréeBelgique
URL:https://www.aucoeurdelasante.be/activite/liberez-vous-du-tabac-46/
LOCATION:Officine Pharma Santé Ougrée\, Boulevard des Arts 40\, Ougrée\, 4102\, Belgium
CATEGORIES:Activité santé
ATTACH;FMTTYPE=image/jpeg:https://www.aucoeurdelasante.be/wp-content/uploads/2026/04/air-frais-tabac.jpeg
END:VEVENT
END:VCALENDAR