BEGIN:VCALENDAR
VERSION:2.0
PRODID:-//Au coeur de la santé - ECPv6.15.20//NONSGML v1.0//EN
CALSCALE:GREGORIAN
METHOD:PUBLISH
X-ORIGINAL-URL:https://www.aucoeurdelasante.be
X-WR-CALDESC:Évènements pour Au coeur de la santé
REFRESH-INTERVAL;VALUE=DURATION:PT1H
X-Robots-Tag:noindex
X-PUBLISHED-TTL:PT1H
BEGIN:VTIMEZONE
TZID:UTC
BEGIN:STANDARD
TZOFFSETFROM:+0000
TZOFFSETTO:+0000
TZNAME:UTC
DTSTART:20250101T000000
END:STANDARD
END:VTIMEZONE
BEGIN:VEVENT
DTSTART;TZID=UTC:20260306T090000
DTEND;TZID=UTC:20260306T123000
DTSTAMP:20260422T143728
CREATED:20260304T143623Z
LAST-MODIFIED:20260304T143623Z
UID:4127-1772787600-1772800200@www.aucoeurdelasante.be
SUMMARY:Sensibilisation aux médicaments
DESCRIPTION:« Mieux gérer et consommer vos médicaments »  \nLa surconsommation de médicaments peut poser des risques. Pour encourager une utilisation responsable\, nous proposons des animations de sensibilisation et distribuons le Pharmakit. Cet outil pratique vous aide à organiser vos médicaments pour un accès plus rapide aux informations importantes\, favorisant ainsi une gestion plus efficace de votre pharmacie personnelle. \nAdresse : \nAgence Mutualité Socialiste du Luxembourg de BastogneRue Joseph Renquin 36\,5000 Namur
URL:https://www.aucoeurdelasante.be/activite/sensibilisation-aux-medicaments-16/
LOCATION:Agence Mutualité Socialiste du Luxembourg – Bastogne\, Rue Joseph Renquin 36\, Bastogne\, 6600\, Belgium
CATEGORIES:Activité santé
ATTACH;FMTTYPE=image/jpeg:https://www.aucoeurdelasante.be/wp-content/uploads/2025/12/medicaments-2-e1764755775452.jpg
END:VEVENT
END:VCALENDAR