BEGIN:VCALENDAR
VERSION:2.0
PRODID:-//Au coeur de la santé - ECPv6.15.20//NONSGML v1.0//EN
CALSCALE:GREGORIAN
METHOD:PUBLISH
X-WR-CALNAME:Au coeur de la santé
X-ORIGINAL-URL:https://www.aucoeurdelasante.be
X-WR-CALDESC:Évènements pour Au coeur de la santé
REFRESH-INTERVAL;VALUE=DURATION:PT1H
X-Robots-Tag:noindex
X-PUBLISHED-TTL:PT1H
BEGIN:VTIMEZONE
TZID:UTC
BEGIN:STANDARD
TZOFFSETFROM:+0000
TZOFFSETTO:+0000
TZNAME:UTC
DTSTART:20250101T000000
END:STANDARD
END:VTIMEZONE
BEGIN:VEVENT
DTSTART;TZID=UTC:20260326T090000
DTEND;TZID=UTC:20260326T120000
DTSTAMP:20260422T143540
CREATED:20260318T094154Z
LAST-MODIFIED:20260318T094154Z
UID:4152-1774515600-1774526400@www.aucoeurdelasante.be
SUMMARY:Les Fruits et Légumes Belges et de Saison
DESCRIPTION:Recevez votre calendrier des fruits et légumes belges et de saison ! \nParticipez à notre action spéciale sur l’alimentation\, menée par l’équipe Promo Santé\, et repartez avec un calendrier des fruits et légumes de saison accompagné de recettes pour vous aider à manger mieux\, local et de saison !Pourquoi c’est important ?Manger de saison\, c’est bon pour votre santé et pour votre porte-monnaie ! Les fruits et légumes de saison sont souvent moins chers et plus savoureux. Ils sont aussi meilleurs pour l’environnement. \nAdresse : \nAgence Solidaris MouscronRue du Val 8\,7700 MouscronBelgique
URL:https://www.aucoeurdelasante.be/activite/les-fruits-et-legumes-belges-et-de-saison-14/
LOCATION:Agence Solidaris (Mouscron)\, Rue du Val 2\, Mouscron\, 7700\, Belgium
CATEGORIES:Activité santé
ATTACH;FMTTYPE=image/jpeg:https://www.aucoeurdelasante.be/wp-content/uploads/2025/10/Diabete.jpg
END:VEVENT
BEGIN:VEVENT
DTSTART;TZID=UTC:20260326T090000
DTEND;TZID=UTC:20260326T123000
DTSTAMP:20260422T143540
CREATED:20260311T141802Z
LAST-MODIFIED:20260311T141802Z
UID:4138-1774515600-1774528200@www.aucoeurdelasante.be
SUMMARY:Sensibilisation aux médicaments
DESCRIPTION:« Mieux gérer et consommer vos médicaments »  \nLa surconsommation de médicaments peut poser des risques. Pour encourager une utilisation responsable\, nous proposons des animations de sensibilisation et distribuons le Pharmakit. Cet outil pratique vous aide à organiser vos médicaments pour un accès plus rapide aux informations importantes\, favorisant ainsi une gestion plus efficace de votre pharmacie personnelle. \nAdresse : \nAgence Mutualité Socialiste du Luxembourg de BertrixRue de la Gare 18\,6880 Bertrix
URL:https://www.aucoeurdelasante.be/activite/sensibilisation-aux-medicaments-19/
LOCATION:Agence Mutualité Socialiste du Luxembourg – Bertrix\, Rue de la Gare 18\, Bertrix\, 6880\, Belgium
CATEGORIES:Activité santé
ATTACH;FMTTYPE=image/jpeg:https://www.aucoeurdelasante.be/wp-content/uploads/2025/01/bon-usage-medicaments.jpg
END:VEVENT
END:VCALENDAR