BEGIN:VCALENDAR
VERSION:2.0
PRODID:-//Au coeur de la santé - ECPv6.15.20//NONSGML v1.0//EN
CALSCALE:GREGORIAN
METHOD:PUBLISH
X-WR-CALNAME:Au coeur de la santé
X-ORIGINAL-URL:https://www.aucoeurdelasante.be
X-WR-CALDESC:Évènements pour Au coeur de la santé
REFRESH-INTERVAL;VALUE=DURATION:PT1H
X-Robots-Tag:noindex
X-PUBLISHED-TTL:PT1H
BEGIN:VTIMEZONE
TZID:UTC
BEGIN:STANDARD
TZOFFSETFROM:+0000
TZOFFSETTO:+0000
TZNAME:UTC
DTSTART:20250101T000000
END:STANDARD
END:VTIMEZONE
BEGIN:VEVENT
DTSTART;TZID=UTC:20260402T090000
DTEND;TZID=UTC:20260402T120000
DTSTAMP:20260422T125926
CREATED:20260318T092729Z
LAST-MODIFIED:20260318T092825Z
UID:4145-1775120400-1775131200@www.aucoeurdelasante.be
SUMMARY:Les Fruits et Légumes Belges et de Saison
DESCRIPTION:Recevez votre calendrier des fruits et légumes belges et de saison ! \nParticipez à notre action spéciale sur l’alimentation\, menée par l’équipe Promo Santé\, et repartez avec un calendrier des fruits et légumes de saison accompagné de recettes pour vous aider à manger mieux\, local et de saison !Pourquoi c’est important ?Manger de saison\, c’est bon pour votre santé et pour votre porte-monnaie ! Les fruits et légumes de saison sont souvent moins chers et plus savoureux. Ils sont aussi meilleurs pour l’environnement. \nAdresse : \nAgence Solidaris MonsBd Gendebien 6\,7000 MonsBelgique
URL:https://www.aucoeurdelasante.be/activite/les-fruits-et-legumes-belges-et-de-saison-11/
LOCATION:Agence Solidaris (Mons)\, Boulevard Gendebien 6\, Mons\, 7000\, Belgium
CATEGORIES:Activité santé
ATTACH;FMTTYPE=image/jpeg:https://www.aucoeurdelasante.be/wp-content/uploads/2025/03/fruits-belges.jpg
END:VEVENT
BEGIN:VEVENT
DTSTART;TZID=UTC:20260402T090000
DTEND;TZID=UTC:20260402T123000
DTSTAMP:20260422T125926
CREATED:20260318T091406Z
LAST-MODIFIED:20260318T091406Z
UID:4141-1775120400-1775133000@www.aucoeurdelasante.be
SUMMARY:Sensibilisation aux médicaments
DESCRIPTION:« Mieux gérer et consommer vos médicaments »  \nLa surconsommation de médicaments peut poser des risques. Pour encourager une utilisation responsable\, nous proposons des animations de sensibilisation et distribuons le Pharmakit. Cet outil pratique vous aide à organiser vos médicaments pour un accès plus rapide aux informations importantes\, favorisant ainsi une gestion plus efficace de votre pharmacie personnelle. \nAdresse : \nAgence Mutualité Socialiste du Luxembourg à ArlonRue de la Moselle 1\,6700 Arlon
URL:https://www.aucoeurdelasante.be/activite/sensibilisation-aux-medicaments-20/
LOCATION:Agence Mutualité Socialiste du Luxembourg – Arlon\, rue de la Moselle 1\, Arlon\, 6700\, Belgium
CATEGORIES:Activité santé
ATTACH;FMTTYPE=image/jpeg:https://www.aucoeurdelasante.be/wp-content/uploads/2025/12/medicaments-3-e1764755986461.jpg
END:VEVENT
END:VCALENDAR