BEGIN:VCALENDAR
VERSION:2.0
PRODID:-//Au coeur de la santé - ECPv6.15.20//NONSGML v1.0//EN
CALSCALE:GREGORIAN
METHOD:PUBLISH
X-ORIGINAL-URL:https://www.aucoeurdelasante.be
X-WR-CALDESC:Évènements pour Au coeur de la santé
REFRESH-INTERVAL;VALUE=DURATION:PT1H
X-Robots-Tag:noindex
X-PUBLISHED-TTL:PT1H
BEGIN:VTIMEZONE
TZID:UTC
BEGIN:STANDARD
TZOFFSETFROM:+0000
TZOFFSETTO:+0000
TZNAME:UTC
DTSTART:20250101T000000
END:STANDARD
END:VTIMEZONE
BEGIN:VEVENT
DTSTART;TZID=UTC:20260421T090000
DTEND;TZID=UTC:20260421T120000
DTSTAMP:20260422T125956
CREATED:20260402T065501Z
LAST-MODIFIED:20260407T081818Z
UID:4160-1776762000-1776772800@www.aucoeurdelasante.be
SUMMARY:Libérez-vous du tabac
DESCRIPTION:Libérez-vous du tabac \n En parler peut déjà vous aider… \nSolidaris organise ses actions de prévention sur les bienfaits du sevrage tabagique dans ses points de contact.  \nNos agents de prévention seront disponibles également pour vous accompagner dans votre démarche de vous libérer du tabac. \nAdresse : \nAgence Solidaris Braine-l’AlleudPlace Alphonse Bosh\, 251300 Wavre 
URL:https://www.aucoeurdelasante.be/activite/liberez-vous-du-tabac-22/
LOCATION:Agence Solidaris Wavre\, Place Alphonse Bosch 25\, Wavre\, 1300\, Belgium
CATEGORIES:Activité santé
ATTACH;FMTTYPE=image/jpeg:https://www.aucoeurdelasante.be/wp-content/uploads/2026/04/tabagisme.jpeg
END:VEVENT
BEGIN:VEVENT
DTSTART;TZID=UTC:20260421T090000
DTEND;TZID=UTC:20260421T120000
DTSTAMP:20260422T125956
CREATED:20260402T065855Z
LAST-MODIFIED:20260408T121940Z
UID:4162-1776762000-1776772800@www.aucoeurdelasante.be
SUMMARY:Libérez-vous du tabac
DESCRIPTION:Libérez-vous du tabac \n En parler peut déjà vous aider… \nSolidaris organise ses actions de prévention sur les bienfaits du sevrage tabagique dans ses points de contact.  \nNos agents de prévention seront disponibles également pour vous accompagner dans votre démarche de vous libérer du tabac. \nAdresse : \nAgence Solidaris NamurRue de la Tour 2\,5000 Namur 
URL:https://www.aucoeurdelasante.be/activite/liberez-vous-du-tabac-23/
LOCATION:Agence Solidaris Namur\, Rue de la Tour 2\, Namur\, 5000\, Belgium
CATEGORIES:Activité santé
ATTACH;FMTTYPE=image/jpeg:https://www.aucoeurdelasante.be/wp-content/uploads/2026/04/AdobeStock_1276067367.jpeg
END:VEVENT
END:VCALENDAR