BEGIN:VCALENDAR
VERSION:2.0
PRODID:-//Au coeur de la santé - ECPv6.15.20//NONSGML v1.0//EN
CALSCALE:GREGORIAN
METHOD:PUBLISH
X-WR-CALNAME:Au coeur de la santé
X-ORIGINAL-URL:https://www.aucoeurdelasante.be
X-WR-CALDESC:Évènements pour Au coeur de la santé
REFRESH-INTERVAL;VALUE=DURATION:PT1H
X-Robots-Tag:noindex
X-PUBLISHED-TTL:PT1H
BEGIN:VTIMEZONE
TZID:UTC
BEGIN:STANDARD
TZOFFSETFROM:+0000
TZOFFSETTO:+0000
TZNAME:UTC
DTSTART:20250101T000000
END:STANDARD
END:VTIMEZONE
BEGIN:VEVENT
DTSTART;TZID=UTC:20260616T090000
DTEND;TZID=UTC:20260616T120000
DTSTAMP:20260422T155911
CREATED:20260402T075823Z
LAST-MODIFIED:20260407T083530Z
UID:4202-1781600400-1781611200@www.aucoeurdelasante.be
SUMMARY:Libérez-vous du tabac
DESCRIPTION:Libérez-vous du tabac \n En parler peut déjà vous aider… \nSolidaris organise ses actions de prévention sur les bienfaits du sevrage tabagique dans ses points de contact.  \nNos agents de prévention seront disponibles également pour vous accompagner dans votre démarche de vous libérer du tabac. \nAdresse : \nAgence Solidaris JodoigneAv. des Commandants Borlée 33\,1370 Jodoigne
URL:https://www.aucoeurdelasante.be/activite/liberez-vous-du-tabac-40/
LOCATION:Agence Solidaris (Jodoigne)\, Avenue des Combattants Borlée 33\, Jodoigne\, 1370\, Belgium
CATEGORIES:Activité santé
ATTACH;FMTTYPE=image/jpeg:https://www.aucoeurdelasante.be/wp-content/uploads/2026/04/tabagisme.jpeg
END:VEVENT
END:VCALENDAR