BEGIN:VCALENDAR
VERSION:2.0
PRODID:-//Au coeur de la santé - ECPv6.15.20//NONSGML v1.0//EN
CALSCALE:GREGORIAN
METHOD:PUBLISH
X-WR-CALNAME:Au coeur de la santé
X-ORIGINAL-URL:https://www.aucoeurdelasante.be
X-WR-CALDESC:Évènements pour Au coeur de la santé
REFRESH-INTERVAL;VALUE=DURATION:PT1H
X-Robots-Tag:noindex
X-PUBLISHED-TTL:PT1H
BEGIN:VTIMEZONE
TZID:UTC
BEGIN:STANDARD
TZOFFSETFROM:+0000
TZOFFSETTO:+0000
TZNAME:UTC
DTSTART:20240101T000000
END:STANDARD
END:VTIMEZONE
BEGIN:VEVENT
DTSTART;TZID=UTC:20250106T143000
DTEND;TZID=UTC:20250630T153000
DTSTAMP:20260423T135239
CREATED:20241121T103135Z
LAST-MODIFIED:20241121T131730Z
UID:3334-1736173800-1751297400@www.aucoeurdelasante.be
SUMMARY:Ateliers Yoga inclusif
DESCRIPTION:LUNDI\,  de 14h30 à 15h30 avec Marta \nLe yoga est une pratique douce basée sur la respiration et les postures. Elle vise à équilibrer le corps et l’esprit.\nLors des séances de yoga inclusif\, les postures sont adaptées aux besoins des personnes en situation de handicap. \nAdresse : \nEspace Gendebien (salle 5)\nBoulevard Gendebien 6\n7000 Mons \n2025 : 06/01\, 13/01\, 20/01\, 27/01\, 03/02\, 10/02\, 17/02\, 10/03\, 17/03\, 24/03\, 31/03\, 07/04\, 14/04\, 12/05\, 19/05\, 26/05\, 02/06\, 23/06\, 30/06 \nPrix 2ème semestre : 95€ (19 séances) \nInscriptions : \nVous pouvez vous inscrire en ligne ici : Ateliers santé mieux-être – Les Associations Solidaris \nCONTACT\nSoralia Mons-Borinage\n068/84 84 98\nsoralia.mwp@solidaris.be\nlesassociationssolidaris.be
URL:https://www.aucoeurdelasante.be/activite/yoga-inclusif-mons-ateliers-sante-mieux-etre/
LOCATION:Agence Solidaris (Mons)\, Boulevard Gendebien 6\, Mons\, 7000\, Belgium
CATEGORIES:Activité santé
ATTACH;FMTTYPE=image/jpeg:https://www.aucoeurdelasante.be/wp-content/uploads/2024/11/yoga-inclusif-2.jpg
END:VEVENT
BEGIN:VEVENT
DTSTART;TZID=UTC:20250106T160000
DTEND;TZID=UTC:20250630T170000
DTSTAMP:20260423T135239
CREATED:20241121T131525Z
LAST-MODIFIED:20241121T131525Z
UID:3390-1736179200-1751302800@www.aucoeurdelasante.be
SUMMARY:Ateliers de Tai Chi
DESCRIPTION:LUNDI\,  de 16h à 17h avec Patricia \nLe Tai Chi est une forme douce d’art martial. Il se compose d’une série de mouvements qui permettent une meilleure maîtrise de soi (physique et mentale).\nSes bienfaits sont nombreux : tonicité musculaire\, souplesse\, équilibre et coordination des mouvements. Durant les cours\, nous proposons des applications martiales\, mais aucun combat entre participants. \nAdresse : \nEspace Gendebien (salle 5)\nBoulevard Gendebien 6\n7000 Mons \n2025 : 06/01\, 13/01\, 20/01\, 27/01\, 03/02\, 10/02\, 17/02\, 10/03\, 17/03\, 24/03\, 31/03\, 07/04\, 14/04\, 12/05\, 19/05\, 26/05\, 02/06\, 23/06\, 30/06 \nPrix 2ème semestre : 95€ (19 séances) \nInscriptions : \nVous pouvez vous inscrire en ligne ici : Ateliers santé mieux-être – Les Associations Solidaris \nCONTACT\nSoralia Mons-Borinage\n068/84 84 98\nsoralia.mwp@solidaris.be\nlesassociationssolidaris.be
URL:https://www.aucoeurdelasante.be/activite/ateliers-de-tai-chi/
LOCATION:Agence Solidaris (Mons)\, Boulevard Gendebien 6\, Mons\, 7000\, Belgium
CATEGORIES:Activité santé
ATTACH;FMTTYPE=image/jpeg:https://www.aucoeurdelasante.be/wp-content/uploads/2024/11/tai-chi.jpg
END:VEVENT
BEGIN:VEVENT
DTSTART;TZID=UTC:20250107T090000
DTEND;TZID=UTC:20250107T123000
DTSTAMP:20260423T135239
CREATED:20250102T110558Z
LAST-MODIFIED:20250102T111356Z
UID:3477-1736240400-1736253000@www.aucoeurdelasante.be
SUMMARY:Sensibilisation sur la vaccination
DESCRIPTION:Venez tester vos connaissances sur la vaccination et apprenez-en plus sur la vaccination de saison et celle des enfants. \nAdresse : \nAgence Solidaris NivellesRue Saint André\, 1\,1400 Nivelles.Belgique
URL:https://www.aucoeurdelasante.be/activite/stand-sur-la-vaccination-6/
LOCATION:Agence Solidaris (Nivelles)\, Rue Saint André\, 1\, Nivelles\, 1400\, Belgium
CATEGORIES:Activité santé
ATTACH;FMTTYPE=image/jpeg:https://www.aucoeurdelasante.be/wp-content/uploads/2024/10/2149452488-1.jpg
END:VEVENT
BEGIN:VEVENT
DTSTART;TZID=UTC:20250108T103000
DTEND;TZID=UTC:20250625T113000
DTSTAMP:20260423T135239
CREATED:20241121T130910Z
LAST-MODIFIED:20241217T082438Z
UID:3395-1736332200-1750851000@www.aucoeurdelasante.be
SUMMARY:Ateliers de Stretching
DESCRIPTION:MERCREDI\,  de 10h30 à 11h30 avec Aurélie : \nRejoignez notre cours de stretching pour améliorer votre souplesse\, libérer les tensions et entretenir votre bien-être corporel.\nChaque semaine\, un rendez-vous matinal incontournable pour se revitaliser dans un environnement dynamique et motivant\, en bénéficiant de l’énergie du groupe. \nAdresse : \nEspace Gendebien (salle 5)\nBoulevard Gendebien 6\n7000 Mons \n2025 : 08/01\, 15/01\, 22/01\, 29/01\, 05/02\, 12/02\, 19/02\, 26/03\, 02/04\, 09/04\, 16/04\, 23/04\, 14/05\, 21/05\, 28/05\, 04/06\, 11/06\, 18/06\, 25/06\nPrix 2ème semestre : 95€ (19 séances) \nInscriptions : \nVous pouvez vous inscrire en ligne ici : Ateliers santé mieux-être – Les Associations Solidaris \nContact : \nSoralia Mons-Borinage\n068/84 84 98\nsoralia.mwp@solidaris.be\nlesassociationssolidaris.be
URL:https://www.aucoeurdelasante.be/activite/ateliers-de-stretching/
LOCATION:Agence Solidaris (Mons)\, Boulevard Gendebien 6\, Mons\, 7000\, Belgium
CATEGORIES:Activité santé
ATTACH;FMTTYPE=image/jpeg:https://www.aucoeurdelasante.be/wp-content/uploads/2024/11/stretching-2.jpg
END:VEVENT
BEGIN:VEVENT
DTSTART;TZID=UTC:20250108T103000
DTEND;TZID=UTC:20250625T113000
DTSTAMP:20260423T135239
CREATED:20241121T131253Z
LAST-MODIFIED:20250102T122643Z
UID:3398-1736332200-1750851000@www.aucoeurdelasante.be
SUMMARY:Ateliers de Pilates
DESCRIPTION:MERCREDI\,  de 10h30 à 11h30 avec Hassiba \nLe Pilates est une méthode de renforcement des muscles profonds\, responsables de la posture. Il permet d’améliorer la conscience de son corps\, de sa force et de ses limites pour mieux s’en servir.\nLes cours de Pilates s’adressent à tout le monde car les exercices ne sont ni violents\, ni traumatisants pour le corps. \nAdresse : \nEspace Gendebien (salle 5)\nBoulevard Gendebien 6\n7000 Mons \n2025 : 08/01\, 15/01\, 22/01\, 29/01\, 05/02\, 12/02\, 19/02\, 12/03\, 19/03\, 26/03\, 02/04\, 09/04\, 16/04\, 23/04\, 14/05\, 21/05\, 28/05\, 04/06\, 11/06\, 18/06\, 25/06 \nPrix 2ème semestre : 105€ (21 séances) \nInscriptions : \nVous pouvez  vous inscrire en ligne ici : Ateliers santé mieux-être – Les Associations Solidaris \nContact : \nSoralia Mons-Borinage\n068/84 84 98\nsoralia.mwp@solidaris.be\nlesassociationssolidaris.be
URL:https://www.aucoeurdelasante.be/activite/ateliers-de-pilates/
LOCATION:Agence Solidaris (Mons)\, Boulevard Gendebien 6\, Mons\, 7000\, Belgium
CATEGORIES:Activité santé
ATTACH;FMTTYPE=image/jpeg:https://www.aucoeurdelasante.be/wp-content/uploads/2024/11/pilates-2.jpg
END:VEVENT
BEGIN:VEVENT
DTSTART;TZID=UTC:20250109T093000
DTEND;TZID=UTC:20250109T123000
DTSTAMP:20260423T135239
CREATED:20250108T113226Z
LAST-MODIFIED:20250108T113226Z
UID:3507-1736415000-1736425800@www.aucoeurdelasante.be
SUMMARY:Bon usage des médicaments
DESCRIPTION:Mettre de l’ordre dans sa pharmacie\, c’est possible avec le PharmaKit. Découvrez les trucs et astuces pour faire des économies et bien gérer les médicaments. \nAdresse : \nAgence Solidaris MouscronRue du Val 2\,7700 MouscronBelgique \nL’animation est gratuite et accessible sans inscription.
URL:https://www.aucoeurdelasante.be/activite/bon-usage-des-medicaments-2/
LOCATION:Agence Solidaris (Mouscron)\, Rue du Val 2\, Mouscron\, 7700\, Belgium
CATEGORIES:Activité santé
ATTACH;FMTTYPE=image/jpeg:https://www.aucoeurdelasante.be/wp-content/uploads/2025/01/bon-usage-medicaments.jpg
END:VEVENT
BEGIN:VEVENT
DTSTART;TZID=UTC:20250116T093000
DTEND;TZID=UTC:20250116T123000
DTSTAMP:20260423T135239
CREATED:20250108T125849Z
LAST-MODIFIED:20250108T130904Z
UID:3512-1737019800-1737030600@www.aucoeurdelasante.be
SUMMARY:Bon usage des médicaments
DESCRIPTION:Mettre de l’ordre dans sa pharmacie\, c’est possible avec le PharmaKit. Découvrez les trucs et astuces pour faire des économies et bien gérer les médicaments. \nAdresse : \nAgence Solidaris FrameriesAvenue des Nouvelles Technologies\, 247080 FrameriesBelgique \nL’animation est gratuite et accessible sans inscription.
URL:https://www.aucoeurdelasante.be/activite/bon-usage-des-medicaments-3/
LOCATION:Agence Solidaris (Frameries)\, Avenue des Nouvelles Technologies 24\, Frameries\, 7080\, Belgium
CATEGORIES:Activité santé
ATTACH;FMTTYPE=image/jpeg:https://www.aucoeurdelasante.be/wp-content/uploads/2025/01/bon-usage-des-medicaments.jpg
END:VEVENT
BEGIN:VEVENT
DTSTART;TZID=UTC:20250121T090000
DTEND;TZID=UTC:20250121T120000
DTSTAMP:20260423T135239
CREATED:20250102T122426Z
LAST-MODIFIED:20250102T122514Z
UID:3486-1737450000-1737460800@www.aucoeurdelasante.be
SUMMARY:Mon assiette en couleurs
DESCRIPTION:Plus votre assiette est colorée\, plus elle est riche en vitamines et bonne pour votre santé ! Découvrez la pyramide alimentaire et comment rendre vos assiettes variées et savoureuses pour rester en pleine forme au quotidien ! \nIntéressé.e ? Venez nous rejoindre dans votre point de contact de 9h à 12h. \nAdresse : \nAgence Solidaris SoigniesRempart du Vieux Cimetière\, 157060 Soignies.Belgique \nL’animation est gratuite et accessible sans inscription.
URL:https://www.aucoeurdelasante.be/activite/mon-assiette-en-couleurs/
LOCATION:Agence Solidaris (Nivelles)\, Rue Saint André\, 1\, Nivelles\, 1400\, Belgium
CATEGORIES:Activité santé
ATTACH;FMTTYPE=image/jpeg:https://www.aucoeurdelasante.be/wp-content/uploads/2025/01/assiette-coloree.jpg
END:VEVENT
BEGIN:VEVENT
DTSTART;TZID=UTC:20250123T093000
DTEND;TZID=UTC:20250123T123000
DTSTAMP:20260423T135239
CREATED:20250108T143318Z
LAST-MODIFIED:20250108T143318Z
UID:3516-1737624600-1737635400@www.aucoeurdelasante.be
SUMMARY:Bon usage des médicaments
DESCRIPTION:Mettre de l’ordre dans sa pharmacie\, c’est possible avec le PharmaKit. Découvrez les trucs et astuces pour faire des économies et bien gérer les médicaments. \nAdresse : \nAgence Solidaris AthRue du Fort 48\,7800 AthBelgique \nL’animation est gratuite et accessible sans inscription.
URL:https://www.aucoeurdelasante.be/activite/bon-usage-des-medicaments-4/
LOCATION:Agence Solidaris (Ath)\, Rue du Fort 48\, Ath\, 7800\, Belgium
CATEGORIES:Activité santé
ATTACH;FMTTYPE=image/jpeg:https://www.aucoeurdelasante.be/wp-content/uploads/2025/01/bon-usage-des-medicaments.jpg
END:VEVENT
BEGIN:VEVENT
DTSTART;TZID=UTC:20250128T090000
DTEND;TZID=UTC:20250128T120000
DTSTAMP:20260423T135239
CREATED:20250102T130709Z
LAST-MODIFIED:20250102T130709Z
UID:3493-1738054800-1738065600@www.aucoeurdelasante.be
SUMMARY:Mon assiette en couleurs
DESCRIPTION:Plus votre assiette est colorée\, plus elle est riche en vitamines et bonne pour votre santé ! Découvrez la pyramide alimentaire et comment rendre vos assiettes variées et savoureuses pour rester en pleine forme au quotidien ! \nIntéressé.e ? Venez nous rejoindre dans votre point de contact de 9h à 12h. \nAdresse : \nAgence Solidaris Châtelineau (Cora)Rue du Corbeau\, 46200 Châtelineau.Belgique \nL’animation est gratuite et accessible sans inscription.
URL:https://www.aucoeurdelasante.be/activite/mon-assiette-en-couleurs-2/
LOCATION:Agence Solidaris (Châtelineau\, Cora)\, Rue du Corbeau 4\, Châtelineau\, 6200\, Belgium
CATEGORIES:Activité santé
ATTACH;FMTTYPE=image/jpeg:https://www.aucoeurdelasante.be/wp-content/uploads/2025/01/assiette-saine.jpg
END:VEVENT
END:VCALENDAR