BEGIN:VCALENDAR
VERSION:2.0
PRODID:-//Au coeur de la santé - ECPv6.15.20//NONSGML v1.0//EN
CALSCALE:GREGORIAN
METHOD:PUBLISH
X-WR-CALNAME:Au coeur de la santé
X-ORIGINAL-URL:https://www.aucoeurdelasante.be
X-WR-CALDESC:Évènements pour Au coeur de la santé
REFRESH-INTERVAL;VALUE=DURATION:PT1H
X-Robots-Tag:noindex
X-PUBLISHED-TTL:PT1H
BEGIN:VTIMEZONE
TZID:UTC
BEGIN:STANDARD
TZOFFSETFROM:+0000
TZOFFSETTO:+0000
TZNAME:UTC
DTSTART:20240101T000000
END:STANDARD
END:VTIMEZONE
BEGIN:VEVENT
DTSTART;TZID=UTC:20250106T143000
DTEND;TZID=UTC:20250630T153000
DTSTAMP:20260423T135400
CREATED:20241121T103135Z
LAST-MODIFIED:20241121T131730Z
UID:3334-1736173800-1751297400@www.aucoeurdelasante.be
SUMMARY:Ateliers Yoga inclusif
DESCRIPTION:LUNDI\,  de 14h30 à 15h30 avec Marta \nLe yoga est une pratique douce basée sur la respiration et les postures. Elle vise à équilibrer le corps et l’esprit.\nLors des séances de yoga inclusif\, les postures sont adaptées aux besoins des personnes en situation de handicap. \nAdresse : \nEspace Gendebien (salle 5)\nBoulevard Gendebien 6\n7000 Mons \n2025 : 06/01\, 13/01\, 20/01\, 27/01\, 03/02\, 10/02\, 17/02\, 10/03\, 17/03\, 24/03\, 31/03\, 07/04\, 14/04\, 12/05\, 19/05\, 26/05\, 02/06\, 23/06\, 30/06 \nPrix 2ème semestre : 95€ (19 séances) \nInscriptions : \nVous pouvez vous inscrire en ligne ici : Ateliers santé mieux-être – Les Associations Solidaris \nCONTACT\nSoralia Mons-Borinage\n068/84 84 98\nsoralia.mwp@solidaris.be\nlesassociationssolidaris.be
URL:https://www.aucoeurdelasante.be/activite/yoga-inclusif-mons-ateliers-sante-mieux-etre/
LOCATION:Agence Solidaris (Mons)\, Boulevard Gendebien 6\, Mons\, 7000\, Belgium
CATEGORIES:Activité santé
ATTACH;FMTTYPE=image/jpeg:https://www.aucoeurdelasante.be/wp-content/uploads/2024/11/yoga-inclusif-2.jpg
END:VEVENT
BEGIN:VEVENT
DTSTART;TZID=UTC:20250106T160000
DTEND;TZID=UTC:20250630T170000
DTSTAMP:20260423T135400
CREATED:20241121T131525Z
LAST-MODIFIED:20241121T131525Z
UID:3390-1736179200-1751302800@www.aucoeurdelasante.be
SUMMARY:Ateliers de Tai Chi
DESCRIPTION:LUNDI\,  de 16h à 17h avec Patricia \nLe Tai Chi est une forme douce d’art martial. Il se compose d’une série de mouvements qui permettent une meilleure maîtrise de soi (physique et mentale).\nSes bienfaits sont nombreux : tonicité musculaire\, souplesse\, équilibre et coordination des mouvements. Durant les cours\, nous proposons des applications martiales\, mais aucun combat entre participants. \nAdresse : \nEspace Gendebien (salle 5)\nBoulevard Gendebien 6\n7000 Mons \n2025 : 06/01\, 13/01\, 20/01\, 27/01\, 03/02\, 10/02\, 17/02\, 10/03\, 17/03\, 24/03\, 31/03\, 07/04\, 14/04\, 12/05\, 19/05\, 26/05\, 02/06\, 23/06\, 30/06 \nPrix 2ème semestre : 95€ (19 séances) \nInscriptions : \nVous pouvez vous inscrire en ligne ici : Ateliers santé mieux-être – Les Associations Solidaris \nCONTACT\nSoralia Mons-Borinage\n068/84 84 98\nsoralia.mwp@solidaris.be\nlesassociationssolidaris.be
URL:https://www.aucoeurdelasante.be/activite/ateliers-de-tai-chi/
LOCATION:Agence Solidaris (Mons)\, Boulevard Gendebien 6\, Mons\, 7000\, Belgium
CATEGORIES:Activité santé
ATTACH;FMTTYPE=image/jpeg:https://www.aucoeurdelasante.be/wp-content/uploads/2024/11/tai-chi.jpg
END:VEVENT
BEGIN:VEVENT
DTSTART;TZID=UTC:20250108T103000
DTEND;TZID=UTC:20250625T113000
DTSTAMP:20260423T135400
CREATED:20241121T130910Z
LAST-MODIFIED:20241217T082438Z
UID:3395-1736332200-1750851000@www.aucoeurdelasante.be
SUMMARY:Ateliers de Stretching
DESCRIPTION:MERCREDI\,  de 10h30 à 11h30 avec Aurélie : \nRejoignez notre cours de stretching pour améliorer votre souplesse\, libérer les tensions et entretenir votre bien-être corporel.\nChaque semaine\, un rendez-vous matinal incontournable pour se revitaliser dans un environnement dynamique et motivant\, en bénéficiant de l’énergie du groupe. \nAdresse : \nEspace Gendebien (salle 5)\nBoulevard Gendebien 6\n7000 Mons \n2025 : 08/01\, 15/01\, 22/01\, 29/01\, 05/02\, 12/02\, 19/02\, 26/03\, 02/04\, 09/04\, 16/04\, 23/04\, 14/05\, 21/05\, 28/05\, 04/06\, 11/06\, 18/06\, 25/06\nPrix 2ème semestre : 95€ (19 séances) \nInscriptions : \nVous pouvez vous inscrire en ligne ici : Ateliers santé mieux-être – Les Associations Solidaris \nContact : \nSoralia Mons-Borinage\n068/84 84 98\nsoralia.mwp@solidaris.be\nlesassociationssolidaris.be
URL:https://www.aucoeurdelasante.be/activite/ateliers-de-stretching/
LOCATION:Agence Solidaris (Mons)\, Boulevard Gendebien 6\, Mons\, 7000\, Belgium
CATEGORIES:Activité santé
ATTACH;FMTTYPE=image/jpeg:https://www.aucoeurdelasante.be/wp-content/uploads/2024/11/stretching-2.jpg
END:VEVENT
BEGIN:VEVENT
DTSTART;TZID=UTC:20250108T103000
DTEND;TZID=UTC:20250625T113000
DTSTAMP:20260423T135400
CREATED:20241121T131253Z
LAST-MODIFIED:20250102T122643Z
UID:3398-1736332200-1750851000@www.aucoeurdelasante.be
SUMMARY:Ateliers de Pilates
DESCRIPTION:MERCREDI\,  de 10h30 à 11h30 avec Hassiba \nLe Pilates est une méthode de renforcement des muscles profonds\, responsables de la posture. Il permet d’améliorer la conscience de son corps\, de sa force et de ses limites pour mieux s’en servir.\nLes cours de Pilates s’adressent à tout le monde car les exercices ne sont ni violents\, ni traumatisants pour le corps. \nAdresse : \nEspace Gendebien (salle 5)\nBoulevard Gendebien 6\n7000 Mons \n2025 : 08/01\, 15/01\, 22/01\, 29/01\, 05/02\, 12/02\, 19/02\, 12/03\, 19/03\, 26/03\, 02/04\, 09/04\, 16/04\, 23/04\, 14/05\, 21/05\, 28/05\, 04/06\, 11/06\, 18/06\, 25/06 \nPrix 2ème semestre : 105€ (21 séances) \nInscriptions : \nVous pouvez  vous inscrire en ligne ici : Ateliers santé mieux-être – Les Associations Solidaris \nContact : \nSoralia Mons-Borinage\n068/84 84 98\nsoralia.mwp@solidaris.be\nlesassociationssolidaris.be
URL:https://www.aucoeurdelasante.be/activite/ateliers-de-pilates/
LOCATION:Agence Solidaris (Mons)\, Boulevard Gendebien 6\, Mons\, 7000\, Belgium
CATEGORIES:Activité santé
ATTACH;FMTTYPE=image/jpeg:https://www.aucoeurdelasante.be/wp-content/uploads/2024/11/pilates-2.jpg
END:VEVENT
BEGIN:VEVENT
DTSTART;TZID=UTC:20250204T090000
DTEND;TZID=UTC:20250204T120000
DTSTAMP:20260423T135400
CREATED:20250102T144243Z
LAST-MODIFIED:20250102T145321Z
UID:3496-1738659600-1738670400@www.aucoeurdelasante.be
SUMMARY:Mon assiette en couleurs
DESCRIPTION:Plus votre assiette est colorée\, plus elle est riche en vitamines et bonne pour votre santé ! Découvrez la pyramide alimentaire et comment rendre vos assiettes variées et savoureuses pour rester en pleine forme au quotidien ! \nIntéressé.e ? Venez nous rejoindre dans votre point de contact de 9h à 12h. \nAdresse : \nAgence Solidaris La LouvièreRue Sylvain Guyaux\, 337100 La Louvière.Belgique \nL’animation est gratuite et accessible sans inscription.
URL:https://www.aucoeurdelasante.be/activite/mon-assiette-en-couleurs-3/
LOCATION:Agence Solidaris (La Louvière)\, Rue Sylvain Guyaux 33\, La Louvière\, 7100\, Belgium
CATEGORIES:Activité santé
ATTACH;FMTTYPE=image/jpeg:https://www.aucoeurdelasante.be/wp-content/uploads/2025/01/assiette-equilibree.jpg
END:VEVENT
BEGIN:VEVENT
DTSTART;TZID=UTC:20250204T090000
DTEND;TZID=UTC:20250204T123000
DTSTAMP:20260423T135400
CREATED:20250102T145642Z
LAST-MODIFIED:20250102T145826Z
UID:3499-1738659600-1738672200@www.aucoeurdelasante.be
SUMMARY:Bon usage des médicaments
DESCRIPTION:Mettre de l’ordre dans sa pharmacie\, c’est possible avec le PharmaKit. Découvrez les trucs et astuces pour faire des économies et bien gérer les médicaments. \nAdresse : \nAgence Solidaris Braine-l’AlleudAvenue de la Belle Province\, 11420 Braine-l’AlleudBelgique \nL’animation est gratuite et accessible sans inscription.
URL:https://www.aucoeurdelasante.be/activite/bon-usage-des-medicaments/
LOCATION:Agence Solidaris (Braine-l’Alleud)\, Avenue de la Belle Province\, 1\, Braine-l'Alleud\, 1420\, Belgium
CATEGORIES:Activité santé
ATTACH;FMTTYPE=image/jpeg:https://www.aucoeurdelasante.be/wp-content/uploads/2024/09/pexels-polina-tankilevitch-3873149.jpg
END:VEVENT
BEGIN:VEVENT
DTSTART;TZID=UTC:20250206T093000
DTEND;TZID=UTC:20250206T123000
DTSTAMP:20260423T135401
CREATED:20250108T143730Z
LAST-MODIFIED:20250108T143730Z
UID:3518-1738834200-1738845000@www.aucoeurdelasante.be
SUMMARY:Bon usage des médicaments
DESCRIPTION:Mettre de l’ordre dans sa pharmacie\, c’est possible avec le PharmaKit. Découvrez les trucs et astuces pour faire des économies et bien gérer les médicaments. \nAdresse : \nAgence Solidaris MonsBd Gendebien 6\,7000 MonsBelgique \nL’animation est gratuite et accessible sans inscription.
URL:https://www.aucoeurdelasante.be/activite/bon-usage-des-medicaments-5/
LOCATION:Agence Solidaris (Mons)\, Boulevard Gendebien 6\, Mons\, 7000\, Belgium
CATEGORIES:Activité santé
ATTACH;FMTTYPE=image/jpeg:https://www.aucoeurdelasante.be/wp-content/uploads/2025/01/bon-usage-des-medicaments.jpg
END:VEVENT
BEGIN:VEVENT
DTSTART;TZID=UTC:20250210T090000
DTEND;TZID=UTC:20250210T123000
DTSTAMP:20260423T135401
CREATED:20250128T091930Z
LAST-MODIFIED:20250128T091930Z
UID:3520-1739178000-1739190600@www.aucoeurdelasante.be
SUMMARY:Bon usage des médicaments
DESCRIPTION:Mettre de l’ordre dans sa pharmacie\, c’est possible avec le PharmaKit. Découvrez les trucs et astuces pour faire des économies et bien gérer les médicaments. \nAdresse : \nAgence Solidaris JodoigneAvenue des Combattants Borlée\, 331370 JodoigneBelgique \nL’animation est gratuite et accessible sans inscription.
URL:https://www.aucoeurdelasante.be/activite/bon-usage-des-medicaments-6/
LOCATION:Agence Solidaris (Jodoigne)\, Avenue des Combattants Borlée 33\, Jodoigne\, 1370\, Belgium
CATEGORIES:Activité santé
ATTACH;FMTTYPE=image/jpeg:https://www.aucoeurdelasante.be/wp-content/uploads/2025/01/bon-usage-medicaments.jpg
END:VEVENT
BEGIN:VEVENT
DTSTART;TZID=UTC:20250220T093000
DTEND;TZID=UTC:20250220T123000
DTSTAMP:20260423T135401
CREATED:20250217T155303Z
LAST-MODIFIED:20250217T155303Z
UID:3535-1740043800-1740054600@www.aucoeurdelasante.be
SUMMARY:Bon usage des médicaments
DESCRIPTION:Mettre de l’ordre dans sa pharmacie\, c’est possible avec le PharmaKit. Découvrez les trucs et astuces pour faire des économies et bien gérer les médicaments. \nAdresse : \nAgence Solidaris BaudourRue Louis Caty 1357331 BaudourBelgique \nL’animation est gratuite et accessible sans inscription.
URL:https://www.aucoeurdelasante.be/activite/bon-usage-des-medicaments-7/
LOCATION:Agence Solidaris (Baudour)\, Rue Louis Caty 135\, Baudour\, 7331\, Belgium
CATEGORIES:Activité santé
ATTACH;FMTTYPE=image/jpeg:https://www.aucoeurdelasante.be/wp-content/uploads/2025/01/bon-usage-medicaments.jpg
END:VEVENT
BEGIN:VEVENT
DTSTART;TZID=UTC:20250225T083000
DTEND;TZID=UTC:20250225T113000
DTSTAMP:20260423T135401
CREATED:20250218T133445Z
LAST-MODIFIED:20250218T133623Z
UID:3538-1740472200-1740483000@www.aucoeurdelasante.be
SUMMARY:Sensibilisation sur le Diabète
DESCRIPTION:Avec Solidaris\, il est possible de faire un test de glycémie gratuit.  Cela permet déjà d’avoir une idée du taux de sucre que l’on a dans le sang et si on est une personne à risque. \nAdresse : \nCPAS de GemblouxRue Chapelle Marion 1\,5030 GemblouxBelgique
URL:https://www.aucoeurdelasante.be/activite/journee-sensibilisation-sur-le-diabete-8/
LOCATION:Marché de Philippeville\, Place d'Armes\, Philippeville\, 5600\, Belgium
CATEGORIES:Activité santé
ATTACH;FMTTYPE=image/jpeg:https://www.aucoeurdelasante.be/wp-content/uploads/2024/10/test-diabete-1.jpg
END:VEVENT
END:VCALENDAR