BEGIN:VCALENDAR
VERSION:2.0
PRODID:-//Au coeur de la santé - ECPv6.15.20//NONSGML v1.0//EN
CALSCALE:GREGORIAN
METHOD:PUBLISH
X-ORIGINAL-URL:https://www.aucoeurdelasante.be
X-WR-CALDESC:Évènements pour Au coeur de la santé
REFRESH-INTERVAL;VALUE=DURATION:PT1H
X-Robots-Tag:noindex
X-PUBLISHED-TTL:PT1H
BEGIN:VTIMEZONE
TZID:UTC
BEGIN:STANDARD
TZOFFSETFROM:+0000
TZOFFSETTO:+0000
TZNAME:UTC
DTSTART:20240101T000000
END:STANDARD
END:VTIMEZONE
BEGIN:VEVENT
DTSTART;TZID=UTC:20250106T143000
DTEND;TZID=UTC:20250630T153000
DTSTAMP:20260423T105520
CREATED:20241121T103135Z
LAST-MODIFIED:20241121T131730Z
UID:3334-1736173800-1751297400@www.aucoeurdelasante.be
SUMMARY:Ateliers Yoga inclusif
DESCRIPTION:LUNDI\,  de 14h30 à 15h30 avec Marta \nLe yoga est une pratique douce basée sur la respiration et les postures. Elle vise à équilibrer le corps et l’esprit.\nLors des séances de yoga inclusif\, les postures sont adaptées aux besoins des personnes en situation de handicap. \nAdresse : \nEspace Gendebien (salle 5)\nBoulevard Gendebien 6\n7000 Mons \n2025 : 06/01\, 13/01\, 20/01\, 27/01\, 03/02\, 10/02\, 17/02\, 10/03\, 17/03\, 24/03\, 31/03\, 07/04\, 14/04\, 12/05\, 19/05\, 26/05\, 02/06\, 23/06\, 30/06 \nPrix 2ème semestre : 95€ (19 séances) \nInscriptions : \nVous pouvez vous inscrire en ligne ici : Ateliers santé mieux-être – Les Associations Solidaris \nCONTACT\nSoralia Mons-Borinage\n068/84 84 98\nsoralia.mwp@solidaris.be\nlesassociationssolidaris.be
URL:https://www.aucoeurdelasante.be/activite/yoga-inclusif-mons-ateliers-sante-mieux-etre/
LOCATION:Agence Solidaris (Mons)\, Boulevard Gendebien 6\, Mons\, 7000\, Belgium
CATEGORIES:Activité santé
ATTACH;FMTTYPE=image/jpeg:https://www.aucoeurdelasante.be/wp-content/uploads/2024/11/yoga-inclusif-2.jpg
END:VEVENT
BEGIN:VEVENT
DTSTART;TZID=UTC:20250106T160000
DTEND;TZID=UTC:20250630T170000
DTSTAMP:20260423T105520
CREATED:20241121T131525Z
LAST-MODIFIED:20241121T131525Z
UID:3390-1736179200-1751302800@www.aucoeurdelasante.be
SUMMARY:Ateliers de Tai Chi
DESCRIPTION:LUNDI\,  de 16h à 17h avec Patricia \nLe Tai Chi est une forme douce d’art martial. Il se compose d’une série de mouvements qui permettent une meilleure maîtrise de soi (physique et mentale).\nSes bienfaits sont nombreux : tonicité musculaire\, souplesse\, équilibre et coordination des mouvements. Durant les cours\, nous proposons des applications martiales\, mais aucun combat entre participants. \nAdresse : \nEspace Gendebien (salle 5)\nBoulevard Gendebien 6\n7000 Mons \n2025 : 06/01\, 13/01\, 20/01\, 27/01\, 03/02\, 10/02\, 17/02\, 10/03\, 17/03\, 24/03\, 31/03\, 07/04\, 14/04\, 12/05\, 19/05\, 26/05\, 02/06\, 23/06\, 30/06 \nPrix 2ème semestre : 95€ (19 séances) \nInscriptions : \nVous pouvez vous inscrire en ligne ici : Ateliers santé mieux-être – Les Associations Solidaris \nCONTACT\nSoralia Mons-Borinage\n068/84 84 98\nsoralia.mwp@solidaris.be\nlesassociationssolidaris.be
URL:https://www.aucoeurdelasante.be/activite/ateliers-de-tai-chi/
LOCATION:Agence Solidaris (Mons)\, Boulevard Gendebien 6\, Mons\, 7000\, Belgium
CATEGORIES:Activité santé
ATTACH;FMTTYPE=image/jpeg:https://www.aucoeurdelasante.be/wp-content/uploads/2024/11/tai-chi.jpg
END:VEVENT
BEGIN:VEVENT
DTSTART;TZID=UTC:20250108T103000
DTEND;TZID=UTC:20250625T113000
DTSTAMP:20260423T105520
CREATED:20241121T130910Z
LAST-MODIFIED:20241217T082438Z
UID:3395-1736332200-1750851000@www.aucoeurdelasante.be
SUMMARY:Ateliers de Stretching
DESCRIPTION:MERCREDI\,  de 10h30 à 11h30 avec Aurélie : \nRejoignez notre cours de stretching pour améliorer votre souplesse\, libérer les tensions et entretenir votre bien-être corporel.\nChaque semaine\, un rendez-vous matinal incontournable pour se revitaliser dans un environnement dynamique et motivant\, en bénéficiant de l’énergie du groupe. \nAdresse : \nEspace Gendebien (salle 5)\nBoulevard Gendebien 6\n7000 Mons \n2025 : 08/01\, 15/01\, 22/01\, 29/01\, 05/02\, 12/02\, 19/02\, 26/03\, 02/04\, 09/04\, 16/04\, 23/04\, 14/05\, 21/05\, 28/05\, 04/06\, 11/06\, 18/06\, 25/06\nPrix 2ème semestre : 95€ (19 séances) \nInscriptions : \nVous pouvez vous inscrire en ligne ici : Ateliers santé mieux-être – Les Associations Solidaris \nContact : \nSoralia Mons-Borinage\n068/84 84 98\nsoralia.mwp@solidaris.be\nlesassociationssolidaris.be
URL:https://www.aucoeurdelasante.be/activite/ateliers-de-stretching/
LOCATION:Agence Solidaris (Mons)\, Boulevard Gendebien 6\, Mons\, 7000\, Belgium
CATEGORIES:Activité santé
ATTACH;FMTTYPE=image/jpeg:https://www.aucoeurdelasante.be/wp-content/uploads/2024/11/stretching-2.jpg
END:VEVENT
BEGIN:VEVENT
DTSTART;TZID=UTC:20250108T103000
DTEND;TZID=UTC:20250625T113000
DTSTAMP:20260423T105520
CREATED:20241121T131253Z
LAST-MODIFIED:20250102T122643Z
UID:3398-1736332200-1750851000@www.aucoeurdelasante.be
SUMMARY:Ateliers de Pilates
DESCRIPTION:MERCREDI\,  de 10h30 à 11h30 avec Hassiba \nLe Pilates est une méthode de renforcement des muscles profonds\, responsables de la posture. Il permet d’améliorer la conscience de son corps\, de sa force et de ses limites pour mieux s’en servir.\nLes cours de Pilates s’adressent à tout le monde car les exercices ne sont ni violents\, ni traumatisants pour le corps. \nAdresse : \nEspace Gendebien (salle 5)\nBoulevard Gendebien 6\n7000 Mons \n2025 : 08/01\, 15/01\, 22/01\, 29/01\, 05/02\, 12/02\, 19/02\, 12/03\, 19/03\, 26/03\, 02/04\, 09/04\, 16/04\, 23/04\, 14/05\, 21/05\, 28/05\, 04/06\, 11/06\, 18/06\, 25/06 \nPrix 2ème semestre : 105€ (21 séances) \nInscriptions : \nVous pouvez  vous inscrire en ligne ici : Ateliers santé mieux-être – Les Associations Solidaris \nContact : \nSoralia Mons-Borinage\n068/84 84 98\nsoralia.mwp@solidaris.be\nlesassociationssolidaris.be
URL:https://www.aucoeurdelasante.be/activite/ateliers-de-pilates/
LOCATION:Agence Solidaris (Mons)\, Boulevard Gendebien 6\, Mons\, 7000\, Belgium
CATEGORIES:Activité santé
ATTACH;FMTTYPE=image/jpeg:https://www.aucoeurdelasante.be/wp-content/uploads/2024/11/pilates-2.jpg
END:VEVENT
BEGIN:VEVENT
DTSTART;TZID=UTC:20250318T090000
DTEND;TZID=UTC:20250318T123000
DTSTAMP:20260423T105520
CREATED:20250317T125253Z
LAST-MODIFIED:20250317T125513Z
UID:3547-1742288400-1742301000@www.aucoeurdelasante.be
SUMMARY:Les Fruits et Légumes Belges et de Saison
DESCRIPTION:Découvrez le calendrier des fruits et légumes belges et de saison ! \nNous vous invitons à un moment convivial où vous recevrez un calendrier des fruits et légumes belges de saison. Ce calendrier vous aidera à faire vos courses en choisissant des produits frais\, bons pour la santé et à prix abordables. Pourquoi c’est important ?Manger de saison\, c’est bon pour votre santé et pour votre porte-monnaie ! Les fruits et légumes de saison sont souvent moins chers et plus savoureux. Ils sont aussi meilleurs pour l’environnement. \nAdresse : \nAgence Solidaris Braine-l’AlleudAvenue de la Belle Province\, 11420 Braine-l’AlleudBelgique
URL:https://www.aucoeurdelasante.be/activite/les-fruits-et-legumes-belges-et-de-saison/
LOCATION:Agence Solidaris (Braine-l’Alleud)\, Avenue de la Belle Province\, 1\, Braine-l'Alleud\, 1420\, Belgium
CATEGORIES:Activité santé
ATTACH;FMTTYPE=image/jpeg:https://www.aucoeurdelasante.be/wp-content/uploads/2024/10/fruits-legumes-belges-saison-1.jpg
END:VEVENT
BEGIN:VEVENT
DTSTART;TZID=UTC:20250320T090000
DTEND;TZID=UTC:20250320T123000
DTSTAMP:20260423T105520
CREATED:20250317T131019Z
LAST-MODIFIED:20250317T131019Z
UID:3549-1742461200-1742473800@www.aucoeurdelasante.be
SUMMARY:Les Fruits et Légumes Belges et de Saison
DESCRIPTION:Découvrez le calendrier des fruits et légumes belges et de saison ! \nNous vous invitons à un moment convivial où vous recevrez un calendrier des fruits et légumes belges de saison. Ce calendrier vous aidera à faire vos courses en choisissant des produits frais\, bons pour la santé et à prix abordables. Pourquoi c’est important ?Manger de saison\, c’est bon pour votre santé et pour votre porte-monnaie ! Les fruits et légumes de saison sont souvent moins chers et plus savoureux. Ils sont aussi meilleurs pour l’environnement. \nAdresse : \nAgence Solidaris TubizeRue de Mons 711480 TubizeBelgique
URL:https://www.aucoeurdelasante.be/activite/les-fruits-et-legumes-belges-et-de-saison-2/
CATEGORIES:Activité santé
ATTACH;FMTTYPE=image/jpeg:https://www.aucoeurdelasante.be/wp-content/uploads/2025/01/assiette-coloree.jpg
END:VEVENT
BEGIN:VEVENT
DTSTART;TZID=UTC:20250324T090000
DTEND;TZID=UTC:20250324T123000
DTSTAMP:20260423T105520
CREATED:20250317T140506Z
LAST-MODIFIED:20250317T140506Z
UID:3552-1742806800-1742819400@www.aucoeurdelasante.be
SUMMARY:Les Fruits et Légumes Belges et de Saison
DESCRIPTION:Découvrez le calendrier des fruits et légumes belges et de saison ! \nNous vous invitons à un moment convivial où vous recevrez un calendrier des fruits et légumes belges de saison. Ce calendrier vous aidera à faire vos courses en choisissant des produits frais\, bons pour la santé et à prix abordables. Pourquoi c’est important ?Manger de saison\, c’est bon pour votre santé et pour votre porte-monnaie ! Les fruits et légumes de saison sont souvent moins chers et plus savoureux. Ils sont aussi meilleurs pour l’environnement. \nAdresse : \nAgence Mutualité Socialiste du Luxembourg – Barvaux-sur-OurtheEn Charlotte 36\,6940 Barvaux-sur-OurtheBelgique
URL:https://www.aucoeurdelasante.be/activite/les-fruits-et-legumes-belges-et-de-saison-3/
LOCATION:Agence Mutualité Socialiste du Luxembourg (Barvaux-sur-Ourthe)\, En Charlotte 36\, Barvaux-sur-Ourthe\, 6940\, Belgium
CATEGORIES:Activité santé
ATTACH;FMTTYPE=image/jpeg:https://www.aucoeurdelasante.be/wp-content/uploads/2025/03/calendrier.jpg
END:VEVENT
BEGIN:VEVENT
DTSTART;TZID=UTC:20250325T090000
DTEND;TZID=UTC:20250325T120000
DTSTAMP:20260423T105520
CREATED:20250317T143233Z
LAST-MODIFIED:20250317T143233Z
UID:3557-1742893200-1742904000@www.aucoeurdelasante.be
SUMMARY:Les Fruits et Légumes Belges et de Saison
DESCRIPTION:Découvrez le calendrier des fruits et légumes belges et de saison ! \nNous vous invitons à un moment convivial où vous recevrez un calendrier des fruits et légumes belges de saison. Ce calendrier vous aidera à faire vos courses en choisissant des produits frais\, bons pour la santé et à prix abordables. Pourquoi c’est important ?Manger de saison\, c’est bon pour votre santé et pour votre porte-monnaie ! Les fruits et légumes de saison sont souvent moins chers et plus savoureux. Ils sont aussi meilleurs pour l’environnement. \nAdresse : \nAgence Solidaris AthRue du Fort 48\,7800 AthBelgique
URL:https://www.aucoeurdelasante.be/activite/les-fruits-et-legumes-belges-et-de-saison-4/
LOCATION:Agence Solidaris (Ath)\, Rue du Fort 48\, Ath\, 7800\, Belgium
CATEGORIES:Activité santé
ATTACH;FMTTYPE=image/jpeg:https://www.aucoeurdelasante.be/wp-content/uploads/2025/03/saison-alimentation.jpg
END:VEVENT
BEGIN:VEVENT
DTSTART;TZID=UTC:20250325T093000
DTEND;TZID=UTC:20250325T123000
DTSTAMP:20260423T105520
CREATED:20250319T092907Z
LAST-MODIFIED:20250319T092907Z
UID:3562-1742895000-1742905800@www.aucoeurdelasante.be
SUMMARY:Les Fruits et Légumes Belges et de Saison
DESCRIPTION:Découvrez le calendrier des fruits et légumes belges et de saison ! \nNous vous invitons à un moment convivial où vous recevrez un calendrier des fruits et légumes belges de saison. Ce calendrier vous aidera à faire vos courses en choisissant des produits frais\, bons pour la santé et à prix abordables. Pourquoi c’est important ?Manger de saison\, c’est bon pour votre santé et pour votre porte-monnaie ! Les fruits et légumes de saison sont souvent moins chers et plus savoureux. Ils sont aussi meilleurs pour l’environnement. \nAdresse : \nAgence Solidaris JodoigneAvenue des Combattants Borlée 33\,1370 JodoigneBelgique
URL:https://www.aucoeurdelasante.be/activite/les-fruits-et-legumes-belges-et-de-saison-5/
LOCATION:Agence Solidaris (Jodoigne)\, Avenue des Combattants Borlée 33\, Jodoigne\, 1370\, Belgium
CATEGORIES:Activité santé
ATTACH;FMTTYPE=image/jpeg:https://www.aucoeurdelasante.be/wp-content/uploads/2024/10/fruits-legumes-belges-saison-1.jpg
END:VEVENT
BEGIN:VEVENT
DTSTART;TZID=UTC:20250327T090000
DTEND;TZID=UTC:20250327T120000
DTSTAMP:20260423T105520
CREATED:20250319T093934Z
LAST-MODIFIED:20250319T093934Z
UID:3564-1743066000-1743076800@www.aucoeurdelasante.be
SUMMARY:Les Fruits et Légumes Belges et de Saison
DESCRIPTION:Découvrez le calendrier des fruits et légumes belges et de saison ! \nNous vous invitons à un moment convivial où vous recevrez un calendrier des fruits et légumes belges de saison. Ce calendrier vous aidera à faire vos courses en choisissant des produits frais\, bons pour la santé et à prix abordables. Pourquoi c’est important ?Manger de saison\, c’est bon pour votre santé et pour votre porte-monnaie ! Les fruits et légumes de saison sont souvent moins chers et plus savoureux. Ils sont aussi meilleurs pour l’environnement. \nAdresse : \nAgence Solidaris MouscronRue du Val 2\,7700 MouscronBelgique
URL:https://www.aucoeurdelasante.be/activite/les-fruits-et-legumes-belges-et-de-saison-6/
LOCATION:Agence Solidaris (Mouscron)\, Rue du Val 2\, Mouscron\, 7700\, Belgium
CATEGORIES:Activité santé
ATTACH;FMTTYPE=image/jpeg:https://www.aucoeurdelasante.be/wp-content/uploads/2025/01/assiette-coloree.jpg
END:VEVENT
BEGIN:VEVENT
DTSTART;TZID=UTC:20250328T090000
DTEND;TZID=UTC:20250328T130000
DTSTAMP:20260423T105520
CREATED:20250319T100617Z
LAST-MODIFIED:20250319T100617Z
UID:3566-1743152400-1743166800@www.aucoeurdelasante.be
SUMMARY:Les Fruits et Légumes Belges et de Saison
DESCRIPTION:Découvrez le calendrier des fruits et légumes belges et de saison ! \nNous vous invitons à un moment convivial où vous recevrez un calendrier des fruits et légumes belges de saison. Ce calendrier vous aidera à faire vos courses en choisissant des produits frais\, bons pour la santé et à prix abordables. Pourquoi c’est important ?Manger de saison\, c’est bon pour votre santé et pour votre porte-monnaie ! Les fruits et légumes de saison sont souvent moins chers et plus savoureux. Ils sont aussi meilleurs pour l’environnement. \nAdresse : \nAgence Mutualité Socialiste du Luxembourg – Marche-en-FamenneRue Neuve 1\,6900 Marche-en-FamenneBelgique
URL:https://www.aucoeurdelasante.be/activite/les-fruits-et-legumes-belges-et-de-saison-7/
LOCATION:Agence Mutualité Socialiste du Luxembourg (Marche-en-Famenne)\, Rue Neuve 1\, Marche-en-Famenne\, 6900\, Belgium
CATEGORIES:Activité santé
ATTACH;FMTTYPE=image/jpeg:https://www.aucoeurdelasante.be/wp-content/uploads/2025/03/calendrier.jpg
END:VEVENT
END:VCALENDAR