BEGIN:VCALENDAR
VERSION:2.0
PRODID:-//Au coeur de la santé - ECPv6.15.20//NONSGML v1.0//EN
CALSCALE:GREGORIAN
METHOD:PUBLISH
X-ORIGINAL-URL:https://www.aucoeurdelasante.be
X-WR-CALDESC:Évènements pour Au coeur de la santé
REFRESH-INTERVAL;VALUE=DURATION:PT1H
X-Robots-Tag:noindex
X-PUBLISHED-TTL:PT1H
BEGIN:VTIMEZONE
TZID:UTC
BEGIN:STANDARD
TZOFFSETFROM:+0000
TZOFFSETTO:+0000
TZNAME:UTC
DTSTART:20240101T000000
END:STANDARD
END:VTIMEZONE
BEGIN:VEVENT
DTSTART;TZID=UTC:20250106T143000
DTEND;TZID=UTC:20250630T153000
DTSTAMP:20260423T092624
CREATED:20241121T103135Z
LAST-MODIFIED:20241121T131730Z
UID:3334-1736173800-1751297400@www.aucoeurdelasante.be
SUMMARY:Ateliers Yoga inclusif
DESCRIPTION:LUNDI\,  de 14h30 à 15h30 avec Marta \nLe yoga est une pratique douce basée sur la respiration et les postures. Elle vise à équilibrer le corps et l’esprit.\nLors des séances de yoga inclusif\, les postures sont adaptées aux besoins des personnes en situation de handicap. \nAdresse : \nEspace Gendebien (salle 5)\nBoulevard Gendebien 6\n7000 Mons \n2025 : 06/01\, 13/01\, 20/01\, 27/01\, 03/02\, 10/02\, 17/02\, 10/03\, 17/03\, 24/03\, 31/03\, 07/04\, 14/04\, 12/05\, 19/05\, 26/05\, 02/06\, 23/06\, 30/06 \nPrix 2ème semestre : 95€ (19 séances) \nInscriptions : \nVous pouvez vous inscrire en ligne ici : Ateliers santé mieux-être – Les Associations Solidaris \nCONTACT\nSoralia Mons-Borinage\n068/84 84 98\nsoralia.mwp@solidaris.be\nlesassociationssolidaris.be
URL:https://www.aucoeurdelasante.be/activite/yoga-inclusif-mons-ateliers-sante-mieux-etre/
LOCATION:Agence Solidaris (Mons)\, Boulevard Gendebien 6\, Mons\, 7000\, Belgium
CATEGORIES:Activité santé
ATTACH;FMTTYPE=image/jpeg:https://www.aucoeurdelasante.be/wp-content/uploads/2024/11/yoga-inclusif-2.jpg
END:VEVENT
BEGIN:VEVENT
DTSTART;TZID=UTC:20250106T160000
DTEND;TZID=UTC:20250630T170000
DTSTAMP:20260423T092624
CREATED:20241121T131525Z
LAST-MODIFIED:20241121T131525Z
UID:3390-1736179200-1751302800@www.aucoeurdelasante.be
SUMMARY:Ateliers de Tai Chi
DESCRIPTION:LUNDI\,  de 16h à 17h avec Patricia \nLe Tai Chi est une forme douce d’art martial. Il se compose d’une série de mouvements qui permettent une meilleure maîtrise de soi (physique et mentale).\nSes bienfaits sont nombreux : tonicité musculaire\, souplesse\, équilibre et coordination des mouvements. Durant les cours\, nous proposons des applications martiales\, mais aucun combat entre participants. \nAdresse : \nEspace Gendebien (salle 5)\nBoulevard Gendebien 6\n7000 Mons \n2025 : 06/01\, 13/01\, 20/01\, 27/01\, 03/02\, 10/02\, 17/02\, 10/03\, 17/03\, 24/03\, 31/03\, 07/04\, 14/04\, 12/05\, 19/05\, 26/05\, 02/06\, 23/06\, 30/06 \nPrix 2ème semestre : 95€ (19 séances) \nInscriptions : \nVous pouvez vous inscrire en ligne ici : Ateliers santé mieux-être – Les Associations Solidaris \nCONTACT\nSoralia Mons-Borinage\n068/84 84 98\nsoralia.mwp@solidaris.be\nlesassociationssolidaris.be
URL:https://www.aucoeurdelasante.be/activite/ateliers-de-tai-chi/
LOCATION:Agence Solidaris (Mons)\, Boulevard Gendebien 6\, Mons\, 7000\, Belgium
CATEGORIES:Activité santé
ATTACH;FMTTYPE=image/jpeg:https://www.aucoeurdelasante.be/wp-content/uploads/2024/11/tai-chi.jpg
END:VEVENT
BEGIN:VEVENT
DTSTART;TZID=UTC:20250108T103000
DTEND;TZID=UTC:20250625T113000
DTSTAMP:20260423T092624
CREATED:20241121T130910Z
LAST-MODIFIED:20241217T082438Z
UID:3395-1736332200-1750851000@www.aucoeurdelasante.be
SUMMARY:Ateliers de Stretching
DESCRIPTION:MERCREDI\,  de 10h30 à 11h30 avec Aurélie : \nRejoignez notre cours de stretching pour améliorer votre souplesse\, libérer les tensions et entretenir votre bien-être corporel.\nChaque semaine\, un rendez-vous matinal incontournable pour se revitaliser dans un environnement dynamique et motivant\, en bénéficiant de l’énergie du groupe. \nAdresse : \nEspace Gendebien (salle 5)\nBoulevard Gendebien 6\n7000 Mons \n2025 : 08/01\, 15/01\, 22/01\, 29/01\, 05/02\, 12/02\, 19/02\, 26/03\, 02/04\, 09/04\, 16/04\, 23/04\, 14/05\, 21/05\, 28/05\, 04/06\, 11/06\, 18/06\, 25/06\nPrix 2ème semestre : 95€ (19 séances) \nInscriptions : \nVous pouvez vous inscrire en ligne ici : Ateliers santé mieux-être – Les Associations Solidaris \nContact : \nSoralia Mons-Borinage\n068/84 84 98\nsoralia.mwp@solidaris.be\nlesassociationssolidaris.be
URL:https://www.aucoeurdelasante.be/activite/ateliers-de-stretching/
LOCATION:Agence Solidaris (Mons)\, Boulevard Gendebien 6\, Mons\, 7000\, Belgium
CATEGORIES:Activité santé
ATTACH;FMTTYPE=image/jpeg:https://www.aucoeurdelasante.be/wp-content/uploads/2024/11/stretching-2.jpg
END:VEVENT
BEGIN:VEVENT
DTSTART;TZID=UTC:20250108T103000
DTEND;TZID=UTC:20250625T113000
DTSTAMP:20260423T092624
CREATED:20241121T131253Z
LAST-MODIFIED:20250102T122643Z
UID:3398-1736332200-1750851000@www.aucoeurdelasante.be
SUMMARY:Ateliers de Pilates
DESCRIPTION:MERCREDI\,  de 10h30 à 11h30 avec Hassiba \nLe Pilates est une méthode de renforcement des muscles profonds\, responsables de la posture. Il permet d’améliorer la conscience de son corps\, de sa force et de ses limites pour mieux s’en servir.\nLes cours de Pilates s’adressent à tout le monde car les exercices ne sont ni violents\, ni traumatisants pour le corps. \nAdresse : \nEspace Gendebien (salle 5)\nBoulevard Gendebien 6\n7000 Mons \n2025 : 08/01\, 15/01\, 22/01\, 29/01\, 05/02\, 12/02\, 19/02\, 12/03\, 19/03\, 26/03\, 02/04\, 09/04\, 16/04\, 23/04\, 14/05\, 21/05\, 28/05\, 04/06\, 11/06\, 18/06\, 25/06 \nPrix 2ème semestre : 105€ (21 séances) \nInscriptions : \nVous pouvez  vous inscrire en ligne ici : Ateliers santé mieux-être – Les Associations Solidaris \nContact : \nSoralia Mons-Borinage\n068/84 84 98\nsoralia.mwp@solidaris.be\nlesassociationssolidaris.be
URL:https://www.aucoeurdelasante.be/activite/ateliers-de-pilates/
LOCATION:Agence Solidaris (Mons)\, Boulevard Gendebien 6\, Mons\, 7000\, Belgium
CATEGORIES:Activité santé
ATTACH;FMTTYPE=image/jpeg:https://www.aucoeurdelasante.be/wp-content/uploads/2024/11/pilates-2.jpg
END:VEVENT
BEGIN:VEVENT
DTSTART;TZID=UTC:20250403T090000
DTEND;TZID=UTC:20250403T120000
DTSTAMP:20260423T092624
CREATED:20250319T125650Z
LAST-MODIFIED:20250319T125650Z
UID:3574-1743670800-1743681600@www.aucoeurdelasante.be
SUMMARY:Stand Activité Physique
DESCRIPTION:Passez par notre stand pour tester votre niveau d’activité physique et obtenir des conseils pratiques. Une occasion simple et rapide de mieux comprendre l’importance de bouger pour votre santé. Venez nombreux ! \nAdresse : \nAgence Solidaris Saint-ServaisChaussée de Waterloo 182\,5002 Saint-Servais
URL:https://www.aucoeurdelasante.be/activite/stand-activite-physique-2/
LOCATION:Agence Solidaris (Saint-Servais)\, Chaussée de Waterloo 182\, Saint-Servais\, 5002\, Belgium
CATEGORIES:Activité santé
ATTACH;FMTTYPE=image/jpeg:https://www.aucoeurdelasante.be/wp-content/uploads/2024/11/tai-chi-2.jpg
END:VEVENT
BEGIN:VEVENT
DTSTART;TZID=UTC:20250403T090000
DTEND;TZID=UTC:20250403T120000
DTSTAMP:20260423T092624
CREATED:20250319T130025Z
LAST-MODIFIED:20250319T130025Z
UID:3579-1743670800-1743681600@www.aucoeurdelasante.be
SUMMARY:Les Fruits et Légumes Belges et de Saison
DESCRIPTION:Découvrez le calendrier des fruits et légumes belges et de saison ! \nNous vous invitons à un moment convivial où vous recevrez un calendrier des fruits et légumes belges de saison. Ce calendrier vous aidera à faire vos courses en choisissant des produits frais\, bons pour la santé et à prix abordables. Pourquoi c’est important ?Manger de saison\, c’est bon pour votre santé et pour votre porte-monnaie ! Les fruits et légumes de saison sont souvent moins chers et plus savoureux. Ils sont aussi meilleurs pour l’environnement. \nAdresse : \nAgence Solidaris MonsBoulevard Gendebien 6\,7000 MonsBelgique
URL:https://www.aucoeurdelasante.be/activite/les-fruits-et-legumes-belges-et-de-saison-8/
LOCATION:Agence Solidaris (Mons)\, Boulevard Gendebien 6\, Mons\, 7000\, Belgium
CATEGORIES:Activité santé
ATTACH;FMTTYPE=image/jpeg:https://www.aucoeurdelasante.be/wp-content/uploads/2025/03/saison-alimentation.jpg
END:VEVENT
BEGIN:VEVENT
DTSTART;TZID=UTC:20250403T090000
DTEND;TZID=UTC:20250403T123000
DTSTAMP:20260423T092624
CREATED:20250319T124949Z
LAST-MODIFIED:20250319T125038Z
UID:3570-1743670800-1743683400@www.aucoeurdelasante.be
SUMMARY:Stand Activité Physique
DESCRIPTION:Passez par notre stand pour tester votre niveau d’activité physique et obtenir des conseils pratiques. Une occasion simple et rapide de mieux comprendre l’importance de bouger pour votre santé. Venez nombreux ! \nAdresse : \nAgence Solidaris TubizeRue de Mons 71\,1480 Tubize
URL:https://www.aucoeurdelasante.be/activite/stand-activite-physique/
CATEGORIES:Activité santé
ATTACH;FMTTYPE=image/jpeg:https://www.aucoeurdelasante.be/wp-content/uploads/2024/09/marche-1.jpg
END:VEVENT
BEGIN:VEVENT
DTSTART;TZID=UTC:20250403T174500
DTEND;TZID=UTC:20250403T194500
DTSTAMP:20260423T092624
CREATED:20250402T125425Z
LAST-MODIFIED:20250402T125425Z
UID:3629-1743702300-1743709500@www.aucoeurdelasante.be
SUMMARY:Je dis Santé
DESCRIPTION:Prêt à découvrir des collations qui boostent votre énergie ? \nVotre santé est notre priorité ! Ensemble\, réveillons le meilleur de vous-même. \nLes ateliers santé\, c’est chaque jeudi en avril de 17h45 à 19h45 à La Hestre. \nAdresse : \nAgence Solidaris La HestreRue Ferrer 114\,7170 La Hestre
URL:https://www.aucoeurdelasante.be/activite/je-dis-sante/
LOCATION:Agence Solidaris (La Hestre)\, Rue Ferrer 114\, La Hestre\, 7170\, Belgium
CATEGORIES:Activité santé
ATTACH;FMTTYPE=image/jpeg:https://www.aucoeurdelasante.be/wp-content/uploads/2025/04/snack-sante.jpg
END:VEVENT
BEGIN:VEVENT
DTSTART;TZID=UTC:20250407T090000
DTEND;TZID=UTC:20250407T123000
DTSTAMP:20260423T092624
CREATED:20250402T081819Z
LAST-MODIFIED:20250402T081819Z
UID:3607-1744016400-1744029000@www.aucoeurdelasante.be
SUMMARY:Stand Activité Physique
DESCRIPTION:Passez par notre stand pour tester votre niveau d’activité physique et obtenir des conseils pratiques. Une occasion simple et rapide de mieux comprendre l’importance de bouger pour votre santé. Venez nombreux ! \nAdresse : \nAgence Mutualité Socialiste du Luxembourg – Arlonrue de la Moselle 1\,6700 Arlon
URL:https://www.aucoeurdelasante.be/activite/stand-activite-physique-9/
LOCATION:Agence Mutualité Socialiste du Luxembourg – Arlon\, rue de la Moselle 1\, Arlon\, 6700\, Belgium
CATEGORIES:Activité santé
ATTACH;FMTTYPE=image/jpeg:https://www.aucoeurdelasante.be/wp-content/uploads/2025/04/actif.jpg
END:VEVENT
BEGIN:VEVENT
DTSTART;TZID=UTC:20250408T090000
DTEND;TZID=UTC:20250408T123000
DTSTAMP:20260423T092624
CREATED:20250402T113452Z
LAST-MODIFIED:20250402T113452Z
UID:3613-1744102800-1744115400@www.aucoeurdelasante.be
SUMMARY:Stand Activité Physique
DESCRIPTION:Passez par notre stand pour tester votre niveau d’activité physique et obtenir des conseils pratiques. Une occasion simple et rapide de mieux comprendre l’importance de bouger pour votre santé. Venez nombreux ! \nAdresse : \nAgence Mutualité Socialiste du Luxembourg – Marche-en-FamenneRue Neuve 1\,6900 Marche-en-Famenne
URL:https://www.aucoeurdelasante.be/activite/stand-activite-physique-10/
LOCATION:Agence Mutualité Socialiste du Luxembourg (Marche-en-Famenne)\, Rue Neuve 1\, Marche-en-Famenne\, 6900\, Belgium
CATEGORIES:Activité santé
ATTACH;FMTTYPE=image/jpeg:https://www.aucoeurdelasante.be/wp-content/uploads/2025/04/bouger-ensemble.jpg
END:VEVENT
BEGIN:VEVENT
DTSTART;TZID=UTC:20250409T090000
DTEND;TZID=UTC:20250409T123000
DTSTAMP:20260423T092624
CREATED:20250402T121213Z
LAST-MODIFIED:20250402T121213Z
UID:3615-1744189200-1744201800@www.aucoeurdelasante.be
SUMMARY:Stand Activité Physique
DESCRIPTION:Passez par notre stand pour tester votre niveau d’activité physique et obtenir des conseils pratiques. Une occasion simple et rapide de mieux comprendre l’importance de bouger pour votre santé. Venez nombreux ! \nAdresse : \nAgence Mutualité Socialiste du Luxembourg – BertrixRue de la Gare 18\,6880 Bertrix
URL:https://www.aucoeurdelasante.be/activite/stand-activite-physique-11/
LOCATION:Agence Mutualité Socialiste du Luxembourg – Bertrix\, Rue de la Gare 18\, Bertrix\, 6880\, Belgium
CATEGORIES:Activité santé
ATTACH;FMTTYPE=image/jpeg:https://www.aucoeurdelasante.be/wp-content/uploads/2025/04/velo-bouger.jpg
END:VEVENT
BEGIN:VEVENT
DTSTART;TZID=UTC:20250410T090000
DTEND;TZID=UTC:20250410T120000
DTSTAMP:20260423T092624
CREATED:20250331T131225Z
LAST-MODIFIED:20250331T131246Z
UID:3590-1744275600-1744286400@www.aucoeurdelasante.be
SUMMARY:Les Fruits et Légumes Belges et de Saison
DESCRIPTION:Découvrez le calendrier des fruits et légumes belges et de saison ! \nNous vous invitons à un moment convivial où vous recevrez un calendrier des fruits et légumes belges de saison. Ce calendrier vous aidera à faire vos courses en choisissant des produits frais\, bons pour la santé et à prix abordables. Pourquoi c’est important ?Manger de saison\, c’est bon pour votre santé et pour votre porte-monnaie ! Les fruits et légumes de saison sont souvent moins chers et plus savoureux. Ils sont aussi meilleurs pour l’environnement. \nAdresse : \nAgence Solidaris TournaiRue Barre Saint-Brice 20\,7500 TournaiBelgique
URL:https://www.aucoeurdelasante.be/activite/les-fruits-et-legumes-belges-et-de-saison-9/
LOCATION:Agence Solidaris (Tournai)\, Rue Barre Saint-Brice 20\, Tournai\, 7500\, Belgium
CATEGORIES:Activité santé
ATTACH;FMTTYPE=image/jpeg:https://www.aucoeurdelasante.be/wp-content/uploads/2025/03/calendrier.jpg
END:VEVENT
BEGIN:VEVENT
DTSTART;TZID=UTC:20250410T090000
DTEND;TZID=UTC:20250410T123000
DTSTAMP:20260423T092624
CREATED:20250402T121817Z
LAST-MODIFIED:20250402T121817Z
UID:3621-1744275600-1744288200@www.aucoeurdelasante.be
SUMMARY:Stand Activité Physique
DESCRIPTION:Passez par notre stand pour tester votre niveau d’activité physique et obtenir des conseils pratiques. Une occasion simple et rapide de mieux comprendre l’importance de bouger pour votre santé. Venez nombreux ! \nAdresse : \nAgence Mutualité Socialiste du Luxembourg – BastogneRue Joseph Renquin 36\,6600 Bastogne
URL:https://www.aucoeurdelasante.be/activite/stand-activite-physique-12/
LOCATION:Agence Mutualité Socialiste du Luxembourg – Bastogne\, Rue Joseph Renquin 36\, Bastogne\, 6600\, Belgium
CATEGORIES:Activité santé
ATTACH;FMTTYPE=image/jpeg:https://www.aucoeurdelasante.be/wp-content/uploads/2025/03/bouger-plus.jpg
END:VEVENT
BEGIN:VEVENT
DTSTART;TZID=UTC:20250410T174500
DTEND;TZID=UTC:20250410T194500
DTSTAMP:20260423T092624
CREATED:20250402T130049Z
LAST-MODIFIED:20250402T130049Z
UID:3632-1744307100-1744314300@www.aucoeurdelasante.be
SUMMARY:Je dis Santé
DESCRIPTION:Crème solaire et après solaire. Et si on les faisait maison ? \nVotre santé est notre priorité ! Ensemble\, réveillons le meilleur de vous-même. \nLes ateliers santé\, c’est chaque jeudi en avril de 17h45 à 19h45 à La Hestre. \nAdresse : \nAgence Solidaris La HestreRue Ferrer 114\,7170 La Hestre
URL:https://www.aucoeurdelasante.be/activite/je-dis-sante-2/
LOCATION:Agence Solidaris (La Hestre)\, Rue Ferrer 114\, La Hestre\, 7170\, Belgium
CATEGORIES:Activité santé
ATTACH;FMTTYPE=image/jpeg:https://www.aucoeurdelasante.be/wp-content/uploads/2025/04/creme-solaire.jpg
END:VEVENT
BEGIN:VEVENT
DTSTART;TZID=UTC:20250411T090000
DTEND;TZID=UTC:20250411T123000
DTSTAMP:20260423T092624
CREATED:20250402T122301Z
LAST-MODIFIED:20250402T122301Z
UID:3625-1744362000-1744374600@www.aucoeurdelasante.be
SUMMARY:Stand Activité Physique
DESCRIPTION:Passez par notre stand pour tester votre niveau d’activité physique et obtenir des conseils pratiques. Une occasion simple et rapide de mieux comprendre l’importance de bouger pour votre santé. Venez nombreux ! \nAdresse : \nAgence Mutualité Socialiste du Luxembourg – VirtonRoute d’Arlon 90a\,6760 Virton
URL:https://www.aucoeurdelasante.be/activite/stand-activite-physique-13/
LOCATION:Agence Mutualité Socialiste du Luxembourg – Virton\, Route d’Arlon 90a\, Virton\, 6760\, Belgium
CATEGORIES:Activité santé
ATTACH;FMTTYPE=image/jpeg:https://www.aucoeurdelasante.be/wp-content/uploads/2025/04/bouger-ensemble.jpg
END:VEVENT
BEGIN:VEVENT
DTSTART;TZID=UTC:20250416T090000
DTEND;TZID=UTC:20250416T123000
DTSTAMP:20260423T092624
CREATED:20250331T110931Z
LAST-MODIFIED:20250331T110931Z
UID:3583-1744794000-1744806600@www.aucoeurdelasante.be
SUMMARY:Stand Activité Physique
DESCRIPTION:Passez par notre stand pour tester votre niveau d’activité physique et obtenir des conseils pratiques. Une occasion simple et rapide de mieux comprendre l’importance de bouger pour votre santé. Venez nombreux ! \nAdresse : \nAgence Solidaris WavrePlace Alphonse Bosch 25\,1300 Wavre  
URL:https://www.aucoeurdelasante.be/activite/stand-activite-physique-4/
LOCATION:Agence Solidaris Wavre\, Place Alphonse Bosch 25\, Wavre\, 1300\, Belgium
CATEGORIES:Activité santé
ATTACH;FMTTYPE=image/jpeg:https://www.aucoeurdelasante.be/wp-content/uploads/2025/03/stand-activite-physique.jpg
END:VEVENT
BEGIN:VEVENT
DTSTART;TZID=UTC:20250417T090000
DTEND;TZID=UTC:20250417T120000
DTSTAMP:20260423T092624
CREATED:20250331T131733Z
LAST-MODIFIED:20250331T131733Z
UID:3592-1744880400-1744891200@www.aucoeurdelasante.be
SUMMARY:Stand Activité Physique
DESCRIPTION:Passez par notre stand pour tester votre niveau d’activité physique et obtenir des conseils pratiques. Une occasion simple et rapide de mieux comprendre l’importance de bouger pour votre santé. Venez nombreux ! \nAdresse : \nAgence Solidaris NamurRue de la Tour 2\,5000 Namur
URL:https://www.aucoeurdelasante.be/activite/stand-activite-physique-5/
LOCATION:La maison des associations\, Rue de Tohogne 14\, Hamoir\, 4180\, Belgium
CATEGORIES:Activité santé
ATTACH;FMTTYPE=image/jpeg:https://www.aucoeurdelasante.be/wp-content/uploads/2025/03/activite-physique.jpg
END:VEVENT
BEGIN:VEVENT
DTSTART;TZID=UTC:20250417T090000
DTEND;TZID=UTC:20250417T120000
DTSTAMP:20260423T092624
CREATED:20250331T132749Z
LAST-MODIFIED:20250331T132749Z
UID:3595-1744880400-1744891200@www.aucoeurdelasante.be
SUMMARY:Les Fruits et Légumes Belges et de Saison
DESCRIPTION:Découvrez le calendrier des fruits et légumes belges et de saison ! \nNous vous invitons à un moment convivial où vous recevrez un calendrier des fruits et légumes belges de saison. Ce calendrier vous aidera à faire vos courses en choisissant des produits frais\, bons pour la santé et à prix abordables. Pourquoi c’est important ?Manger de saison\, c’est bon pour votre santé et pour votre porte-monnaie ! Les fruits et légumes de saison sont souvent moins chers et plus savoureux. Ils sont aussi meilleurs pour l’environnement. \nAdresse : \nAgence Solidaris Saint-GhislainRue Louis Caty 135\,7331 Saint-GhislainBelgique
URL:https://www.aucoeurdelasante.be/activite/les-fruits-et-legumes-belges-et-de-saison-10/
LOCATION:Agence Solidaris (Saint-Ghislain)\, Rue Louis Caty 135\, Saint-Ghislain\, 7331\, Belgium
CATEGORIES:Activité santé
ATTACH;FMTTYPE=image/jpeg:https://www.aucoeurdelasante.be/wp-content/uploads/2025/03/fruits-belges.jpg
END:VEVENT
BEGIN:VEVENT
DTSTART;TZID=UTC:20250417T174500
DTEND;TZID=UTC:20250417T194500
DTSTAMP:20260423T092624
CREATED:20250402T131847Z
LAST-MODIFIED:20250402T131847Z
UID:3635-1744911900-1744919100@www.aucoeurdelasante.be
SUMMARY:Je dis Santé
DESCRIPTION:Et si vous gardiez ou retrouviez votre mobilité en bougeant un peu chaque jour\, sans avoir besoin de longues séances ? \nVotre santé est notre priorité ! Ensemble\, réveillons le meilleur de vous-même. \nLes ateliers santé\, c’est chaque jeudi en avril de 17h45 à 19h45 à La Hestre. \nAdresse : \nAgence Solidaris La HestreRue Ferrer 114\,7170 La Hestre
URL:https://www.aucoeurdelasante.be/activite/je-dis-sante-3/
LOCATION:Agence Solidaris (La Hestre)\, Rue Ferrer 114\, La Hestre\, 7170\, Belgium
CATEGORIES:Activité santé
ATTACH;FMTTYPE=image/jpeg:https://www.aucoeurdelasante.be/wp-content/uploads/2025/04/bouger-plus-vivre-mieux.jpg
END:VEVENT
BEGIN:VEVENT
DTSTART;TZID=UTC:20250422T090000
DTEND;TZID=UTC:20250422T120000
DTSTAMP:20260423T092624
CREATED:20250331T134939Z
LAST-MODIFIED:20250331T134939Z
UID:3601-1745312400-1745323200@www.aucoeurdelasante.be
SUMMARY:Stand Activité Physique
DESCRIPTION:Passez par notre stand pour tester votre niveau d’activité physique et obtenir des conseils pratiques. Une occasion simple et rapide de mieux comprendre l’importance de bouger pour votre santé. Venez nombreux ! \nAdresse : \nAgence Solidaris CharleroiAvenue des Alliés 2\,6000 Charleroi
URL:https://www.aucoeurdelasante.be/activite/stand-activite-physique-7/
LOCATION:Agence Solidaris (Charleroi)\, Avenue des Alliés 2\, Charleroi\, 6000\, Belgium
CATEGORIES:Activité santé
ATTACH;FMTTYPE=image/jpeg:https://www.aucoeurdelasante.be/wp-content/uploads/2024/09/marche-1.jpg
END:VEVENT
BEGIN:VEVENT
DTSTART;TZID=UTC:20250422T090000
DTEND;TZID=UTC:20250422T123000
DTSTAMP:20260423T092624
CREATED:20250331T134608Z
LAST-MODIFIED:20250331T134608Z
UID:3598-1745312400-1745325000@www.aucoeurdelasante.be
SUMMARY:Stand Activité Physique
DESCRIPTION:Passez par notre stand pour tester votre niveau d’activité physique et obtenir des conseils pratiques. Une occasion simple et rapide de mieux comprendre l’importance de bouger pour votre santé. Venez nombreux ! \nAdresse : \nAgence Solidaris Court-Saint-EtienneRue Emile Henricot 64 b\,1490 Court-Saint-Etienne
URL:https://www.aucoeurdelasante.be/activite/stand-activite-physique-6/
LOCATION:Agence Solidaris (Court St Etienne)\, Rue Emile Henricot 64B\, Court St Etienne\, 1490\, Belgium
CATEGORIES:Activité santé
ATTACH;FMTTYPE=image/jpeg:https://www.aucoeurdelasante.be/wp-content/uploads/2025/03/bouger-plus.jpg
END:VEVENT
BEGIN:VEVENT
DTSTART;TZID=UTC:20250423T090000
DTEND;TZID=UTC:20250423T120000
DTSTAMP:20260423T092624
CREATED:20250402T075427Z
LAST-MODIFIED:20250402T075427Z
UID:3603-1745398800-1745409600@www.aucoeurdelasante.be
SUMMARY:Stand Activité Physique
DESCRIPTION:Passez par notre stand pour tester votre niveau d’activité physique et obtenir des conseils pratiques. Une occasion simple et rapide de mieux comprendre l’importance de bouger pour votre santé. Venez nombreux ! \nAdresse : \nAgence Solidaris TournaiRue Barre Saint-Brice 20\,7500 Tournai
URL:https://www.aucoeurdelasante.be/activite/stand-activite-physique-8/
LOCATION:Agence Solidaris (Tournai)\, Rue Barre Saint-Brice 20\, Tournai\, 7500\, Belgium
CATEGORIES:Activité santé
ATTACH;FMTTYPE=image/jpeg:https://www.aucoeurdelasante.be/wp-content/uploads/2025/04/bouger-ensemble.jpg
END:VEVENT
BEGIN:VEVENT
DTSTART;TZID=UTC:20250424T174500
DTEND;TZID=UTC:20250424T194500
DTSTAMP:20260423T092624
CREATED:20250402T132842Z
LAST-MODIFIED:20250402T140427Z
UID:3638-1745516700-1745523900@www.aucoeurdelasante.be
SUMMARY:Je dis Santé
DESCRIPTION:Les émotions… Encombrantes ou utiles ? \nVotre santé est notre priorité ! Ensemble\, réveillons le meilleur de vous-même. \nLes ateliers santé\, c’est chaque jeudi en avril de 17h45 à 19h45 à La Hestre. \nAdresse : \nAgence Solidaris La HestreRue Ferrer 114\,7170 La Hestre
URL:https://www.aucoeurdelasante.be/activite/je-dis-sante-4/
LOCATION:Agence Solidaris (La Hestre)\, Rue Ferrer 114\, La Hestre\, 7170\, Belgium
CATEGORIES:Activité santé
ATTACH;FMTTYPE=image/jpeg:https://www.aucoeurdelasante.be/wp-content/uploads/2025/04/emotions.jpg
END:VEVENT
END:VCALENDAR