BEGIN:VCALENDAR
VERSION:2.0
PRODID:-//Au coeur de la santé - ECPv6.15.20//NONSGML v1.0//EN
CALSCALE:GREGORIAN
METHOD:PUBLISH
X-ORIGINAL-URL:https://www.aucoeurdelasante.be
X-WR-CALDESC:Évènements pour Au coeur de la santé
REFRESH-INTERVAL;VALUE=DURATION:PT1H
X-Robots-Tag:noindex
X-PUBLISHED-TTL:PT1H
BEGIN:VTIMEZONE
TZID:UTC
BEGIN:STANDARD
TZOFFSETFROM:+0000
TZOFFSETTO:+0000
TZNAME:UTC
DTSTART:20240101T000000
END:STANDARD
END:VTIMEZONE
BEGIN:VEVENT
DTSTART;TZID=UTC:20250106T143000
DTEND;TZID=UTC:20250630T153000
DTSTAMP:20260423T075135
CREATED:20241121T103135Z
LAST-MODIFIED:20241121T131730Z
UID:3334-1736173800-1751297400@www.aucoeurdelasante.be
SUMMARY:Ateliers Yoga inclusif
DESCRIPTION:LUNDI\,  de 14h30 à 15h30 avec Marta \nLe yoga est une pratique douce basée sur la respiration et les postures. Elle vise à équilibrer le corps et l’esprit.\nLors des séances de yoga inclusif\, les postures sont adaptées aux besoins des personnes en situation de handicap. \nAdresse : \nEspace Gendebien (salle 5)\nBoulevard Gendebien 6\n7000 Mons \n2025 : 06/01\, 13/01\, 20/01\, 27/01\, 03/02\, 10/02\, 17/02\, 10/03\, 17/03\, 24/03\, 31/03\, 07/04\, 14/04\, 12/05\, 19/05\, 26/05\, 02/06\, 23/06\, 30/06 \nPrix 2ème semestre : 95€ (19 séances) \nInscriptions : \nVous pouvez vous inscrire en ligne ici : Ateliers santé mieux-être – Les Associations Solidaris \nCONTACT\nSoralia Mons-Borinage\n068/84 84 98\nsoralia.mwp@solidaris.be\nlesassociationssolidaris.be
URL:https://www.aucoeurdelasante.be/activite/yoga-inclusif-mons-ateliers-sante-mieux-etre/
LOCATION:Agence Solidaris (Mons)\, Boulevard Gendebien 6\, Mons\, 7000\, Belgium
CATEGORIES:Activité santé
ATTACH;FMTTYPE=image/jpeg:https://www.aucoeurdelasante.be/wp-content/uploads/2024/11/yoga-inclusif-2.jpg
END:VEVENT
BEGIN:VEVENT
DTSTART;TZID=UTC:20250106T160000
DTEND;TZID=UTC:20250630T170000
DTSTAMP:20260423T075135
CREATED:20241121T131525Z
LAST-MODIFIED:20241121T131525Z
UID:3390-1736179200-1751302800@www.aucoeurdelasante.be
SUMMARY:Ateliers de Tai Chi
DESCRIPTION:LUNDI\,  de 16h à 17h avec Patricia \nLe Tai Chi est une forme douce d’art martial. Il se compose d’une série de mouvements qui permettent une meilleure maîtrise de soi (physique et mentale).\nSes bienfaits sont nombreux : tonicité musculaire\, souplesse\, équilibre et coordination des mouvements. Durant les cours\, nous proposons des applications martiales\, mais aucun combat entre participants. \nAdresse : \nEspace Gendebien (salle 5)\nBoulevard Gendebien 6\n7000 Mons \n2025 : 06/01\, 13/01\, 20/01\, 27/01\, 03/02\, 10/02\, 17/02\, 10/03\, 17/03\, 24/03\, 31/03\, 07/04\, 14/04\, 12/05\, 19/05\, 26/05\, 02/06\, 23/06\, 30/06 \nPrix 2ème semestre : 95€ (19 séances) \nInscriptions : \nVous pouvez vous inscrire en ligne ici : Ateliers santé mieux-être – Les Associations Solidaris \nCONTACT\nSoralia Mons-Borinage\n068/84 84 98\nsoralia.mwp@solidaris.be\nlesassociationssolidaris.be
URL:https://www.aucoeurdelasante.be/activite/ateliers-de-tai-chi/
LOCATION:Agence Solidaris (Mons)\, Boulevard Gendebien 6\, Mons\, 7000\, Belgium
CATEGORIES:Activité santé
ATTACH;FMTTYPE=image/jpeg:https://www.aucoeurdelasante.be/wp-content/uploads/2024/11/tai-chi.jpg
END:VEVENT
BEGIN:VEVENT
DTSTART;TZID=UTC:20250108T103000
DTEND;TZID=UTC:20250625T113000
DTSTAMP:20260423T075135
CREATED:20241121T130910Z
LAST-MODIFIED:20241217T082438Z
UID:3395-1736332200-1750851000@www.aucoeurdelasante.be
SUMMARY:Ateliers de Stretching
DESCRIPTION:MERCREDI\,  de 10h30 à 11h30 avec Aurélie : \nRejoignez notre cours de stretching pour améliorer votre souplesse\, libérer les tensions et entretenir votre bien-être corporel.\nChaque semaine\, un rendez-vous matinal incontournable pour se revitaliser dans un environnement dynamique et motivant\, en bénéficiant de l’énergie du groupe. \nAdresse : \nEspace Gendebien (salle 5)\nBoulevard Gendebien 6\n7000 Mons \n2025 : 08/01\, 15/01\, 22/01\, 29/01\, 05/02\, 12/02\, 19/02\, 26/03\, 02/04\, 09/04\, 16/04\, 23/04\, 14/05\, 21/05\, 28/05\, 04/06\, 11/06\, 18/06\, 25/06\nPrix 2ème semestre : 95€ (19 séances) \nInscriptions : \nVous pouvez vous inscrire en ligne ici : Ateliers santé mieux-être – Les Associations Solidaris \nContact : \nSoralia Mons-Borinage\n068/84 84 98\nsoralia.mwp@solidaris.be\nlesassociationssolidaris.be
URL:https://www.aucoeurdelasante.be/activite/ateliers-de-stretching/
LOCATION:Agence Solidaris (Mons)\, Boulevard Gendebien 6\, Mons\, 7000\, Belgium
CATEGORIES:Activité santé
ATTACH;FMTTYPE=image/jpeg:https://www.aucoeurdelasante.be/wp-content/uploads/2024/11/stretching-2.jpg
END:VEVENT
BEGIN:VEVENT
DTSTART;TZID=UTC:20250108T103000
DTEND;TZID=UTC:20250625T113000
DTSTAMP:20260423T075135
CREATED:20241121T131253Z
LAST-MODIFIED:20250102T122643Z
UID:3398-1736332200-1750851000@www.aucoeurdelasante.be
SUMMARY:Ateliers de Pilates
DESCRIPTION:MERCREDI\,  de 10h30 à 11h30 avec Hassiba \nLe Pilates est une méthode de renforcement des muscles profonds\, responsables de la posture. Il permet d’améliorer la conscience de son corps\, de sa force et de ses limites pour mieux s’en servir.\nLes cours de Pilates s’adressent à tout le monde car les exercices ne sont ni violents\, ni traumatisants pour le corps. \nAdresse : \nEspace Gendebien (salle 5)\nBoulevard Gendebien 6\n7000 Mons \n2025 : 08/01\, 15/01\, 22/01\, 29/01\, 05/02\, 12/02\, 19/02\, 12/03\, 19/03\, 26/03\, 02/04\, 09/04\, 16/04\, 23/04\, 14/05\, 21/05\, 28/05\, 04/06\, 11/06\, 18/06\, 25/06 \nPrix 2ème semestre : 105€ (21 séances) \nInscriptions : \nVous pouvez  vous inscrire en ligne ici : Ateliers santé mieux-être – Les Associations Solidaris \nContact : \nSoralia Mons-Borinage\n068/84 84 98\nsoralia.mwp@solidaris.be\nlesassociationssolidaris.be
URL:https://www.aucoeurdelasante.be/activite/ateliers-de-pilates/
LOCATION:Agence Solidaris (Mons)\, Boulevard Gendebien 6\, Mons\, 7000\, Belgium
CATEGORIES:Activité santé
ATTACH;FMTTYPE=image/jpeg:https://www.aucoeurdelasante.be/wp-content/uploads/2024/11/pilates-2.jpg
END:VEVENT
BEGIN:VEVENT
DTSTART;TZID=UTC:20250508T090000
DTEND;TZID=UTC:20250508T120000
DTSTAMP:20260423T075135
CREATED:20250423T083806Z
LAST-MODIFIED:20250514T122302Z
UID:3666-1746694800-1746705600@www.aucoeurdelasante.be
SUMMARY:Libérez-vous du tabac
DESCRIPTION:Libérez-vous du tabac \n En parler peut déjà vous aider… \nSolidaris organise ses actions de prévention sur les bienfaits du sevrage tabagique dans ses points de contact.  \nNos agents de prévention seront disponibles également pour vous accompagner dans votre démarche de vous libérer du tabac. \nAdresse : \nAgence Solidaris FrameriesAvenue des Nouvelles Technologies 24\,7080 Frameries
URL:https://www.aucoeurdelasante.be/activite/liberez-vous-du-tabac/
LOCATION:Agence Solidaris (Frameries)\, Avenue des Nouvelles Technologies 24\, Frameries\, 7080\, Belgium
CATEGORIES:Activité santé
ATTACH;FMTTYPE=image/jpeg:https://www.aucoeurdelasante.be/wp-content/uploads/2025/04/sevrage-tabagique.jpg
END:VEVENT
BEGIN:VEVENT
DTSTART;TZID=UTC:20250512T133000
DTEND;TZID=UTC:20250512T163000
DTSTAMP:20260423T075135
CREATED:20250422T075457Z
LAST-MODIFIED:20250422T075604Z
UID:3647-1747056600-1747067400@www.aucoeurdelasante.be
SUMMARY:Ateliers Activité Physique (séance 1/3)
DESCRIPTION:Solidaris vous propose des ateliers de coaching pour découvrir les activités physiques qui vous correspondent\, selon votre rythme\, vos envies et votre quotidien ! \n\nCycle de 3 ateliers gratuits\nPour les personnes de 50 à 65 ans\nEncadrés par des professionnels\n\nVous voulez être plus actif\, mais ne savez pas par où commencer ?Ces ateliers vous aident à comprendre vos habitudes\, à trouver des activités qui vous plaisent et à les intégrer facilement dans votre quotidien ! \nLors de cette première séance\, nous discuterons du mouvement dans votre quotidien autour d’activités ludiques. \nInformations pratiques : \nPas de tenue particulière exigée\, votre tenue de ville suffit. \nInscriptions :– par téléphone au 081 777.225 ou– par email à communication325@solidaris.beLes inscriptions sont obligatoires et le nombre de places est limité. \nAdresse : \nAgence Solidaris Namur\,Rue de la Tour 2\,5000 Namur
URL:https://www.aucoeurdelasante.be/activite/ateliers-activite-physique-seance-1/
LOCATION:La maison des associations\, Rue de Tohogne 14\, Hamoir\, 4180\, Belgium
CATEGORIES:Activité santé
ATTACH;FMTTYPE=image/jpeg:https://www.aucoeurdelasante.be/wp-content/uploads/2025/04/bouger-plus-vivre-mieux.jpg
END:VEVENT
BEGIN:VEVENT
DTSTART;TZID=UTC:20250514T093000
DTEND;TZID=UTC:20250514T123000
DTSTAMP:20260423T075135
CREATED:20250423T084246Z
LAST-MODIFIED:20250514T122231Z
UID:3669-1747215000-1747225800@www.aucoeurdelasante.be
SUMMARY:Libérez-vous du tabac
DESCRIPTION:Libérez-vous du tabac \n En parler peut déjà vous aider… \nSolidaris organise ses actions de prévention sur les bienfaits du sevrage tabagique dans ses points de contact.  \nNos agents de prévention seront disponibles également pour vous accompagner dans votre démarche de vous libérer du tabac. \nAdresse : \nAgence Solidaris TubizeRue de mons 71\,1480 Tubize
URL:https://www.aucoeurdelasante.be/activite/liberez-vous-du-tabac-2/
CATEGORIES:Activité santé
ATTACH;FMTTYPE=image/jpeg:https://www.aucoeurdelasante.be/wp-content/uploads/2025/04/2150445989-1.jpg
END:VEVENT
BEGIN:VEVENT
DTSTART;TZID=UTC:20250515T090000
DTEND;TZID=UTC:20250515T120000
DTSTAMP:20260423T075135
CREATED:20250423T085004Z
LAST-MODIFIED:20250514T122218Z
UID:3672-1747299600-1747310400@www.aucoeurdelasante.be
SUMMARY:Libérez-vous du tabac
DESCRIPTION:Libérez-vous du tabac \n En parler peut déjà vous aider… \nSolidaris organise ses actions de prévention sur les bienfaits du sevrage tabagique dans ses points de contact.  \nNos agents de prévention seront disponibles également pour vous accompagner dans votre démarche de vous libérer du tabac. \nAdresse : \nAgence Solidaris PhilippevilleRue de France 35\,5600 Philippeville
URL:https://www.aucoeurdelasante.be/activite/liberez-vous-du-tabac-3/
LOCATION:Agence Solidaris Philippeville\, Rue de France 35\, Philippeville\, 5600\, Belgium
CATEGORIES:Activité santé
ATTACH;FMTTYPE=image/jpeg:https://www.aucoeurdelasante.be/wp-content/uploads/2025/04/1181-1.jpg
END:VEVENT
BEGIN:VEVENT
DTSTART;TZID=UTC:20250519T093000
DTEND;TZID=UTC:20250519T123000
DTSTAMP:20260423T075135
CREATED:20250514T124708Z
LAST-MODIFIED:20250514T124708Z
UID:3764-1747647000-1747657800@www.aucoeurdelasante.be
SUMMARY:Libérez-vous du tabac
DESCRIPTION:Libérez-vous du tabac \n En parler peut déjà vous aider… \nSolidaris organise ses actions de prévention sur les bienfaits du sevrage tabagique dans ses points de contact.  \nNos agents de prévention seront disponibles également pour vous accompagner dans votre démarche de vous libérer du tabac. \nAdresse : \nAgence Solidaris WavrePlace Alphonse Bosch 25\,1300 Wavre
URL:https://www.aucoeurdelasante.be/activite/liberez-vous-du-tabac-14/
LOCATION:Agence Solidaris Wavre\, Place Alphonse Bosch 25\, Wavre\, 1300\, Belgium
CATEGORIES:Activité santé
ATTACH;FMTTYPE=image/jpeg:https://www.aucoeurdelasante.be/wp-content/uploads/2025/04/envie-darreter-de-fumer.jpg
END:VEVENT
BEGIN:VEVENT
DTSTART;TZID=UTC:20250521T090000
DTEND;TZID=UTC:20250521T120000
DTSTAMP:20260423T075135
CREATED:20250423T085353Z
LAST-MODIFIED:20250514T122214Z
UID:3678-1747818000-1747828800@www.aucoeurdelasante.be
SUMMARY:Libérez-vous du tabac
DESCRIPTION:Libérez-vous du tabac \n En parler peut déjà vous aider… \nSolidaris organise ses actions de prévention sur les bienfaits du sevrage tabagique dans ses points de contact.  \nNos agents de prévention seront disponibles également pour vous accompagner dans votre démarche de vous libérer du tabac. \nAdresse : \nAgence Mutualité Socialiste du Luxembourg – BertrixRue de la Gare 18\,6880 Bertrix
URL:https://www.aucoeurdelasante.be/activite/liberez-vous-du-tabac-4/
LOCATION:Agence Mutualité Socialiste du Luxembourg – Bertrix\, Rue de la Gare 18\, Bertrix\, 6880\, Belgium
CATEGORIES:Activité santé
ATTACH;FMTTYPE=image/jpeg:https://www.aucoeurdelasante.be/wp-content/uploads/2025/04/845-1.jpg
END:VEVENT
BEGIN:VEVENT
DTSTART;TZID=UTC:20250522T090000
DTEND;TZID=UTC:20250522T120000
DTSTAMP:20260423T075135
CREATED:20250423T091827Z
LAST-MODIFIED:20250514T122137Z
UID:3681-1747904400-1747915200@www.aucoeurdelasante.be
SUMMARY:Libérez-vous du tabac
DESCRIPTION:Libérez-vous du tabac \n En parler peut déjà vous aider… \nSolidaris organise ses actions de prévention sur les bienfaits du sevrage tabagique dans ses points de contact.  \nNos agents de prévention seront disponibles également pour vous accompagner dans votre démarche de vous libérer du tabac. \nAdresse : \nAgence Solidaris AthRue du Fort 48\,7800 Ath
URL:https://www.aucoeurdelasante.be/activite/liberez-vous-du-tabac-5/
LOCATION:Agence Solidaris (Ath)\, Rue du Fort 48\, Ath\, 7800\, Belgium
CATEGORIES:Activité santé
ATTACH;FMTTYPE=image/jpeg:https://www.aucoeurdelasante.be/wp-content/uploads/2025/04/23827-1.jpg
END:VEVENT
BEGIN:VEVENT
DTSTART;TZID=UTC:20250522T090000
DTEND;TZID=UTC:20250522T120000
DTSTAMP:20260423T075135
CREATED:20250423T092610Z
LAST-MODIFIED:20250514T122128Z
UID:3684-1747904400-1747915200@www.aucoeurdelasante.be
SUMMARY:Libérez-vous du tabac
DESCRIPTION:Libérez-vous du tabac \n En parler peut déjà vous aider… \nSolidaris organise ses actions de prévention sur les bienfaits du sevrage tabagique dans ses points de contact.  \nNos agents de prévention seront disponibles également pour vous accompagner dans votre démarche de vous libérer du tabac. \nAdresse : \nAgence Solidaris CharleroiAvenue des Alliés 2\,6000 Charleroi
URL:https://www.aucoeurdelasante.be/activite/liberez-vous-du-tabac-6/
LOCATION:Agence Solidaris (Charleroi)\, Avenue des Alliés 2\, Charleroi\, 6000\, Belgium
CATEGORIES:Activité santé
ATTACH;FMTTYPE=image/jpeg:https://www.aucoeurdelasante.be/wp-content/uploads/2025/04/envie-darreter-de-fumer.jpg
END:VEVENT
BEGIN:VEVENT
DTSTART;TZID=UTC:20250522T133000
DTEND;TZID=UTC:20250522T163000
DTSTAMP:20260423T075135
CREATED:20250422T080004Z
LAST-MODIFIED:20250422T080004Z
UID:3651-1747920600-1747931400@www.aucoeurdelasante.be
SUMMARY:Ateliers Activité Physique (séance 2/3)
DESCRIPTION:Solidaris vous propose des ateliers de coaching pour découvrir les activités physiques qui vous correspondent\, selon votre rythme\, vos envies et votre quotidien ! \n\nCycle de 3 ateliers gratuits\nPour les personnes de 50 à 65 ans\nEncadrés par des professionnels\n\nVous voulez être plus actif\, mais ne savez pas par où commencer ?Ces ateliers vous aident à comprendre vos habitudes\, à trouver des activités qui vous plaisent et à les intégrer facilement dans votre quotidien ! \nLors de cette deuxième séance\, vous explorerez vos forces et vos motivations. \nInformations pratiques : \nPas de tenue particulière exigée\, votre tenue de ville suffit. \nInscriptions :– par téléphone au 081 777.225 ou– par email à communication325@solidaris.beLes inscriptions sont obligatoires et le nombre de places est limité. \nAdresse : \nAgence Solidaris Namur\,Rue de la Tour 2\,5000 Namur
URL:https://www.aucoeurdelasante.be/activite/ateliers-activite-physique-seance-2-3/
LOCATION:La maison des associations\, Rue de Tohogne 14\, Hamoir\, 4180\, Belgium
CATEGORIES:Activité santé
ATTACH;FMTTYPE=image/jpeg:https://www.aucoeurdelasante.be/wp-content/uploads/2025/03/stand-activite-physique.jpg
END:VEVENT
BEGIN:VEVENT
DTSTART;TZID=UTC:20250523T090000
DTEND;TZID=UTC:20250523T120000
DTSTAMP:20260423T075135
CREATED:20250423T093905Z
LAST-MODIFIED:20250514T122117Z
UID:3687-1747990800-1748001600@www.aucoeurdelasante.be
SUMMARY:Libérez-vous du tabac
DESCRIPTION:Libérez-vous du tabac \n En parler peut déjà vous aider… \nSolidaris organise ses actions de prévention sur les bienfaits du sevrage tabagique dans ses points de contact.  \nNos agents de prévention seront disponibles également pour vous accompagner dans votre démarche de vous libérer du tabac. \nAdresse : \nAgence Mutualité Socialiste du Luxembourg – Marche-en-FamenneRue Neuve 1\,6900 Marche-en-Famenne
URL:https://www.aucoeurdelasante.be/activite/liberez-vous-du-tabac-7/
LOCATION:Agence Mutualité Socialiste du Luxembourg (Marche-en-Famenne)\, Rue Neuve 1\, Marche-en-Famenne\, 6900\, Belgium
CATEGORIES:Activité santé
ATTACH;FMTTYPE=image/jpeg:https://www.aucoeurdelasante.be/wp-content/uploads/2025/04/tabagisme-passif.jpg
END:VEVENT
BEGIN:VEVENT
DTSTART;TZID=UTC:20250524T083000
DTEND;TZID=UTC:20250524T120000
DTSTAMP:20260423T075135
CREATED:20250506T115822Z
LAST-MODIFIED:20250506T115910Z
UID:3703-1748075400-1748088000@www.aucoeurdelasante.be
SUMMARY:Grande Marche annuelle
DESCRIPTION:Partez à la découverte du village d’Estinnes-au-Mont en empruntant gratuitement l’un de nos circuits de : 3\, 5 ou 8 kilomètres. \nInformations pratiques : \nQuand ? Samedi 24 mai 2025 à partir de 8h30\, dernier départ à 12h00. \nInscriptions : \n\npar téléphone: Secrétariat de Médecine Interne 064 27 60 73\npar email : vjeanmar@chu-tivoli.be\n\nAdresse : \nSalon Communal d’Estinnes-au-Mont\,Chaussée de Brunehaut 232\,7120 Estinnes-au-Mont \n  \nCet événement est en partenariat avec le CHU de Tivoli et le Plan de Cohésion Sociale d’Estinnes-au-Mont.
URL:https://www.aucoeurdelasante.be/activite/grande-marche-annuelle/
LOCATION:Salon Communal d’Estinnes-au-Mont\, Chaussée Brunehaut 232\, Estinnes-au-Mont\, 7120\, Belgium
CATEGORIES:Activité santé
ATTACH;FMTTYPE=image/jpeg:https://www.aucoeurdelasante.be/wp-content/uploads/2025/05/marche-annuelle-estinnes.jpg
END:VEVENT
BEGIN:VEVENT
DTSTART;TZID=UTC:20250526T090000
DTEND;TZID=UTC:20250526T120000
DTSTAMP:20260423T075135
CREATED:20250423T095516Z
LAST-MODIFIED:20250514T122108Z
UID:3690-1748250000-1748260800@www.aucoeurdelasante.be
SUMMARY:Libérez-vous du tabac
DESCRIPTION:Libérez-vous du tabac \n En parler peut déjà vous aider… \nSolidaris organise ses actions de prévention sur les bienfaits du sevrage tabagique dans ses points de contact.  \nNos agents de prévention seront disponibles également pour vous accompagner dans votre démarche de vous libérer du tabac. \nAdresse : \nAgence Solidaris MarcinelleAvenue Eugène Mascaux 291\,6001 Marcinelle
URL:https://www.aucoeurdelasante.be/activite/liberez-vous-du-tabac-8/
LOCATION:Agence Solidaris Marcinelle\, Avenue Eugène Mascaux 291\, Marcinelle\, 6001\, Belgium
CATEGORIES:Activité santé
ATTACH;FMTTYPE=image/jpeg:https://www.aucoeurdelasante.be/wp-content/uploads/2025/04/sevrage-tabagique-2.jpg
END:VEVENT
BEGIN:VEVENT
DTSTART;TZID=UTC:20250527T090000
DTEND;TZID=UTC:20250527T120000
DTSTAMP:20260423T075135
CREATED:20250423T103019Z
LAST-MODIFIED:20250514T122058Z
UID:3696-1748336400-1748347200@www.aucoeurdelasante.be
SUMMARY:Libérez-vous du tabac
DESCRIPTION:Libérez-vous du tabac \n En parler peut déjà vous aider… \nSolidaris organise ses actions de prévention sur les bienfaits du sevrage tabagique dans ses points de contact.  \nNos agents de prévention seront disponibles également pour vous accompagner dans votre démarche de vous libérer du tabac. \nAdresse : \nAgence Solidaris La HestreRue Ferrer 114\,7170 La Hestre
URL:https://www.aucoeurdelasante.be/activite/liberez-vous-du-tabac-9/
LOCATION:Agence Solidaris (La Hestre)\, Rue Ferrer 114\, La Hestre\, 7170\, Belgium
CATEGORIES:Activité santé
ATTACH;FMTTYPE=image/jpeg:https://www.aucoeurdelasante.be/wp-content/uploads/2025/04/tabacologue-1.jpg
END:VEVENT
BEGIN:VEVENT
DTSTART;TZID=UTC:20250527T093000
DTEND;TZID=UTC:20250527T123000
DTSTAMP:20260423T075135
CREATED:20250423T103921Z
LAST-MODIFIED:20250514T122012Z
UID:3699-1748338200-1748349000@www.aucoeurdelasante.be
SUMMARY:Libérez-vous du tabac
DESCRIPTION:Libérez-vous du tabac \n En parler peut déjà vous aider… \nSolidaris organise ses actions de prévention sur les bienfaits du sevrage tabagique dans ses points de contact.  \nNos agents de prévention seront disponibles également pour vous accompagner dans votre démarche de vous libérer du tabac. \nAdresse : \nAgence Solidaris MouscronRue du Val 8\,7700 Mouscron
URL:https://www.aucoeurdelasante.be/activite/liberez-vous-du-tabac-10/
LOCATION:Agence Solidaris (Mouscron)\, Rue du Val 2\, Mouscron\, 7700\, Belgium
CATEGORIES:Activité santé
ATTACH;FMTTYPE=image/jpeg:https://www.aucoeurdelasante.be/wp-content/uploads/2025/04/sevrage-tabagique.jpg
END:VEVENT
BEGIN:VEVENT
DTSTART;TZID=UTC:20250527T133000
DTEND;TZID=UTC:20250527T163000
DTSTAMP:20260423T075135
CREATED:20250422T083436Z
LAST-MODIFIED:20250422T083500Z
UID:3653-1748352600-1748363400@www.aucoeurdelasante.be
SUMMARY:Ateliers Activité Physique (séance 3/3)
DESCRIPTION:Solidaris vous propose des ateliers de coaching pour découvrir les activités physiques qui vous correspondent\, selon votre rythme\, vos envies et votre quotidien ! \n\nCycle de 3 ateliers gratuits\nPour les personnes de 50 à 65 ans\nEncadrés par des professionnels\n\nVous voulez être plus actif\, mais ne savez pas par où commencer ?Ces ateliers vous aident à comprendre vos habitudes\, à trouver des activités qui vous plaisent et à les intégrer facilement dans votre quotidien ! \nLors de cette troisième séance\, vous sortirez de cet atelier avec les ressources nécessaires pour atteindre vos objectifs. \nInformations pratiques : \nPas de tenue particulière exigée\, votre tenue de ville suffit. \nInscriptions :– par téléphone au 081 777.225 ou– par email à communication325@solidaris.beLes inscriptions sont obligatoires et le nombre de places est limité. \nAdresse : \nAgence Solidaris Namur\,Rue de la Tour 2\,5000 Namur
URL:https://www.aucoeurdelasante.be/activite/ateliers-activite-physique-seance-3-3/
LOCATION:La maison des associations\, Rue de Tohogne 14\, Hamoir\, 4180\, Belgium
CATEGORIES:Activité santé
ATTACH;FMTTYPE=image/jpeg:https://www.aucoeurdelasante.be/wp-content/uploads/2025/04/actif.jpg
END:VEVENT
END:VCALENDAR