BEGIN:VCALENDAR
VERSION:2.0
PRODID:-//Au coeur de la santé - ECPv6.15.20//NONSGML v1.0//EN
CALSCALE:GREGORIAN
METHOD:PUBLISH
X-ORIGINAL-URL:https://www.aucoeurdelasante.be
X-WR-CALDESC:Évènements pour Au coeur de la santé
REFRESH-INTERVAL;VALUE=DURATION:PT1H
X-Robots-Tag:noindex
X-PUBLISHED-TTL:PT1H
BEGIN:VTIMEZONE
TZID:UTC
BEGIN:STANDARD
TZOFFSETFROM:+0000
TZOFFSETTO:+0000
TZNAME:UTC
DTSTART:20240101T000000
END:STANDARD
END:VTIMEZONE
BEGIN:VEVENT
DTSTART;TZID=UTC:20250703T083000
DTEND;TZID=UTC:20250703T120000
DTSTAMP:20260423T042449
CREATED:20250605T085816Z
LAST-MODIFIED:20250605T090658Z
UID:3795-1751531400-1751544000@www.aucoeurdelasante.be
SUMMARY:Sensibilisation sur le Diabète
DESCRIPTION:Avec Solidaris\, il est possible de faire un test de glycémie gratuit au marché de Jambes.  Cela permet déjà d’avoir une idée du taux de sucre que l’on a dans le sang et si on est une personne à risque. \nAdresse : \nMarché de JambesAvenues Materne et Bovesse\,5100 JambesBelgique
URL:https://www.aucoeurdelasante.be/activite/sensibilisation-sur-le-diabete-3/
LOCATION:Marché de Philippeville\, Place d'Armes\, Philippeville\, 5600\, Belgium
CATEGORIES:Activité santé
ATTACH;FMTTYPE=image/jpeg:https://www.aucoeurdelasante.be/wp-content/uploads/2024/10/risque-diabete.jpg
END:VEVENT
BEGIN:VEVENT
DTSTART;TZID=UTC:20250704T083000
DTEND;TZID=UTC:20250704T120000
DTSTAMP:20260423T042449
CREATED:20250605T090602Z
LAST-MODIFIED:20250605T090622Z
UID:3798-1751617800-1751630400@www.aucoeurdelasante.be
SUMMARY:Sensibilisation sur le Diabète
DESCRIPTION:Avec Solidaris\, il est possible de faire un test de glycémie gratuit au marché d’Andenne.  Cela permet déjà d’avoir une idée du taux de sucre que l’on a dans le sang et si on est une personne à risque. \nAdresse : \nMarché d’AndennePlace des Tilleuls\,5300 AndenneBelgique
URL:https://www.aucoeurdelasante.be/activite/sensibilisation-sur-le-diabete-4/
LOCATION:Marché de Philippeville\, Place d'Armes\, Philippeville\, 5600\, Belgium
CATEGORIES:Activité santé
ATTACH;FMTTYPE=image/jpeg:https://www.aucoeurdelasante.be/wp-content/uploads/2024/10/article-prevention-diabete.jpg
END:VEVENT
BEGIN:VEVENT
DTSTART;TZID=UTC:20250705T080000
DTEND;TZID=UTC:20250705T120000
DTSTAMP:20260423T042449
CREATED:20250626T091913Z
LAST-MODIFIED:20250605T091947Z
UID:3803-1751702400-1751716800@www.aucoeurdelasante.be
SUMMARY:Sensibilisation sur le Diabète
DESCRIPTION:Avec Solidaris\, il est possible de faire un test de glycémie gratuit au marché de Philippeville.  Cela permet déjà d’avoir une idée du taux de sucre que l’on a dans le sang et si on est une personne à risque. \nAdresse : \nMarché de PhilippevillePlace d’Armes\,5600 PhilippevilleBelgique
URL:https://www.aucoeurdelasante.be/activite/sensibilisation-sur-le-diabete-5/
LOCATION:Marché de Philippeville\, Place d'Armes\, Philippeville\, 5600\, Belgium
CATEGORIES:Activité santé
ATTACH;FMTTYPE=image/jpeg:https://www.aucoeurdelasante.be/wp-content/uploads/2024/10/diabete-1.jpg
END:VEVENT
BEGIN:VEVENT
DTSTART;TZID=UTC:20250707T093000
DTEND;TZID=UTC:20250707T120000
DTSTAMP:20260423T042449
CREATED:20250703T100019Z
LAST-MODIFIED:20250703T101613Z
UID:3818-1751880600-1751889600@www.aucoeurdelasante.be
SUMMARY:Sensibilisation fortes chaleurs
DESCRIPTION:« Canicule : adoptez les bons gestes » (selon les conditions météo) \nEn cas de fortes chaleurs\, certains réflexes simples peuvent prévenir des risques pour la santé. Notre stand vous informe sur les bons gestes à adopter et vous donne des conseils utiles\, notamment sur la composition d’une pharmacie de voyage adaptée à l’été. \nAdresse : \nAgence Solidaris TubizeRue de Mons 71\,1480 TubizeBelgique
URL:https://www.aucoeurdelasante.be/activite/sensibilisation-fortes-chaleurs/
LOCATION:Agence Solidaris Tubize\, Rue de Mons 71\, Tubize\, 1480\, Belgium
CATEGORIES:Activité santé
ATTACH;FMTTYPE=image/jpeg:https://www.aucoeurdelasante.be/wp-content/uploads/2025/07/fortes-chaleurs.jpg
END:VEVENT
BEGIN:VEVENT
DTSTART;TZID=UTC:20250710T090000
DTEND;TZID=UTC:20250710T120000
DTSTAMP:20260423T042449
CREATED:20250703T103418Z
LAST-MODIFIED:20250703T103418Z
UID:3829-1752138000-1752148800@www.aucoeurdelasante.be
SUMMARY:Sensibilisation fortes chaleurs
DESCRIPTION:« Canicule : adoptez les bons gestes » (selon les conditions météo) \nEn cas de fortes chaleurs\, certains réflexes simples peuvent prévenir des risques pour la santé. Notre stand vous informe sur les bons gestes à adopter et vous donne des conseils utiles\, notamment sur la composition d’une pharmacie de voyage adaptée à l’été. \nAdresse : \nAgence Solidaris NamurRue de la Tour 2\,5000 NamurBelgique
URL:https://www.aucoeurdelasante.be/activite/sensibilisation-fortes-chaleurs-2/
LOCATION:La maison des associations\, Rue de Tohogne 14\, Hamoir\, 4180\, Belgium
CATEGORIES:Activité santé
ATTACH;FMTTYPE=image/jpeg:https://www.aucoeurdelasante.be/wp-content/uploads/2025/07/fortes-chaleurs-2.jpg
END:VEVENT
BEGIN:VEVENT
DTSTART;TZID=UTC:20250715T093000
DTEND;TZID=UTC:20250715T123000
DTSTAMP:20260423T042449
CREATED:20250715T130029Z
LAST-MODIFIED:20250715T130029Z
UID:3834-1752571800-1752582600@www.aucoeurdelasante.be
SUMMARY:Sensibilisation fortes chaleurs
DESCRIPTION:« Canicule : adoptez les bons gestes » (selon les conditions météo) \nEn cas de fortes chaleurs\, certains réflexes simples peuvent prévenir des risques pour la santé. Notre stand vous informe sur les bons gestes à adopter et vous donne des conseils utiles\, notamment sur la composition d’une pharmacie de voyage adaptée à l’été. \nAdresse : \nAgence Solidaris WavrePlace Alphonse Bosch 25\,1300 WavreBelgique
URL:https://www.aucoeurdelasante.be/activite/sensibilisation-fortes-chaleurs-3/
LOCATION:Agence Solidaris Wavre\, Place Alphonse Bosch 25\, Wavre\, 1300\, Belgium
CATEGORIES:Activité santé
ATTACH;FMTTYPE=image/jpeg:https://www.aucoeurdelasante.be/wp-content/uploads/2025/07/fortes-chaleurs-2.jpg
END:VEVENT
BEGIN:VEVENT
DTSTART;TZID=UTC:20250722T090000
DTEND;TZID=UTC:20250722T120000
DTSTAMP:20260423T042449
CREATED:20250715T130311Z
LAST-MODIFIED:20250715T130311Z
UID:3836-1753174800-1753185600@www.aucoeurdelasante.be
SUMMARY:Sensibilisation fortes chaleurs
DESCRIPTION:« Canicule : adoptez les bons gestes » (selon les conditions météo) \nEn cas de fortes chaleurs\, certains réflexes simples peuvent prévenir des risques pour la santé. Notre stand vous informe sur les bons gestes à adopter et vous donne des conseils utiles\, notamment sur la composition d’une pharmacie de voyage adaptée à l’été. \nAdresse : \nAgence Solidaris MonsBoulevard Gendebien 6\,7000 MonsBelgique
URL:https://www.aucoeurdelasante.be/activite/sensibilisation-fortes-chaleurs-4/
LOCATION:Agence Solidaris (Mons)\, Boulevard Gendebien 6\, Mons\, 7000\, Belgium
CATEGORIES:Activité santé
ATTACH;FMTTYPE=image/jpeg:https://www.aucoeurdelasante.be/wp-content/uploads/2025/07/fortes-chaleurs.jpg
END:VEVENT
BEGIN:VEVENT
DTSTART;TZID=UTC:20250722T093000
DTEND;TZID=UTC:20250722T123000
DTSTAMP:20260423T042449
CREATED:20250715T130413Z
LAST-MODIFIED:20250715T130817Z
UID:3838-1753176600-1753187400@www.aucoeurdelasante.be
SUMMARY:Sensibilisation fortes chaleurs
DESCRIPTION:« Canicule : adoptez les bons gestes » (selon les conditions météo) \nEn cas de fortes chaleurs\, certains réflexes simples peuvent prévenir des risques pour la santé. Notre stand vous informe sur les bons gestes à adopter et vous donne des conseils utiles\, notamment sur la composition d’une pharmacie de voyage adaptée à l’été. \nAdresse : \nAgence Solidaris Braine-l’AlleudAvenue de la Belle Province 1\,1420 Braine-l’AlleudBelgique
URL:https://www.aucoeurdelasante.be/activite/sensibilisation-fortes-chaleurs-5/
LOCATION:Agence Solidaris (Braine-l’Alleud)\, Avenue de la Belle Province\, 1\, Braine-l'Alleud\, 1420\, Belgium
CATEGORIES:Activité santé
ATTACH;FMTTYPE=image/jpeg:https://www.aucoeurdelasante.be/wp-content/uploads/2025/07/fortes-chaleurs-4-e1753691151905.jpg
END:VEVENT
BEGIN:VEVENT
DTSTART;TZID=UTC:20250724T090000
DTEND;TZID=UTC:20250724T120000
DTSTAMP:20260423T042449
CREATED:20250715T130429Z
LAST-MODIFIED:20250715T130429Z
UID:3840-1753347600-1753358400@www.aucoeurdelasante.be
SUMMARY:Sensibilisation fortes chaleurs
DESCRIPTION:« Canicule : adoptez les bons gestes » (selon les conditions météo) \nEn cas de fortes chaleurs\, certains réflexes simples peuvent prévenir des risques pour la santé. Notre stand vous informe sur les bons gestes à adopter et vous donne des conseils utiles\, notamment sur la composition d’une pharmacie de voyage adaptée à l’été. \nAdresse : \nAgence Solidaris Saint-GhislainRue Louis Caty 135\,7331 Saint-GhislainBelgique
URL:https://www.aucoeurdelasante.be/activite/sensibilisation-fortes-chaleurs-6/
LOCATION:Agence Solidaris (Saint-Ghislain)\, Rue Louis Caty 135\, Saint-Ghislain\, 7331\, Belgium
CATEGORIES:Activité santé
ATTACH;FMTTYPE=image/jpeg:https://www.aucoeurdelasante.be/wp-content/uploads/2025/07/fortes-chaleurs-2.jpg
END:VEVENT
BEGIN:VEVENT
DTSTART;TZID=UTC:20250728T093000
DTEND;TZID=UTC:20250728T123000
DTSTAMP:20260423T042449
CREATED:20250715T130454Z
LAST-MODIFIED:20250715T130859Z
UID:3842-1753695000-1753705800@www.aucoeurdelasante.be
SUMMARY:Sensibilisation fortes chaleurs
DESCRIPTION:« Canicule : adoptez les bons gestes » (selon les conditions météo) \nEn cas de fortes chaleurs\, certains réflexes simples peuvent prévenir des risques pour la santé. Notre stand vous informe sur les bons gestes à adopter et vous donne des conseils utiles\, notamment sur la composition d’une pharmacie de voyage adaptée à l’été. \nAdresse : \nAgence Solidaris Court-Saint-EtienneRue Emile Henricot 64/B\,1490 Court-Saint-EtienneBelgique
URL:https://www.aucoeurdelasante.be/activite/sensibilisation-fortes-chaleurs-7/
LOCATION:Agence Solidaris (Court St Etienne)\, Rue Emile Henricot 64B\, Court St Etienne\, 1490\, Belgium
CATEGORIES:Activité santé
ATTACH;FMTTYPE=image/jpeg:https://www.aucoeurdelasante.be/wp-content/uploads/2025/07/fortes-chaleurs-3-e1753691262897.jpg
END:VEVENT
BEGIN:VEVENT
DTSTART;TZID=UTC:20250731T090000
DTEND;TZID=UTC:20250731T120000
DTSTAMP:20260423T042449
CREATED:20250715T130504Z
LAST-MODIFIED:20250715T130504Z
UID:3843-1753952400-1753963200@www.aucoeurdelasante.be
SUMMARY:Sensibilisation fortes chaleurs
DESCRIPTION:« Canicule : adoptez les bons gestes » (selon les conditions météo) \nEn cas de fortes chaleurs\, certains réflexes simples peuvent prévenir des risques pour la santé. Notre stand vous informe sur les bons gestes à adopter et vous donne des conseils utiles\, notamment sur la composition d’une pharmacie de voyage adaptée à l’été. \nAdresse : \nAgence Solidaris TournaiRue Barre Saint-Brice 20\,7500 TournaiBelgique
URL:https://www.aucoeurdelasante.be/activite/sensibilisation-fortes-chaleurs-8/
LOCATION:Agence Solidaris (Tournai)\, Rue Barre Saint-Brice 20\, Tournai\, 7500\, Belgium
CATEGORIES:Activité santé
ATTACH;FMTTYPE=image/jpeg:https://www.aucoeurdelasante.be/wp-content/uploads/2025/07/fortes-chaleurs.jpg
END:VEVENT
END:VCALENDAR