BEGIN:VCALENDAR
VERSION:2.0
PRODID:-//Au coeur de la santé - ECPv6.15.20//NONSGML v1.0//EN
CALSCALE:GREGORIAN
METHOD:PUBLISH
X-WR-CALNAME:Au coeur de la santé
X-ORIGINAL-URL:https://www.aucoeurdelasante.be
X-WR-CALDESC:Évènements pour Au coeur de la santé
REFRESH-INTERVAL;VALUE=DURATION:PT1H
X-Robots-Tag:noindex
X-PUBLISHED-TTL:PT1H
BEGIN:VTIMEZONE
TZID:UTC
BEGIN:STANDARD
TZOFFSETFROM:+0000
TZOFFSETTO:+0000
TZNAME:UTC
DTSTART:20240101T000000
END:STANDARD
END:VTIMEZONE
BEGIN:VEVENT
DTSTART;TZID=UTC:20250904T090000
DTEND;TZID=UTC:20250904T120000
DTSTAMP:20260423T005559
CREATED:20250826T082838Z
LAST-MODIFIED:20250826T101915Z
UID:3859-1756976400-1756987200@www.aucoeurdelasante.be
SUMMARY:Sensibilisation aux maladies cardiovasculaires
DESCRIPTION:« Agir ensemble pour un coeur en santé » \nLes maladies cardiovasculaires ne sont pas une fatalité. À travers notre stand de prévention\, découvrez comment prendre soin de votre cœur. Activité physique\, alimentation\, gestion du stress\, réduction du tabac : autant de pistes à explorer ensemble pour améliorer votre bien-être. \nAdresse : \nAgence Solidaris AthRue du Fort 48\,7800 AthBelgique
URL:https://www.aucoeurdelasante.be/activite/sensibilisation-aux-maladies-cardiovasculaires/
LOCATION:Agence Solidaris (Ath)\, Rue du Fort 48\, Ath\, 7800\, Belgium
CATEGORIES:Activité santé
ATTACH;FMTTYPE=image/jpeg:https://www.aucoeurdelasante.be/wp-content/uploads/2025/08/activite-physique-maladies-cardiovasculaires-e1756203544959.jpg
END:VEVENT
BEGIN:VEVENT
DTSTART;TZID=UTC:20250908T090000
DTEND;TZID=UTC:20250908T120000
DTSTAMP:20260423T005559
CREATED:20250826T102413Z
LAST-MODIFIED:20250826T120258Z
UID:3864-1757322000-1757332800@www.aucoeurdelasante.be
SUMMARY:Sensibilisation aux maladies cardiovasculaires
DESCRIPTION:« Agir ensemble pour un coeur en santé » \nLes maladies cardiovasculaires ne sont pas une fatalité. À travers notre stand de prévention\, découvrez comment prendre soin de votre cœur. Activité physique\, alimentation\, gestion du stress\, réduction du tabac : autant de pistes à explorer ensemble pour améliorer votre bien-être. \nAdresse : \nAgence Solidaris MonsBoulevard Gendebien 6\,7000 MonsBelgique
URL:https://www.aucoeurdelasante.be/activite/sensibilisation-aux-maladies-cardiovasculaires-2/
LOCATION:Agence Solidaris (Mons)\, Boulevard Gendebien 6\, Mons\, 7000\, Belgium
CATEGORIES:Activité santé
ATTACH;FMTTYPE=image/jpeg:https://www.aucoeurdelasante.be/wp-content/uploads/2025/08/alimentation-maladies-cardiovasculaires-2-1-e1756209772542.jpg
END:VEVENT
BEGIN:VEVENT
DTSTART;TZID=UTC:20250911T090000
DTEND;TZID=UTC:20250911T120000
DTSTAMP:20260423T005559
CREATED:20250826T103052Z
LAST-MODIFIED:20250826T103126Z
UID:3868-1757581200-1757592000@www.aucoeurdelasante.be
SUMMARY:Sensibilisation aux maladies cardiovasculaires
DESCRIPTION:« Agir ensemble pour un coeur en santé » \nLes maladies cardiovasculaires ne sont pas une fatalité. À travers notre stand de prévention\, découvrez comment prendre soin de votre cœur. Activité physique\, alimentation\, gestion du stress\, réduction du tabac : autant de pistes à explorer ensemble pour améliorer votre bien-être. \nAdresse : \nAgence Solidaris TournaiRue Barre Saint-Brice 20\,7500 TournaiBelgique
URL:https://www.aucoeurdelasante.be/activite/sensibilisation-aux-maladies-cardiovasculaires-3/
LOCATION:Agence Solidaris (Tournai)\, Rue Barre Saint-Brice 20\, Tournai\, 7500\, Belgium
CATEGORIES:Activité santé
ATTACH;FMTTYPE=image/jpeg:https://www.aucoeurdelasante.be/wp-content/uploads/2025/08/meditation-maladies-cardiovasculaires-respiration-calme-3-e1756204279895.jpg
END:VEVENT
BEGIN:VEVENT
DTSTART;TZID=UTC:20250915T093000
DTEND;TZID=UTC:20250915T123000
DTSTAMP:20260423T005559
CREATED:20250826T103526Z
LAST-MODIFIED:20250826T120642Z
UID:3871-1757928600-1757939400@www.aucoeurdelasante.be
SUMMARY:Sensibilisation aux maladies cardiovasculaires
DESCRIPTION:« Agir ensemble pour un coeur en santé » \nLes maladies cardiovasculaires ne sont pas une fatalité. À travers notre stand de prévention\, découvrez comment prendre soin de votre cœur. Activité physique\, alimentation\, gestion du stress\, réduction du tabac : autant de pistes à explorer ensemble pour améliorer votre bien-être. \nAdresse : \nAgence Solidaris WavrePlace Alphonse Bosch 25\,1300 WavreBelgique
URL:https://www.aucoeurdelasante.be/activite/sensibilisation-aux-maladies-cardiovasculaires-4/
LOCATION:Agence Solidaris Wavre\, Place Alphonse Bosch 25\, Wavre\, 1300\, Belgium
CATEGORIES:Activité santé
ATTACH;FMTTYPE=image/jpeg:https://www.aucoeurdelasante.be/wp-content/uploads/2025/08/meditation-maladies-cardiovasculaires-respiration-calme-2-e1756209996216.jpg
END:VEVENT
BEGIN:VEVENT
DTSTART;TZID=UTC:20250917T090000
DTEND;TZID=UTC:20250917T120000
DTSTAMP:20260423T005559
CREATED:20250826T122612Z
LAST-MODIFIED:20250826T122612Z
UID:3876-1758099600-1758110400@www.aucoeurdelasante.be
SUMMARY:Sensibilisation aux maladies cardiovasculaires
DESCRIPTION:« Agir ensemble pour un coeur en santé » \nLes maladies cardiovasculaires ne sont pas une fatalité. À travers notre stand de prévention\, découvrez comment prendre soin de votre cœur. Activité physique\, alimentation\, gestion du stress\, réduction du tabac : autant de pistes à explorer ensemble pour améliorer votre bien-être. \nAdresse : \nAgence Solidaris MouscronRue du Val 8\,7700 MouscronBelgique
URL:https://www.aucoeurdelasante.be/activite/sensibilisation-aux-maladies-cardiovasculaires-5/
LOCATION:Agence Solidaris (Mouscron)\, Rue du Val 2\, Mouscron\, 7700\, Belgium
CATEGORIES:Activité santé
ATTACH;FMTTYPE=image/jpeg:https://www.aucoeurdelasante.be/wp-content/uploads/2025/08/activite-physique-maladies-cardiovasculaires-e1756203544959.jpg
END:VEVENT
BEGIN:VEVENT
DTSTART;TZID=UTC:20250918T083000
DTEND;TZID=UTC:20250918T120000
DTSTAMP:20260423T005559
CREATED:20250826T123336Z
LAST-MODIFIED:20250826T123336Z
UID:3878-1758184200-1758196800@www.aucoeurdelasante.be
SUMMARY:Sensibilisation aux maladies cardiovasculaires
DESCRIPTION:« Agir ensemble pour un coeur en santé » \nLes maladies cardiovasculaires ne sont pas une fatalité. À travers notre stand de prévention\, découvrez comment prendre soin de votre cœur. Activité physique\, alimentation\, gestion du stress\, réduction du tabac : autant de pistes à explorer ensemble pour améliorer votre bien-être. \nAdresse : \nAgence Solidaris PhilippevilleRue de France 35\,5600 PhilippevilleBelgique
URL:https://www.aucoeurdelasante.be/activite/sensibilisation-aux-maladies-cardiovasculaires-6/
LOCATION:Agence Solidaris Philippeville\, Rue de France 35\, Philippeville\, 5600\, Belgium
CATEGORIES:Activité santé
ATTACH;FMTTYPE=image/jpeg:https://www.aucoeurdelasante.be/wp-content/uploads/2025/08/alimentation-maladies-cardiovasculaires-2-1-e1756209772542.jpg
END:VEVENT
BEGIN:VEVENT
DTSTART;TZID=UTC:20250922T090000
DTEND;TZID=UTC:20250922T120000
DTSTAMP:20260423T005559
CREATED:20250826T123826Z
LAST-MODIFIED:20250826T123908Z
UID:3882-1758531600-1758542400@www.aucoeurdelasante.be
SUMMARY:Sensibilisation aux maladies cardiovasculaires
DESCRIPTION:« Agir ensemble pour un coeur en santé » \nLes maladies cardiovasculaires ne sont pas une fatalité. À travers notre stand de prévention\, découvrez comment prendre soin de votre cœur. Activité physique\, alimentation\, gestion du stress\, réduction du tabac : autant de pistes à explorer ensemble pour améliorer votre bien-être. \nAdresse : \nAgence Solidaris BaudourRue Louis Caty 135\,7331 Saint-GhislainBelgique
URL:https://www.aucoeurdelasante.be/activite/sensibilisation-aux-maladies-cardiovasculaires-8/
LOCATION:Agence Solidaris (Baudour)\, Rue Louis Caty 135\, Baudour\, 7331\, Belgium
CATEGORIES:Activité santé
ATTACH;FMTTYPE=image/jpeg:https://www.aucoeurdelasante.be/wp-content/uploads/2025/08/meditation-maladies-cardiovasculaires-respiration-calme-3-e1756204279895.jpg
END:VEVENT
BEGIN:VEVENT
DTSTART;TZID=UTC:20250922T093000
DTEND;TZID=UTC:20250922T123000
DTSTAMP:20260423T005559
CREATED:20250826T123641Z
LAST-MODIFIED:20250826T123915Z
UID:3880-1758533400-1758544200@www.aucoeurdelasante.be
SUMMARY:Sensibilisation aux maladies cardiovasculaires
DESCRIPTION:« Agir ensemble pour un coeur en santé » \nLes maladies cardiovasculaires ne sont pas une fatalité. À travers notre stand de prévention\, découvrez comment prendre soin de votre cœur. Activité physique\, alimentation\, gestion du stress\, réduction du tabac : autant de pistes à explorer ensemble pour améliorer votre bien-être. \nAdresse : \nAgence Solidaris NivellesRue St Andre 1\,1400 NivellesBelgique
URL:https://www.aucoeurdelasante.be/activite/sensibilisation-aux-maladies-cardiovasculaires-7/
LOCATION:Agence Solidaris (Nivelles)\, Rue Saint André\, 1\, Nivelles\, 1400\, Belgium
CATEGORIES:Activité santé
ATTACH;FMTTYPE=image/jpeg:https://www.aucoeurdelasante.be/wp-content/uploads/2025/08/meditation-maladies-cardiovasculaires-respiration-calme-2-e1756209996216.jpg
END:VEVENT
BEGIN:VEVENT
DTSTART;TZID=UTC:20250925T090000
DTEND;TZID=UTC:20250925T120000
DTSTAMP:20260423T005559
CREATED:20250826T124044Z
LAST-MODIFIED:20250826T124532Z
UID:3884-1758790800-1758801600@www.aucoeurdelasante.be
SUMMARY:Sensibilisation aux maladies cardiovasculaires
DESCRIPTION:« Agir ensemble pour un coeur en santé » \nLes maladies cardiovasculaires ne sont pas une fatalité. À travers notre stand de prévention\, découvrez comment prendre soin de votre cœur. Activité physique\, alimentation\, gestion du stress\, réduction du tabac : autant de pistes à explorer ensemble pour améliorer votre bien-être. \nAdresse : \nAgence Solidaris FrameriesAvenue des Nouvelles Technologies 24\,7080 FrameriesBelgique
URL:https://www.aucoeurdelasante.be/activite/sensibilisation-aux-maladies-cardiovasculaires-9/
LOCATION:Agence Solidaris (Frameries)\, Avenue des Nouvelles Technologies 24\, Frameries\, 7080\, Belgium
CATEGORIES:Activité santé
ATTACH;FMTTYPE=image/jpeg:https://www.aucoeurdelasante.be/wp-content/uploads/2025/08/alimentation-maladies-cardiovasculaires-2-1-e1756209772542.jpg
END:VEVENT
BEGIN:VEVENT
DTSTART;TZID=UTC:20250925T090000
DTEND;TZID=UTC:20250925T120000
DTSTAMP:20260423T005559
CREATED:20250826T124205Z
LAST-MODIFIED:20250826T124406Z
UID:3886-1758790800-1758801600@www.aucoeurdelasante.be
SUMMARY:Sensibilisation aux maladies cardiovasculaires
DESCRIPTION:« Agir ensemble pour un coeur en santé » \nLes maladies cardiovasculaires ne sont pas une fatalité. À travers notre stand de prévention\, découvrez comment prendre soin de votre cœur. Activité physique\, alimentation\, gestion du stress\, réduction du tabac : autant de pistes à explorer ensemble pour améliorer votre bien-être. \nAdresse : \nAgence Solidaris Fosses-la-VilleRue du Cimetière 48\,5070 Fosses-la-VilleBelgique
URL:https://www.aucoeurdelasante.be/activite/sensibilisation-aux-maladies-cardiovasculaires-10/
LOCATION:Agence Solidaris (Fosses-la-Ville)\, Rue du Cimetière 4B\, Fosses-la-Ville\, 5070\, Belgium
CATEGORIES:Activité santé
ATTACH;FMTTYPE=image/jpeg:https://www.aucoeurdelasante.be/wp-content/uploads/2025/08/activite-physique-maladies-cardiovasculaires-e1756203544959.jpg
END:VEVENT
BEGIN:VEVENT
DTSTART;TZID=UTC:20250929T093000
DTEND;TZID=UTC:20250929T123000
DTSTAMP:20260423T005559
CREATED:20250826T124739Z
LAST-MODIFIED:20250826T124739Z
UID:3892-1759138200-1759149000@www.aucoeurdelasante.be
SUMMARY:Sensibilisation aux maladies cardiovasculaires
DESCRIPTION:« Agir ensemble pour un coeur en santé » \nLes maladies cardiovasculaires ne sont pas une fatalité. À travers notre stand de prévention\, découvrez comment prendre soin de votre cœur. Activité physique\, alimentation\, gestion du stress\, réduction du tabac : autant de pistes à explorer ensemble pour améliorer votre bien-être. \nAdresse : \nAgence Solidaris JodoigneAvenue des Commandants Borlée 33\,1370 JodoigneBelgique
URL:https://www.aucoeurdelasante.be/activite/sensibilisation-aux-maladies-cardiovasculaires-11/
LOCATION:Agence Solidaris (Jodoigne)\, Avenue des Combattants Borlée 33\, Jodoigne\, 1370\, Belgium
CATEGORIES:Activité santé
ATTACH;FMTTYPE=image/jpeg:https://www.aucoeurdelasante.be/wp-content/uploads/2025/08/meditation-maladies-cardiovasculaires-respiration-calme-3-e1756204279895.jpg
END:VEVENT
END:VCALENDAR