BEGIN:VCALENDAR
VERSION:2.0
PRODID:-//Au coeur de la santé - ECPv6.15.20//NONSGML v1.0//EN
CALSCALE:GREGORIAN
METHOD:PUBLISH
X-WR-CALNAME:Au coeur de la santé
X-ORIGINAL-URL:https://www.aucoeurdelasante.be
X-WR-CALDESC:Évènements pour Au coeur de la santé
REFRESH-INTERVAL;VALUE=DURATION:PT1H
X-Robots-Tag:noindex
X-PUBLISHED-TTL:PT1H
BEGIN:VTIMEZONE
TZID:UTC
BEGIN:STANDARD
TZOFFSETFROM:+0000
TZOFFSETTO:+0000
TZNAME:UTC
DTSTART:20240101T000000
END:STANDARD
END:VTIMEZONE
BEGIN:VEVENT
DTSTART;TZID=UTC:20251002T090000
DTEND;TZID=UTC:20251002T120000
DTSTAMP:20260422T232625
CREATED:20250826T125010Z
LAST-MODIFIED:20250826T125010Z
UID:3894-1759395600-1759406400@www.aucoeurdelasante.be
SUMMARY:Sensibilisation aux maladies cardiovasculaires
DESCRIPTION:« Agir ensemble pour un coeur en santé » \nLes maladies cardiovasculaires ne sont pas une fatalité. À travers notre stand de prévention\, découvrez comment prendre soin de votre cœur. Activité physique\, alimentation\, gestion du stress\, réduction du tabac : autant de pistes à explorer ensemble pour améliorer votre bien-être. \nAdresse : \nCentre de Santé du NamuroisChaussée de Waterloo 182\,5720 Saint-ServaisBelgique
URL:https://www.aucoeurdelasante.be/activite/sensibilisation-aux-maladies-cardiovasculaires-12/
LOCATION:Centre de Santé du Namurois\, Chaussée de Waterloo\, 182\, Saint-Servais\, 5002\, Belgium
CATEGORIES:Activité santé
ATTACH;FMTTYPE=image/jpeg:https://www.aucoeurdelasante.be/wp-content/uploads/2025/08/meditation-maladies-cardiovasculaires-respiration-calme-2-e1756209996216.jpg
END:VEVENT
BEGIN:VEVENT
DTSTART;TZID=UTC:20251007T090000
DTEND;TZID=UTC:20251007T120000
DTSTAMP:20260422T232625
CREATED:20250925T085122Z
LAST-MODIFIED:20250925T095041Z
UID:3902-1759827600-1759838400@www.aucoeurdelasante.be
SUMMARY:Sensibilisation à la vaccination
DESCRIPTION:« La vaccination à tous les âges : agir pour la santé de tous » \nLa vaccination est un pilier essentiel de la prévention en santé. Notre équipe sera présente dans nos agences pour fournir des informations claires et fiables\, répondre aux questions\, et lever les doutes autour de la vaccination. \nAdresse : \nAgence Solidaris FrameriesAvenue des Nouvelles Technologies 24\,7080 FrameriesBelgique
URL:https://www.aucoeurdelasante.be/activite/sensibilisation-a-la-vaccination/
LOCATION:Agence Solidaris (Frameries)\, Avenue des Nouvelles Technologies 24\, Frameries\, 7080\, Belgium
CATEGORIES:Activité santé
ATTACH;FMTTYPE=image/jpeg:https://www.aucoeurdelasante.be/wp-content/uploads/2025/09/vaccin-1-1-e1758793833864.jpg
END:VEVENT
BEGIN:VEVENT
DTSTART;TZID=UTC:20251007T133000
DTEND;TZID=UTC:20251007T153000
DTSTAMP:20260422T232625
CREATED:20250925T085913Z
LAST-MODIFIED:20250925T095145Z
UID:3905-1759843800-1759851000@www.aucoeurdelasante.be
SUMMARY:Sensibilisation à la vaccination
DESCRIPTION:« La vaccination à tous les âges : agir pour la santé de tous » \nLa vaccination est un pilier essentiel de la prévention en santé. Notre équipe sera présente dans nos agences pour fournir des informations claires et fiables\, répondre aux questions\, et lever les doutes autour de la vaccination. \nAdresse : \nAgence Solidaris NamurRue de la Tour 2\,5000 NamurBelgique
URL:https://www.aucoeurdelasante.be/activite/sensibilisation-a-la-vaccination-2/
LOCATION:La maison des associations\, Rue de Tohogne 14\, Hamoir\, 4180\, Belgium
CATEGORIES:Activité santé
ATTACH;FMTTYPE=image/jpeg:https://www.aucoeurdelasante.be/wp-content/uploads/2025/09/vaccin-1-e1758793897218.jpg
END:VEVENT
BEGIN:VEVENT
DTSTART;TZID=UTC:20251009T090000
DTEND;TZID=UTC:20251009T120000
DTSTAMP:20260422T232625
CREATED:20250925T095419Z
LAST-MODIFIED:20250925T095502Z
UID:3915-1760000400-1760011200@www.aucoeurdelasante.be
SUMMARY:Sensibilisation à la vaccination
DESCRIPTION:« La vaccination à tous les âges : agir pour la santé de tous » \nLa vaccination est un pilier essentiel de la prévention en santé. Notre équipe sera présente dans nos agences pour fournir des informations claires et fiables\, répondre aux questions\, et lever les doutes autour de la vaccination. \nAdresse : \nAgence Solidaris Fosses-la-VilleRue du Cimetière 4B\,5070 Fosses-la-VilleBelgique
URL:https://www.aucoeurdelasante.be/activite/sensibilisation-a-la-vaccination-3/
LOCATION:Agence Solidaris (Fosses-la-Ville)\, Rue du Cimetière 4B\, Fosses-la-Ville\, 5070\, Belgium
CATEGORIES:Activité santé
ATTACH;FMTTYPE=image/jpeg:https://www.aucoeurdelasante.be/wp-content/uploads/2025/09/vaccin-3-e1758794095456.jpg
END:VEVENT
BEGIN:VEVENT
DTSTART;TZID=UTC:20251013T090000
DTEND;TZID=UTC:20251013T120000
DTSTAMP:20260422T232625
CREATED:20250925T095653Z
LAST-MODIFIED:20250925T095806Z
UID:3917-1760346000-1760356800@www.aucoeurdelasante.be
SUMMARY:Sensibilisation à la vaccination
DESCRIPTION:« La vaccination à tous les âges : agir pour la santé de tous » \nLa vaccination est un pilier essentiel de la prévention en santé. Notre équipe sera présente dans nos agences pour fournir des informations claires et fiables\, répondre aux questions\, et lever les doutes autour de la vaccination. \nAdresse : \nAgence Solidaris SoigniesRempart du Vieux Cimetière 15\,7060 SoigniesBelgique
URL:https://www.aucoeurdelasante.be/activite/sensibilisation-a-la-vaccination-4/
LOCATION:Agence Solidaris (Soignies)\, Rempart du Vieux Cimetière 15\, Soignies\, 7060\, Belgium
CATEGORIES:Activité santé
ATTACH;FMTTYPE=image/jpeg:https://www.aucoeurdelasante.be/wp-content/uploads/2025/09/vaccin-4-e1758794281661.jpg
END:VEVENT
BEGIN:VEVENT
DTSTART;TZID=UTC:20251013T093000
DTEND;TZID=UTC:20251013T123000
DTSTAMP:20260422T232625
CREATED:20250925T095917Z
LAST-MODIFIED:20250925T095917Z
UID:3919-1760347800-1760358600@www.aucoeurdelasante.be
SUMMARY:Sensibilisation à la vaccination
DESCRIPTION:« La vaccination à tous les âges : agir pour la santé de tous » \nLa vaccination est un pilier essentiel de la prévention en santé. Notre équipe sera présente dans nos agences pour fournir des informations claires et fiables\, répondre aux questions\, et lever les doutes autour de la vaccination. \nAdresse : \nAgence Solidaris WavrePlace Alphonse Bosch 25\,1300 WavreBelgique
URL:https://www.aucoeurdelasante.be/activite/sensibilisation-a-la-vaccination-5/
LOCATION:Agence Solidaris Wavre\, Place Alphonse Bosch 25\, Wavre\, 1300\, Belgium
CATEGORIES:Activité santé
ATTACH;FMTTYPE=image/jpeg:https://www.aucoeurdelasante.be/wp-content/uploads/2025/09/vaccin-1-1-e1758793833864.jpg
END:VEVENT
BEGIN:VEVENT
DTSTART;TZID=UTC:20251014T090000
DTEND;TZID=UTC:20251014T120000
DTSTAMP:20260422T232625
CREATED:20250925T100030Z
LAST-MODIFIED:20250925T100030Z
UID:3921-1760432400-1760443200@www.aucoeurdelasante.be
SUMMARY:Sensibilisation à la vaccination
DESCRIPTION:« La vaccination à tous les âges : agir pour la santé de tous » \nLa vaccination est un pilier essentiel de la prévention en santé. Notre équipe sera présente dans nos agences pour fournir des informations claires et fiables\, répondre aux questions\, et lever les doutes autour de la vaccination. \nAdresse : \nAgence Solidaris TournaiRue Barre Saint-Brice 20\,7500 TournaiBelgique
URL:https://www.aucoeurdelasante.be/activite/sensibilisation-a-la-vaccination-6/
LOCATION:Agence Solidaris (Tournai)\, Rue Barre Saint-Brice 20\, Tournai\, 7500\, Belgium
CATEGORIES:Activité santé
ATTACH;FMTTYPE=image/jpeg:https://www.aucoeurdelasante.be/wp-content/uploads/2025/09/vaccin-1-e1758793897218.jpg
END:VEVENT
BEGIN:VEVENT
DTSTART;TZID=UTC:20251016T090000
DTEND;TZID=UTC:20251016T120000
DTSTAMP:20260422T232625
CREATED:20250925T101806Z
LAST-MODIFIED:20250925T101806Z
UID:3923-1760605200-1760616000@www.aucoeurdelasante.be
SUMMARY:Sensibilisation à la vaccination
DESCRIPTION:« La vaccination à tous les âges : agir pour la santé de tous » \nLa vaccination est un pilier essentiel de la prévention en santé. Notre équipe sera présente dans nos agences pour fournir des informations claires et fiables\, répondre aux questions\, et lever les doutes autour de la vaccination. \nAdresse : \nAgence Solidaris CharleroiAvenue des Alliés 2\,6000 CharleroiBelgique
URL:https://www.aucoeurdelasante.be/activite/sensibilisation-a-la-vaccination-7/
LOCATION:Agence Solidaris (Charleroi)\, Avenue des Alliés 2\, Charleroi\, 6000\, Belgium
CATEGORIES:Activité santé
ATTACH;FMTTYPE=image/jpeg:https://www.aucoeurdelasante.be/wp-content/uploads/2025/09/vaccin-3-e1758794095456.jpg
END:VEVENT
BEGIN:VEVENT
DTSTART;TZID=UTC:20251020T084500
DTEND;TZID=UTC:20251020T123000
DTSTAMP:20260422T232625
CREATED:20250925T102322Z
LAST-MODIFIED:20250925T102322Z
UID:3925-1760949900-1760963400@www.aucoeurdelasante.be
SUMMARY:Sensibilisation à la vaccination
DESCRIPTION:« La vaccination à tous les âges : agir pour la santé de tous » \nLa vaccination est un pilier essentiel de la prévention en santé. Notre équipe sera présente dans nos agences pour fournir des informations claires et fiables\, répondre aux questions\, et lever les doutes autour de la vaccination. \nAdresse : \nAgence Solidaris SeraingRue de la Boverie 379\,4100 SeraingBelgique
URL:https://www.aucoeurdelasante.be/activite/sensibilisation-a-la-vaccination-8/
LOCATION:Agence Solidaris Seraing\, Rue de la Boverie 379\, Seraing\, 4100\, Belgium
CATEGORIES:Activité santé
ATTACH;FMTTYPE=image/jpeg:https://www.aucoeurdelasante.be/wp-content/uploads/2025/09/vaccin-4-e1758794281661.jpg
END:VEVENT
BEGIN:VEVENT
DTSTART;TZID=UTC:20251021T090000
DTEND;TZID=UTC:20251021T120000
DTSTAMP:20260422T232625
CREATED:20250925T102451Z
LAST-MODIFIED:20250925T102502Z
UID:3930-1761037200-1761048000@www.aucoeurdelasante.be
SUMMARY:Sensibilisation à la vaccination
DESCRIPTION:« La vaccination à tous les âges : agir pour la santé de tous » \nLa vaccination est un pilier essentiel de la prévention en santé. Notre équipe sera présente dans nos agences pour fournir des informations claires et fiables\, répondre aux questions\, et lever les doutes autour de la vaccination. \nAdresse : \nAgence Solidaris AthRue du Fort 48\,7800 AthBelgique
URL:https://www.aucoeurdelasante.be/activite/sensibilisation-a-la-vaccination-9/
LOCATION:Agence Solidaris (Ath)\, Rue du Fort 48\, Ath\, 7800\, Belgium
CATEGORIES:Activité santé
ATTACH;FMTTYPE=image/jpeg:https://www.aucoeurdelasante.be/wp-content/uploads/2025/09/vaccin-1-1-e1758793833864.jpg
END:VEVENT
END:VCALENDAR