BEGIN:VCALENDAR
VERSION:2.0
PRODID:-//Au coeur de la santé - ECPv6.15.20//NONSGML v1.0//EN
CALSCALE:GREGORIAN
METHOD:PUBLISH
X-WR-CALNAME:Au coeur de la santé
X-ORIGINAL-URL:https://www.aucoeurdelasante.be
X-WR-CALDESC:Évènements pour Au coeur de la santé
REFRESH-INTERVAL;VALUE=DURATION:PT1H
X-Robots-Tag:noindex
X-PUBLISHED-TTL:PT1H
BEGIN:VTIMEZONE
TZID:UTC
BEGIN:STANDARD
TZOFFSETFROM:+0000
TZOFFSETTO:+0000
TZNAME:UTC
DTSTART:20240101T000000
END:STANDARD
END:VTIMEZONE
BEGIN:VEVENT
DTSTART;TZID=UTC:20251103T093000
DTEND;TZID=UTC:20251103T123000
DTSTAMP:20260422T220418
CREATED:20251024T085745Z
LAST-MODIFIED:20251024T085745Z
UID:3951-1762162200-1762173000@www.aucoeurdelasante.be
SUMMARY:Sensibilisation au diabète
DESCRIPTION:« Vers une alimentation plus saine »Une alimentation saine est essentielle pour notre bien-être et joue un rôle clé dans la prévention de nombreuses maladies\, notamment le diabète. Nos actions de sensibilisation vous proposent des conseils pratiques pour mieux manger au quotidien\, accompagnés de la distribution d’un calendrier des fruits et légumes de saison. Cet outil vous aide à choisir des produits frais et de saison\, pour allier santé et plaisir dans votre assiette.Dans le cadre de cette démarche\, il est également possible de venir se faire dépister gratuitement du diabète. \nAdresse : \nAgence Solidaris TubizeRue de Mons 71\,1480 TubizeBelgique
URL:https://www.aucoeurdelasante.be/activite/sensibilisation-au-diabete/
LOCATION:Agence Solidaris Tubize\, Rue de Mons 71\, Tubize\, 1480\, Belgium
CATEGORIES:Activité santé
ATTACH;FMTTYPE=image/jpeg:https://www.aucoeurdelasante.be/wp-content/uploads/2025/03/fruits-belges.jpg
END:VEVENT
BEGIN:VEVENT
DTSTART;TZID=UTC:20251104T084500
DTEND;TZID=UTC:20251104T123000
DTSTAMP:20260422T220418
CREATED:20250925T102859Z
LAST-MODIFIED:20250925T102859Z
UID:3935-1762245900-1762259400@www.aucoeurdelasante.be
SUMMARY:Sensibilisation à la vaccination
DESCRIPTION:« La vaccination à tous les âges : agir pour la santé de tous » \nLa vaccination est un pilier essentiel de la prévention en santé. Notre équipe sera présente dans nos agences pour fournir des informations claires et fiables\, répondre aux questions\, et lever les doutes autour de la vaccination. \nAdresse : \nAgence Solidaris VerviersRue Pont Saint-Laurent 16\,4800 VerviersBelgique
URL:https://www.aucoeurdelasante.be/activite/sensibilisation-a-la-vaccination-10/
LOCATION:Agence Solidaris Verviers\, Rue Pont Saint-Laurent 16\, Verviers\, 4800\, Belgium
CATEGORIES:Activité santé
ATTACH;FMTTYPE=image/jpeg:https://www.aucoeurdelasante.be/wp-content/uploads/2025/09/vaccin-1-e1758793897218.jpg
END:VEVENT
BEGIN:VEVENT
DTSTART;TZID=UTC:20251105T090000
DTEND;TZID=UTC:20251105T120000
DTSTAMP:20260422T220418
CREATED:20250925T103018Z
LAST-MODIFIED:20250925T103018Z
UID:3937-1762333200-1762344000@www.aucoeurdelasante.be
SUMMARY:Sensibilisation à la vaccination
DESCRIPTION:« La vaccination à tous les âges : agir pour la santé de tous » \nLa vaccination est un pilier essentiel de la prévention en santé. Notre équipe sera présente dans nos agences pour fournir des informations claires et fiables\, répondre aux questions\, et lever les doutes autour de la vaccination. \nAdresse : \nAgence Solidaris La LouvièreRue Sylvain Guyaux 33\,7100 La LouvièreBelgique
URL:https://www.aucoeurdelasante.be/activite/sensibilisation-a-la-vaccination-11/
LOCATION:Agence Solidaris (La Louvière)\, Rue Sylvain Guyaux 33\, La Louvière\, 7100\, Belgium
CATEGORIES:Activité santé
ATTACH;FMTTYPE=image/jpeg:https://www.aucoeurdelasante.be/wp-content/uploads/2025/09/vaccin-3-e1758794095456.jpg
END:VEVENT
BEGIN:VEVENT
DTSTART;TZID=UTC:20251110T093000
DTEND;TZID=UTC:20251110T123000
DTSTAMP:20260422T220418
CREATED:20251024T090556Z
LAST-MODIFIED:20251027T110340Z
UID:3956-1762767000-1762777800@www.aucoeurdelasante.be
SUMMARY:Sensibilisation au diabète
DESCRIPTION:« Vers une alimentation plus saine »Une alimentation saine est essentielle pour notre bien-être et joue un rôle clé dans la prévention de nombreuses maladies\, notamment le diabète. Nos actions de sensibilisation vous proposent des conseils pratiques pour mieux manger au quotidien\, accompagnés de la distribution d’un calendrier des fruits et légumes de saison. Cet outil vous aide à choisir des produits frais et de saison\, pour allier santé et plaisir dans votre assiette.Dans le cadre de cette démarche\, il est également possible de venir se faire dépister gratuitement du diabète. \nAdresse : \nAgence Solidaris Court-Saint-EtienneRue Emile Henricot 64b\,1490 Court-Saint-EtienneBelgique
URL:https://www.aucoeurdelasante.be/activite/sensibilisation-au-diabete-2/
LOCATION:Agence Solidaris (Court St Etienne)\, Rue Emile Henricot 64B\, Court St Etienne\, 1490\, Belgium
CATEGORIES:Activité santé
ATTACH;FMTTYPE=image/jpeg:https://www.aucoeurdelasante.be/wp-content/uploads/2025/10/Diabete.jpg
END:VEVENT
BEGIN:VEVENT
DTSTART;TZID=UTC:20251112T090000
DTEND;TZID=UTC:20251112T120000
DTSTAMP:20260422T220418
CREATED:20251024T092127Z
LAST-MODIFIED:20251024T092127Z
UID:3958-1762938000-1762948800@www.aucoeurdelasante.be
SUMMARY:Sensibilisation au diabète
DESCRIPTION:« Stand de dépistage du diabète : un geste simple pour votre santé » \nVenez nous rejoindre sur le stand de dépistage diabète: en quelques minutes\, vous pouvez connaître votre taux de glycémie\, poser vos questions et obtenir des conseils personnalisés. \nAdresse : \nMultipharmaRue du Corbeau 4\,6200 ChâtelineauBelgique
URL:https://www.aucoeurdelasante.be/activite/sensibilisation-au-diabete-3/
LOCATION:Multipharma\, Rue du Corbeau 4\, Châtelineau\, 6200\, Belgium
CATEGORIES:Activité santé
ATTACH;FMTTYPE=image/jpeg:https://www.aucoeurdelasante.be/wp-content/uploads/2025/04/snack-sante.jpg
END:VEVENT
BEGIN:VEVENT
DTSTART;TZID=UTC:20251113T083000
DTEND;TZID=UTC:20251113T110000
DTSTAMP:20260422T220418
CREATED:20251024T093522Z
LAST-MODIFIED:20251024T093522Z
UID:3962-1763022600-1763031600@www.aucoeurdelasante.be
SUMMARY:Sensibilisation au diabète
DESCRIPTION:« Stand de dépistage du diabète : un geste simple pour votre santé » \nVenez nous rejoindre sur le stand de dépistage diabète: en quelques minutes\, vous pouvez connaître votre taux de glycémie\, poser vos questions et obtenir des conseils personnalisés. \nAdresse : \nCentre de Santé du NamuroisChaussée de Waterloo 182\,5002 Saint-ServaisBelgique
URL:https://www.aucoeurdelasante.be/activite/sensibilisation-au-diabete-4/
LOCATION:Centre de Santé du Namurois\, Chaussée de Waterloo\, 182\, Saint-Servais\, 5002\, Belgium
CATEGORIES:Activité santé
ATTACH;FMTTYPE=image/jpeg:https://www.aucoeurdelasante.be/wp-content/uploads/2025/08/alimentation-maladies-cardiovasculaires-2-1-e1756209772542.jpg
END:VEVENT
BEGIN:VEVENT
DTSTART;TZID=UTC:20251113T090000
DTEND;TZID=UTC:20251113T120000
DTSTAMP:20260422T220418
CREATED:20251024T093739Z
LAST-MODIFIED:20251024T093739Z
UID:3964-1763024400-1763035200@www.aucoeurdelasante.be
SUMMARY:Sensibilisation au diabète
DESCRIPTION:« Stand de dépistage du diabète : un geste simple pour votre santé » \nVenez nous rejoindre sur le stand de dépistage diabète: en quelques minutes\, vous pouvez connaître votre taux de glycémie\, poser vos questions et obtenir des conseils personnalisés. \nAdresse : \nAgence Solidaris CharleroiAvenue des alliés 2\,6000 CharleroiBelgique
URL:https://www.aucoeurdelasante.be/activite/sensibilisation-au-diabete-5/
LOCATION:Agence Solidaris (Charleroi)\, Avenue des Alliés 2\, Charleroi\, 6000\, Belgium
CATEGORIES:Activité santé
ATTACH;FMTTYPE=image/jpeg:https://www.aucoeurdelasante.be/wp-content/uploads/2025/03/fruits-belges.jpg
END:VEVENT
BEGIN:VEVENT
DTSTART;TZID=UTC:20251113T103000
DTEND;TZID=UTC:20251113T123000
DTSTAMP:20260422T220418
CREATED:20251024T094138Z
LAST-MODIFIED:20251027T110427Z
UID:3966-1763029800-1763037000@www.aucoeurdelasante.be
SUMMARY:Sensibilisation au diabète
DESCRIPTION:« Stand de dépistage du diabète : un geste simple pour votre santé » \nVenez nous rejoindre sur le stand de dépistage diabète: en quelques minutes\, vous pouvez connaître votre taux de glycémie\, poser vos questions et obtenir des conseils personnalisés. \nAdresse : \nMarché d’HerstalPlace Jean Jaurès 45\,4040 HerstalBelgique
URL:https://www.aucoeurdelasante.be/activite/sensibilisation-au-diabete-6/
LOCATION:Marché d’Herstal\, Place Jean Jaurès 45\, Herstal\, 4040\, Belgium
CATEGORIES:Activité santé
ATTACH;FMTTYPE=image/jpeg:https://www.aucoeurdelasante.be/wp-content/uploads/2025/10/Diabete.jpg
END:VEVENT
BEGIN:VEVENT
DTSTART;VALUE=DATE:20251114
DTEND;VALUE=DATE:20251115
DTSTAMP:20260422T220418
CREATED:20251024T100415Z
LAST-MODIFIED:20251024T101326Z
UID:3983-1763078400-1763164799@www.aucoeurdelasante.be
SUMMARY:Sensibilisation au diabète
DESCRIPTION:« Stand de dépistage du diabète : un geste simple pour votre santé » \nVenez nous rejoindre sur le stand de dépistage diabète: en quelques minutes\, vous pouvez connaître votre taux de glycémie\, poser vos questions et obtenir des conseils personnalisés. \nAdresse : \nToutes les officines Pharma SantéAdresses et heures d’ouvertures : www.pharmasante.be
URL:https://www.aucoeurdelasante.be/activite/sensibilisation-au-diabete-11/
LOCATION:Liège
CATEGORIES:Activité santé
ATTACH;FMTTYPE=image/jpeg:https://www.aucoeurdelasante.be/wp-content/uploads/2025/04/snack-sante.jpg
END:VEVENT
BEGIN:VEVENT
DTSTART;VALUE=DATE:20251114
DTEND;VALUE=DATE:20251115
DTSTAMP:20260422T220418
CREATED:20251024T100947Z
LAST-MODIFIED:20251024T101323Z
UID:3989-1763078400-1763164799@www.aucoeurdelasante.be
SUMMARY:Sensibilisation au diabète
DESCRIPTION:« Stand de dépistage du diabète : un geste simple pour votre santé » \nVenez nous rejoindre sur le stand de dépistage diabète: en quelques minutes\, vous pouvez connaître votre taux de glycémie\, poser vos questions et obtenir des conseils personnalisés. \nAdresse : \nPharmacie La SauvegardeAvenue des Martyrs 195\,4620 FléronBelgique
URL:https://www.aucoeurdelasante.be/activite/sensibilisation-au-diabete-12/
LOCATION:Pharmacie La Sauvegarde\, Avenue des Martyrs 195\, Fléron\, 4620\, Belgium
CATEGORIES:Activité santé
ATTACH;FMTTYPE=image/jpeg:https://www.aucoeurdelasante.be/wp-content/uploads/2025/08/alimentation-maladies-cardiovasculaires-2-1-e1756209772542.jpg
END:VEVENT
BEGIN:VEVENT
DTSTART;TZID=UTC:20251114T090000
DTEND;TZID=UTC:20251114T110000
DTSTAMP:20260422T220418
CREATED:20251024T094343Z
LAST-MODIFIED:20251024T101156Z
UID:3970-1763110800-1763118000@www.aucoeurdelasante.be
SUMMARY:Sensibilisation au diabète
DESCRIPTION:« Stand de dépistage du diabète : un geste simple pour votre santé » \nVenez nous rejoindre sur le stand de dépistage diabète: en quelques minutes\, vous pouvez connaître votre taux de glycémie\, poser vos questions et obtenir des conseils personnalisés. \nAdresse : \nCentre de Santé du NamuroisChaussée de Waterloo 182\,5002 Saint-ServaisBelgique
URL:https://www.aucoeurdelasante.be/activite/sensibilisation-au-diabete-7/
LOCATION:Centre de Santé du Namurois\, Chaussée de Waterloo\, 182\, Saint-Servais\, 5002\, Belgium
CATEGORIES:Activité santé
ATTACH;FMTTYPE=image/jpeg:https://www.aucoeurdelasante.be/wp-content/uploads/2025/03/fruits-belges.jpg
END:VEVENT
BEGIN:VEVENT
DTSTART;TZID=UTC:20251114T090000
DTEND;TZID=UTC:20251114T160000
DTSTAMP:20260422T220418
CREATED:20251024T095122Z
LAST-MODIFIED:20251027T110410Z
UID:3975-1763110800-1763136000@www.aucoeurdelasante.be
SUMMARY:Sensibilisation au diabète
DESCRIPTION:« Stand de dépistage du diabète : un geste simple pour votre santé » \nVenez nous rejoindre sur le stand de dépistage diabète: en quelques minutes\, vous pouvez connaître votre taux de glycémie\, poser vos questions et obtenir des conseils personnalisés. \nAdresse : \nCHR SoigniesChaussée de Braine 49\,7060 SoigniesBelgique
URL:https://www.aucoeurdelasante.be/activite/sensibilisation-au-diabete-8/
LOCATION:Agence Solidaris (Soignies)\, Rempart du Vieux Cimetière 15\, Soignies\, 7060\, Belgium
CATEGORIES:Activité santé
ATTACH;FMTTYPE=image/jpeg:https://www.aucoeurdelasante.be/wp-content/uploads/2025/10/Diabete.jpg
END:VEVENT
BEGIN:VEVENT
DTSTART;TZID=UTC:20251114T100000
DTEND;TZID=UTC:20251114T140000
DTSTAMP:20260422T220418
CREATED:20251024T095912Z
LAST-MODIFIED:20251024T101348Z
UID:3978-1763114400-1763128800@www.aucoeurdelasante.be
SUMMARY:Sensibilisation au diabète
DESCRIPTION:« Stand de dépistage du diabète : un geste simple pour votre santé » \nVenez nous rejoindre sur le stand de dépistage diabète: en quelques minutes\, vous pouvez connaître votre taux de glycémie\, poser vos questions et obtenir des conseils personnalisés. \nAdresse : \nClinique André RenardRue André Renard 1\,4040 HerstalBelgique
URL:https://www.aucoeurdelasante.be/activite/sensibilisation-au-diabete-10/
LOCATION:Agence Solidaris (Soignies)\, Rempart du Vieux Cimetière 15\, Soignies\, 7060\, Belgium
CATEGORIES:Activité santé
ATTACH;FMTTYPE=image/jpeg:https://www.aucoeurdelasante.be/wp-content/uploads/2025/04/snack-sante.jpg
END:VEVENT
BEGIN:VEVENT
DTSTART;TZID=UTC:20251114T143000
DTEND;TZID=UTC:20251114T160000
DTSTAMP:20260422T220418
CREATED:20251024T095152Z
LAST-MODIFIED:20251027T103041Z
UID:3973-1763130600-1763136000@www.aucoeurdelasante.be
SUMMARY:Sensibilisation au diabète
DESCRIPTION:Si l’alimentation saine est devenue le gagne-pain des influenceurs\, il est difficile de s’y retrouver dans tous leurs conseils contradictoires. Le service de prévention et promotion de la santé vous donne rendez-vous le 14/11 à 14h30 au Centre de Santé du Namurois pour vous aider à comprendre ce qu’est VRAIMENT une alimentation de qualité dans une ambiance conviviale et décontractée ! Plus d’infos et inscription au 081/777.225. \nAdresse : \nCentre de Santé du NamuroisChaussée de Waterloo 182\,5002 Saint-ServaisBelgique
URL:https://www.aucoeurdelasante.be/activite/sensibilisation-au-diabete-9/
LOCATION:Centre de Santé du Namurois\, Chaussée de Waterloo\, 182\, Saint-Servais\, 5002\, Belgium
CATEGORIES:Activité santé
ATTACH;FMTTYPE=image/jpeg:https://www.aucoeurdelasante.be/wp-content/uploads/2025/08/alimentation-maladies-cardiovasculaires-2-1-e1756209772542.jpg
END:VEVENT
BEGIN:VEVENT
DTSTART;TZID=UTC:20251117T090000
DTEND;TZID=UTC:20251117T120000
DTSTAMP:20260422T220418
CREATED:20251027T110226Z
LAST-MODIFIED:20251027T110226Z
UID:3992-1763370000-1763380800@www.aucoeurdelasante.be
SUMMARY:Sensibilisation au diabète
DESCRIPTION:« Stand de dépistage du diabète : un geste simple pour votre santé » \nVenez nous rejoindre sur le stand de dépistage diabète: en quelques minutes\, vous pouvez connaître votre taux de glycémie\, poser vos questions et obtenir des conseils personnalisés. \nAdresse : \nAgence Solidaris La HestreRue Ferrer 114\,7170 La HestreBelgique
URL:https://www.aucoeurdelasante.be/activite/sensibilisation-au-diabete-13/
LOCATION:Agence Solidaris (La Hestre)\, Rue Ferrer 114\, La Hestre\, 7170\, Belgium
CATEGORIES:Activité santé
ATTACH;FMTTYPE=image/jpeg:https://www.aucoeurdelasante.be/wp-content/uploads/2025/03/fruits-belges.jpg
END:VEVENT
BEGIN:VEVENT
DTSTART;TZID=UTC:20251117T093000
DTEND;TZID=UTC:20251117T123000
DTSTAMP:20260422T220418
CREATED:20251027T110622Z
LAST-MODIFIED:20251027T110622Z
UID:3995-1763371800-1763382600@www.aucoeurdelasante.be
SUMMARY:Sensibilisation au diabète
DESCRIPTION:« Vers une alimentation plus saine »Une alimentation saine est essentielle pour notre bien-être et joue un rôle clé dans la prévention de nombreuses maladies\, notamment le diabète. Nos actions de sensibilisation vous proposent des conseils pratiques pour mieux manger au quotidien\, accompagnés de la distribution d’un calendrier des fruits et légumes de saison. Cet outil vous aide à choisir des produits frais et de saison\, pour allier santé et plaisir dans votre assiette.Dans le cadre de cette démarche\, il est également possible de venir se faire dépister gratuitement du diabète. \nAdresse : \nAgence Solidaris WavrePlace Bosch 25\,1300 WavreBelgique
URL:https://www.aucoeurdelasante.be/activite/sensibilisation-au-diabete-14/
LOCATION:Agence Solidaris Wavre\, Place Alphonse Bosch 25\, Wavre\, 1300\, Belgium
CATEGORIES:Activité santé
ATTACH;FMTTYPE=image/jpeg:https://www.aucoeurdelasante.be/wp-content/uploads/2025/10/Diabete.jpg
END:VEVENT
BEGIN:VEVENT
DTSTART;TZID=UTC:20251119T090000
DTEND;TZID=UTC:20251119T120000
DTSTAMP:20260422T220418
CREATED:20251027T110827Z
LAST-MODIFIED:20251027T110827Z
UID:3997-1763542800-1763553600@www.aucoeurdelasante.be
SUMMARY:Sensibilisation au diabète
DESCRIPTION:« Stand de dépistage du diabète : un geste simple pour votre santé » \nVenez nous rejoindre sur le stand de dépistage diabète: en quelques minutes\, vous pouvez connaître votre taux de glycémie\, poser vos questions\, obtenir des conseils personnalisés et repartir avec une pomme. \nAdresse : \nAgence Solidaris TournaiRue Barre Saint-Brice 20\,7500 TournaiBelgique
URL:https://www.aucoeurdelasante.be/activite/sensibilisation-au-diabete-15/
LOCATION:Agence Solidaris (Tournai)\, Rue Barre Saint-Brice 20\, Tournai\, 7500\, Belgium
CATEGORIES:Activité santé
ATTACH;FMTTYPE=image/jpeg:https://www.aucoeurdelasante.be/wp-content/uploads/2025/04/snack-sante.jpg
END:VEVENT
BEGIN:VEVENT
DTSTART;TZID=UTC:20251120T090000
DTEND;TZID=UTC:20251120T120000
DTSTAMP:20260422T220418
CREATED:20251027T111535Z
LAST-MODIFIED:20251027T111535Z
UID:3999-1763629200-1763640000@www.aucoeurdelasante.be
SUMMARY:Sensibilisation au diabète
DESCRIPTION:« Stand de dépistage du diabète : un geste simple pour votre santé » \nVenez nous rejoindre sur le stand de dépistage diabète: en quelques minutes\, vous pouvez connaître votre taux de glycémie\, poser vos questions\, obtenir des conseils personnalisés et repartir avec une pomme. \nAdresse : \nAgence Solidaris AthRue du Fort 48\,7800 AthBelgique
URL:https://www.aucoeurdelasante.be/activite/sensibilisation-au-diabete-16/
LOCATION:Agence Solidaris (Ath)\, Rue du Fort 48\, Ath\, 7800\, Belgium
CATEGORIES:Activité santé
ATTACH;FMTTYPE=image/jpeg:https://www.aucoeurdelasante.be/wp-content/uploads/2025/08/alimentation-maladies-cardiovasculaires-2-1-e1756209772542.jpg
END:VEVENT
BEGIN:VEVENT
DTSTART;TZID=UTC:20251121T090000
DTEND;TZID=UTC:20251121T120000
DTSTAMP:20260422T220418
CREATED:20250925T103209Z
LAST-MODIFIED:20250925T103209Z
UID:3939-1763715600-1763726400@www.aucoeurdelasante.be
SUMMARY:Sensibilisation à la vaccination
DESCRIPTION:« La vaccination à tous les âges : agir pour la santé de tous » \nLa vaccination est un pilier essentiel de la prévention en santé. Notre équipe sera présente dans nos agences pour fournir des informations claires et fiables\, répondre aux questions\, et lever les doutes autour de la vaccination. \nAdresse : \nAgence Solidaris MonsBoulevard Gendebien 6\,7000 MonsBelgique
URL:https://www.aucoeurdelasante.be/activite/sensibilisation-a-la-vaccination-12/
LOCATION:Agence Solidaris (Mons)\, Boulevard Gendebien 6\, Mons\, 7000\, Belgium
CATEGORIES:Activité santé
ATTACH;FMTTYPE=image/jpeg:https://www.aucoeurdelasante.be/wp-content/uploads/2025/09/vaccin-4-e1758794281661.jpg
END:VEVENT
BEGIN:VEVENT
DTSTART;TZID=UTC:20251124T090000
DTEND;TZID=UTC:20251124T120000
DTSTAMP:20260422T220418
CREATED:20251027T111714Z
LAST-MODIFIED:20251027T111714Z
UID:4001-1763974800-1763985600@www.aucoeurdelasante.be
SUMMARY:Sensibilisation au diabète
DESCRIPTION:« Stand de dépistage du diabète : un geste simple pour votre santé » \nVenez nous rejoindre sur le stand de dépistage diabète: en quelques minutes\, vous pouvez connaître votre taux de glycémie\, poser vos questions\, obtenir des conseils personnalisés et repartir avec une pomme. \nAdresse : \nAgence Solidaris MonsBoulevard Gendebien 6\,7000 MonsBelgique
URL:https://www.aucoeurdelasante.be/activite/sensibilisation-au-diabete-17/
LOCATION:Agence Solidaris (Mons)\, Boulevard Gendebien 6\, Mons\, 7000\, Belgium
CATEGORIES:Activité santé
ATTACH;FMTTYPE=image/jpeg:https://www.aucoeurdelasante.be/wp-content/uploads/2025/03/fruits-belges.jpg
END:VEVENT
BEGIN:VEVENT
DTSTART;TZID=UTC:20251124T093000
DTEND;TZID=UTC:20251124T123000
DTSTAMP:20260422T220418
CREATED:20251027T133047Z
LAST-MODIFIED:20251027T133330Z
UID:4008-1763976600-1763987400@www.aucoeurdelasante.be
SUMMARY:Sensibilisation au diabète
DESCRIPTION:« Vers une alimentation plus saine »Une alimentation saine est essentielle pour notre bien-être et joue un rôle clé dans la prévention de nombreuses maladies\, notamment le diabète. Nos actions de sensibilisation vous proposent des conseils pratiques pour mieux manger au quotidien\, accompagnés de la distribution d’un calendrier des fruits et légumes de saison. Cet outil vous aide à choisir des produits frais et de saison\, pour allier santé et plaisir dans votre assiette.Dans le cadre de cette démarche\, il est également possible de venir se faire dépister gratuitement du diabète. \nAdresse : \nAgence Solidaris NivellesRue Saint André 1\,1400 NivellesBelgique
URL:https://www.aucoeurdelasante.be/activite/sensibilisation-au-diabete-20/
LOCATION:Agence Solidaris (Nivelles)\, Rue Saint André\, 1\, Nivelles\, 1400\, Belgium
CATEGORIES:Activité santé
ATTACH;FMTTYPE=image/jpeg:https://www.aucoeurdelasante.be/wp-content/uploads/2025/10/Diabete.jpg
END:VEVENT
BEGIN:VEVENT
DTSTART;TZID=UTC:20251125T090000
DTEND;TZID=UTC:20251125T120000
DTSTAMP:20260422T220418
CREATED:20250925T103328Z
LAST-MODIFIED:20250925T103328Z
UID:3941-1764061200-1764072000@www.aucoeurdelasante.be
SUMMARY:Sensibilisation à la vaccination
DESCRIPTION:« La vaccination à tous les âges : agir pour la santé de tous » \nLa vaccination est un pilier essentiel de la prévention en santé. Notre équipe sera présente dans nos agences pour fournir des informations claires et fiables\, répondre aux questions\, et lever les doutes autour de la vaccination. \nAdresse : \nAgence Solidaris MouscronRue du Val 8\,7700 MouscronBelgique
URL:https://www.aucoeurdelasante.be/activite/sensibilisation-a-la-vaccination-13/
LOCATION:Agence Solidaris (Mouscron)\, Rue du Val 2\, Mouscron\, 7700\, Belgium
CATEGORIES:Activité santé
ATTACH;FMTTYPE=image/jpeg:https://www.aucoeurdelasante.be/wp-content/uploads/2025/09/vaccin-1-1-e1758793833864.jpg
END:VEVENT
BEGIN:VEVENT
DTSTART;TZID=UTC:20251125T090000
DTEND;TZID=UTC:20251125T120000
DTSTAMP:20260422T220418
CREATED:20251027T132715Z
LAST-MODIFIED:20251027T133333Z
UID:4004-1764061200-1764072000@www.aucoeurdelasante.be
SUMMARY:Sensibilisation au diabète
DESCRIPTION:« Stand de dépistage du diabète : un geste simple pour votre santé » \nVenez nous rejoindre sur le stand de dépistage diabète: en quelques minutes\, vous pouvez connaître votre taux de glycémie\, poser vos questions\, obtenir des conseils personnalisés et repartir avec une pomme. \nAdresse : \nAgence Solidaris BaudourRue Louis Caty 135\,7331 Saint-GhislainBelgique
URL:https://www.aucoeurdelasante.be/activite/sensibilisation-au-diabete-18/
LOCATION:Agence Solidaris (Saint-Ghislain)\, Rue Louis Caty 135\, Saint-Ghislain\, 7331\, Belgium
CATEGORIES:Activité santé
ATTACH;FMTTYPE=image/jpeg:https://www.aucoeurdelasante.be/wp-content/uploads/2025/04/snack-sante.jpg
END:VEVENT
BEGIN:VEVENT
DTSTART;TZID=UTC:20251127T090000
DTEND;TZID=UTC:20251127T120000
DTSTAMP:20260422T220418
CREATED:20250925T103448Z
LAST-MODIFIED:20250925T103448Z
UID:3943-1764234000-1764244800@www.aucoeurdelasante.be
SUMMARY:Sensibilisation à la vaccination
DESCRIPTION:« La vaccination à tous les âges : agir pour la santé de tous » \nLa vaccination est un pilier essentiel de la prévention en santé. Notre équipe sera présente dans nos agences pour fournir des informations claires et fiables\, répondre aux questions\, et lever les doutes autour de la vaccination. \nAdresse : \nAgence Solidaris BaudourRue Louis Caty 135\,7331 Saint-GhislainBelgique
URL:https://www.aucoeurdelasante.be/activite/sensibilisation-a-la-vaccination-14/
LOCATION:Agence Solidaris (Baudour)\, Rue Louis Caty 135\, Baudour\, 7331\, Belgium
CATEGORIES:Activité santé
ATTACH;FMTTYPE=image/jpeg:https://www.aucoeurdelasante.be/wp-content/uploads/2025/09/vaccin-1-e1758793897218.jpg
END:VEVENT
BEGIN:VEVENT
DTSTART;TZID=UTC:20251127T090000
DTEND;TZID=UTC:20251127T120000
DTSTAMP:20260422T220418
CREATED:20251027T132859Z
LAST-MODIFIED:20251027T132859Z
UID:4006-1764234000-1764244800@www.aucoeurdelasante.be
SUMMARY:Sensibilisation au diabète
DESCRIPTION:« Stand de dépistage du diabète : un geste simple pour votre santé » \nVenez nous rejoindre sur le stand de dépistage diabète: en quelques minutes\, vous pouvez connaître votre taux de glycémie\, poser vos questions\, obtenir des conseils personnalisés et repartir avec une pomme. \nAdresse : \nAgence Solidaris MouscronRue du Val 8\,7700 MouscronBelgique
URL:https://www.aucoeurdelasante.be/activite/sensibilisation-au-diabete-19/
LOCATION:Agence Solidaris (Mouscron)\, Rue du Val 2\, Mouscron\, 7700\, Belgium
CATEGORIES:Activité santé
ATTACH;FMTTYPE=image/jpeg:https://www.aucoeurdelasante.be/wp-content/uploads/2025/08/alimentation-maladies-cardiovasculaires-2-1-e1756209772542.jpg
END:VEVENT
END:VCALENDAR