BEGIN:VCALENDAR
VERSION:2.0
PRODID:-//Au coeur de la santé - ECPv6.15.20//NONSGML v1.0//EN
CALSCALE:GREGORIAN
METHOD:PUBLISH
X-ORIGINAL-URL:https://www.aucoeurdelasante.be
X-WR-CALDESC:Évènements pour Au coeur de la santé
REFRESH-INTERVAL;VALUE=DURATION:PT1H
X-Robots-Tag:noindex
X-PUBLISHED-TTL:PT1H
BEGIN:VTIMEZONE
TZID:UTC
BEGIN:STANDARD
TZOFFSETFROM:+0000
TZOFFSETTO:+0000
TZNAME:UTC
DTSTART:20250101T000000
END:STANDARD
END:VTIMEZONE
BEGIN:VEVENT
DTSTART;TZID=UTC:20260106T090000
DTEND;TZID=UTC:20260106T120000
DTSTAMP:20260422T191539
CREATED:20251203T094345Z
LAST-MODIFIED:20251203T094518Z
UID:4019-1767690000-1767700800@www.aucoeurdelasante.be
SUMMARY:Sensibilisation aux médicaments
DESCRIPTION:« Mieux gérer et consommer vos médicaments »  \nLa surconsommation de médicaments peut poser des risques. Pour encourager une utilisation responsable\, nous proposons des animations de sensibilisation et distribuons le Pharmakit. Cet outil pratique vous aide à organiser vos médicaments pour un accès plus rapide aux informations importantes\, favorisant ainsi une gestion plus efficace de votre pharmacie personnelle. \nAdresse : \nAgence Solidaris TubizeRue de Mons 71\,1480 TubizeBelgique
URL:https://www.aucoeurdelasante.be/activite/sensibilisation-aux-medicaments/
LOCATION:Agence Solidaris Tubize\, Rue de Mons 71\, Tubize\, 1480\, Belgium
CATEGORIES:Activité santé
ATTACH;FMTTYPE=image/jpeg:https://www.aucoeurdelasante.be/wp-content/uploads/2025/12/medicaments-1-e1764755111405.jpg
END:VEVENT
BEGIN:VEVENT
DTSTART;TZID=UTC:20260113T090000
DTEND;TZID=UTC:20260113T120000
DTSTAMP:20260422T191540
CREATED:20251203T095550Z
LAST-MODIFIED:20251203T095714Z
UID:4022-1768294800-1768305600@www.aucoeurdelasante.be
SUMMARY:Sensibilisation aux médicaments
DESCRIPTION:« Mieux gérer et consommer vos médicaments »  \nLa surconsommation de médicaments peut poser des risques. Pour encourager une utilisation responsable\, nous proposons des animations de sensibilisation et distribuons le Pharmakit. Cet outil pratique vous aide à organiser vos médicaments pour un accès plus rapide aux informations importantes\, favorisant ainsi une gestion plus efficace de votre pharmacie personnelle. \nAdresse : \nAgence Solidaris Braine-l’AlleudAvenue de la Belle Province 1\,1420 Braine-l’AlleudBelgique
URL:https://www.aucoeurdelasante.be/activite/sensibilisation-aux-medicaments-2/
LOCATION:Agence Solidaris (Braine-l’Alleud)\, Avenue de la Belle Province\, 1\, Braine-l'Alleud\, 1420\, Belgium
CATEGORIES:Activité santé
ATTACH;FMTTYPE=image/jpeg:https://www.aucoeurdelasante.be/wp-content/uploads/2025/12/medicaments-2-e1764755775452.jpg
END:VEVENT
BEGIN:VEVENT
DTSTART;TZID=UTC:20260115T090000
DTEND;TZID=UTC:20260115T120000
DTSTAMP:20260422T191540
CREATED:20251203T095923Z
LAST-MODIFIED:20251203T095957Z
UID:4026-1768467600-1768478400@www.aucoeurdelasante.be
SUMMARY:Sensibilisation aux médicaments
DESCRIPTION:« Mieux gérer et consommer vos médicaments »  \nLa surconsommation de médicaments peut poser des risques. Pour encourager une utilisation responsable\, nous proposons des animations de sensibilisation et distribuons le Pharmakit. Cet outil pratique vous aide à organiser vos médicaments pour un accès plus rapide aux informations importantes\, favorisant ainsi une gestion plus efficace de votre pharmacie personnelle. \nAdresse : \nAgence Solidaris MouscronRue du Val 8\,7700 MouscronBelgique
URL:https://www.aucoeurdelasante.be/activite/sensibilisation-aux-medicaments-3/
LOCATION:Agence Solidaris (Mouscron)\, Rue du Val 2\, Mouscron\, 7700\, Belgium
CATEGORIES:Activité santé
ATTACH;FMTTYPE=image/jpeg:https://www.aucoeurdelasante.be/wp-content/uploads/2025/12/medicaments-3-e1764755986461.jpg
END:VEVENT
BEGIN:VEVENT
DTSTART;TZID=UTC:20260122T090000
DTEND;TZID=UTC:20260122T120000
DTSTAMP:20260422T191540
CREATED:20251203T100123Z
LAST-MODIFIED:20251203T100123Z
UID:4029-1769072400-1769083200@www.aucoeurdelasante.be
SUMMARY:Sensibilisation aux médicaments
DESCRIPTION:« Mieux gérer et consommer vos médicaments »  \nLa surconsommation de médicaments peut poser des risques. Pour encourager une utilisation responsable\, nous proposons des animations de sensibilisation et distribuons le Pharmakit. Cet outil pratique vous aide à organiser vos médicaments pour un accès plus rapide aux informations importantes\, favorisant ainsi une gestion plus efficace de votre pharmacie personnelle. \nAdresse : \nAgence Solidaris FrameriesAvenue des Nouvelles Technologies 24\,7080 FrameriesBelgique
URL:https://www.aucoeurdelasante.be/activite/sensibilisation-aux-medicaments-4/
LOCATION:Agence Solidaris (Frameries)\, Avenue des Nouvelles Technologies 24\, Frameries\, 7080\, Belgium
CATEGORIES:Activité santé
ATTACH;FMTTYPE=image/jpeg:https://www.aucoeurdelasante.be/wp-content/uploads/2025/12/medicaments-4.jpg
END:VEVENT
BEGIN:VEVENT
DTSTART;TZID=UTC:20260127T090000
DTEND;TZID=UTC:20260127T120000
DTSTAMP:20260422T191540
CREATED:20251203T100851Z
LAST-MODIFIED:20251203T100851Z
UID:4032-1769504400-1769515200@www.aucoeurdelasante.be
SUMMARY:Sensibilisation aux médicaments
DESCRIPTION:« Mieux gérer et consommer vos médicaments »  \nLa surconsommation de médicaments peut poser des risques. Pour encourager une utilisation responsable\, nous proposons des animations de sensibilisation et distribuons le Pharmakit. Cet outil pratique vous aide à organiser vos médicaments pour un accès plus rapide aux informations importantes\, favorisant ainsi une gestion plus efficace de votre pharmacie personnelle. \nAdresse : \nAgence Solidaris WavreRue Alphonse Bosh 25\,1300 WavreBelgique
URL:https://www.aucoeurdelasante.be/activite/sensibilisation-aux-medicaments-5/
LOCATION:Agence Solidaris Wavre\, Place Alphonse Bosch 25\, Wavre\, 1300\, Belgium
CATEGORIES:Activité santé
ATTACH;FMTTYPE=image/jpeg:https://www.aucoeurdelasante.be/wp-content/uploads/2025/12/medicaments-1-e1764755111405.jpg
END:VEVENT
BEGIN:VEVENT
DTSTART;TZID=UTC:20260127T090000
DTEND;TZID=UTC:20260127T120000
DTSTAMP:20260422T191540
CREATED:20251203T101152Z
LAST-MODIFIED:20251203T101152Z
UID:4034-1769504400-1769515200@www.aucoeurdelasante.be
SUMMARY:Sensibilisation aux médicaments
DESCRIPTION:« Mieux gérer et consommer vos médicaments »  \nLa surconsommation de médicaments peut poser des risques. Pour encourager une utilisation responsable\, nous proposons des animations de sensibilisation et distribuons le Pharmakit. Cet outil pratique vous aide à organiser vos médicaments pour un accès plus rapide aux informations importantes\, favorisant ainsi une gestion plus efficace de votre pharmacie personnelle. \nAdresse : \nAgence Solidaris AthRue du Fort 48\,7800 AthBelgique
URL:https://www.aucoeurdelasante.be/activite/sensibilisation-aux-medicaments-6/
LOCATION:Agence Solidaris (Ath)\, Rue du Fort 48\, Ath\, 7800\, Belgium
CATEGORIES:Activité santé
ATTACH;FMTTYPE=image/jpeg:https://www.aucoeurdelasante.be/wp-content/uploads/2025/12/medicaments-2-e1764755775452.jpg
END:VEVENT
END:VCALENDAR